<VRTDataset rasterXSize="406000" rasterYSize="326000">
  <SRS dataAxisToSRSAxisMapping="1,2,3">COMPD_CS["NAD83(2011) / California zone 3 (ftUS) + NAVD88 height (ftUS)",PROJCS["NAD83(2011) / California zone 3 (ftUS)",GEOGCS["NAD83(2011)",DATUM["NAD83_National_Spatial_Reference_System_2011",SPHEROID["GRS 1980",6378137,298.257222101,AUTHORITY["EPSG","7019"]],AUTHORITY["EPSG","1116"]],PRIMEM["Greenwich",0,AUTHORITY["EPSG","8901"]],UNIT["degree",0.0174532925199433,AUTHORITY["EPSG","9122"]],AUTHORITY["EPSG","6318"]],PROJECTION["Lambert_Conformal_Conic_2SP"],PARAMETER["latitude_of_origin",36.5],PARAMETER["central_meridian",-120.5],PARAMETER["standard_parallel_1",38.4333333333333],PARAMETER["standard_parallel_2",37.0666666666667],PARAMETER["false_easting",6561666.667],PARAMETER["false_northing",1640416.667],UNIT["US survey foot",0.304800609601219,AUTHORITY["EPSG","9003"]],AXIS["Easting",EAST],AXIS["Northing",NORTH],AUTHORITY["EPSG","6420"]],VERT_CS["NAVD88 height (ftUS)",VERT_DATUM["North American Vertical Datum 1988",2005,AUTHORITY["EPSG","5103"]],UNIT["US survey foot",0.304800609601219,AUTHORITY["EPSG","9003"]],AXIS["Gravity-related height",UP],AUTHORITY["EPSG","6360"]]]</SRS>
  <GeoTransform>  5.9553880000000000e+06,  1.0000000000000000e+00,  0.0000000000000000e+00,  2.2868670000000000e+06,  0.0000000000000000e+00, -1.0000000000000000e+00</GeoTransform>
  <VRTRasterBand dataType="Float32" band="1">
    <NoDataValue>-999999</NoDataValue>
    <ColorInterp>Gray</ColorInterp>
    <ComplexSource>
      <SourceFilename relativeToVRT="1">zone_3/00330668.tif</SourceFilename>
      <SourceBand>1</SourceBand>
      <SourceProperties RasterXSize="2000" RasterYSize="2000" DataType="Float32" BlockXSize="512" BlockYSize="512" />
      <SrcRect xOff="0" yOff="0" xSize="2000" ySize="2000" />
      <DstRect xOff="48000" yOff="218000" xSize="2000" ySize="2000" />
      <NODATA>-999999</NODATA>
    </ComplexSource>
    <ComplexSource>
      <SourceFilename relativeToVRT="1">zone_3/00331188.tif</SourceFilename>
      <SourceBand>1</SourceBand>
      <SourceProperties RasterXSize="2000" RasterYSize="2000" DataType="Float32" BlockXSize="512" BlockYSize="512" />
      <SrcRect xOff="0" yOff="0" xSize="2000" ySize="2000" />
      <DstRect xOff="48000" yOff="166000" xSize="2000" ySize="2000" />
      <NODATA>-999999</NODATA>
    </ComplexSource>
    <ComplexSource>
      <SourceFilename relativeToVRT="1">zone_3/00130648.tif</SourceFilename>
      <SourceBand>1</SourceBand>
      <SourceProperties RasterXSize="2000" RasterYSize="2000" DataType="Float32" BlockXSize="512" BlockYSize="512" />
      <SrcRect xOff="0" yOff="0" xSize="2000" ySize="2000" />
      <DstRect xOff="46000" yOff="220000" xSize="2000" ySize="2000" />
      <NODATA>-999999</NODATA>
    </ComplexSource>
    <ComplexSource>
      <SourceFilename relativeToVRT="1">zone_3/00131168.tif</SourceFilename>
      <SourceBand>1</SourceBand>
      <SourceProperties RasterXSize="2000" RasterYSize="2000" DataType="Float32" BlockXSize="512" BlockYSize="512" />
      <SrcRect xOff="0" yOff="0" xSize="2000" ySize="2000" />
      <DstRect xOff="46000" yOff="168000" xSize="2000" ySize="2000" />
      <NODATA>-999999</NODATA>
    </ComplexSource>
    <ComplexSource>
      <SourceFilename relativeToVRT="1">zone_3/00330648.tif</SourceFilename>
      <SourceBand>1</SourceBand>
      <SourceProperties RasterXSize="2000" RasterYSize="2000" DataType="Float32" BlockXSize="512" BlockYSize="512" />
      <SrcRect xOff="0" yOff="0" xSize="2000" ySize="2000" />
      <DstRect xOff="48000" yOff="220000" xSize="2000" ySize="2000" />
      <NODATA>-999999</NODATA>
    </ComplexSource>
    <ComplexSource>
      <SourceFilename relativeToVRT="1">zone_3/00330628.tif</SourceFilename>
      <SourceBand>1</SourceBand>
      <SourceProperties RasterXSize="2000" RasterYSize="2000" DataType="Float32" BlockXSize="512" BlockYSize="512" />
      <SrcRect xOff="0" yOff="0" xSize="2000" ySize="2000" />
      <DstRect xOff="48000" yOff="222000" xSize="2000" ySize="2000" />
      <NODATA>-999999</NODATA>
    </ComplexSource>
    <ComplexSource>
      <SourceFilename relativeToVRT="1">zone_3/00530628.tif</SourceFilename>
      <SourceBand>1</SourceBand>
      <SourceProperties RasterXSize="2000" RasterYSize="2000" DataType="Float32" BlockXSize="512" BlockYSize="512" />
      <SrcRect xOff="0" yOff="0" xSize="2000" ySize="2000" />
      <DstRect xOff="50000" yOff="222000" xSize="2000" ySize="2000" />
      <NODATA>-999999</NODATA>
    </ComplexSource>
    <ComplexSource>
      <SourceFilename relativeToVRT="1">zone_3/00131188.tif</SourceFilename>
      <SourceBand>1</SourceBand>
      <SourceProperties RasterXSize="2000" RasterYSize="2000" DataType="Float32" BlockXSize="512" BlockYSize="512" />
      <SrcRect xOff="0" yOff="0" xSize="2000" ySize="2000" />
      <DstRect xOff="46000" yOff="166000" xSize="2000" ySize="2000" />
      <NODATA>-999999</NODATA>
    </ComplexSource>
    <ComplexSource>
      <SourceFilename relativeToVRT="1">zone_3/00131468.tif</SourceFilename>
      <SourceBand>1</SourceBand>
      <SourceProperties RasterXSize="2000" RasterYSize="2000" DataType="Float32" BlockXSize="512" BlockYSize="512" />
      <SrcRect xOff="0" yOff="0" xSize="2000" ySize="2000" />
      <DstRect xOff="46000" yOff="138000" xSize="2000" ySize="2000" />
      <NODATA>-999999</NODATA>
    </ComplexSource>
    <ComplexSource>
      <SourceFilename relativeToVRT="1">zone_3/00131488.tif</SourceFilename>
      <SourceBand>1</SourceBand>
      <SourceProperties RasterXSize="2000" RasterYSize="2000" DataType="Float32" BlockXSize="512" BlockYSize="512" />
      <SrcRect xOff="0" yOff="0" xSize="2000" ySize="2000" />
      <DstRect xOff="46000" yOff="136000" xSize="2000" ySize="2000" />
      <NODATA>-999999</NODATA>
    </ComplexSource>
    <ComplexSource>
      <SourceFilename relativeToVRT="1">zone_3/00131208.tif</SourceFilename>
      <SourceBand>1</SourceBand>
      <SourceProperties RasterXSize="2000" RasterYSize="2000" DataType="Float32" BlockXSize="512" BlockYSize="512" />
      <SrcRect xOff="0" yOff="0" xSize="2000" ySize="2000" />
      <DstRect xOff="46000" yOff="164000" xSize="2000" ySize="2000" />
      <NODATA>-999999</NODATA>
    </ComplexSource>
    <ComplexSource>
      <SourceFilename relativeToVRT="1">zone_3/00330608.tif</SourceFilename>
      <SourceBand>1</SourceBand>
      <SourceProperties RasterXSize="2000" RasterYSize="2000" DataType="Float32" BlockXSize="512" BlockYSize="512" />
      <SrcRect xOff="0" yOff="0" xSize="2000" ySize="2000" />
      <DstRect xOff="48000" yOff="224000" xSize="2000" ySize="2000" />
      <NODATA>-999999</NODATA>
    </ComplexSource>
    <ComplexSource>
      <SourceFilename relativeToVRT="1">zone_3/00530808.tif</SourceFilename>
      <SourceBand>1</SourceBand>
      <SourceProperties RasterXSize="2000" RasterYSize="2000" DataType="Float32" BlockXSize="512" BlockYSize="512" />
      <SrcRect xOff="0" yOff="0" xSize="2000" ySize="2000" />
      <DstRect xOff="50000" yOff="204000" xSize="2000" ySize="2000" />
      <NODATA>-999999</NODATA>
    </ComplexSource>
    <ComplexSource>
      <SourceFilename relativeToVRT="1">zone_3/00331768.tif</SourceFilename>
      <SourceBand>1</SourceBand>
      <SourceProperties RasterXSize="2000" RasterYSize="2000" DataType="Float32" BlockXSize="512" BlockYSize="512" />
      <SrcRect xOff="0" yOff="0" xSize="2000" ySize="2000" />
      <DstRect xOff="48000" yOff="108000" xSize="2000" ySize="2000" />
      <NODATA>-999999</NODATA>
    </ComplexSource>
    <ComplexSource>
      <SourceFilename relativeToVRT="1">zone_3/00331208.tif</SourceFilename>
      <SourceBand>1</SourceBand>
      <SourceProperties RasterXSize="2000" RasterYSize="2000" DataType="Float32" BlockXSize="512" BlockYSize="512" />
      <SrcRect xOff="0" yOff="0" xSize="2000" ySize="2000" />
      <DstRect xOff="48000" yOff="164000" xSize="2000" ySize="2000" />
      <NODATA>-999999</NODATA>
    </ComplexSource>
    <ComplexSource>
      <SourceFilename relativeToVRT="1">zone_3/00530588.tif</SourceFilename>
      <SourceBand>1</SourceBand>
      <SourceProperties RasterXSize="2000" RasterYSize="2000" DataType="Float32" BlockXSize="512" BlockYSize="512" />
      <SrcRect xOff="0" yOff="0" xSize="2000" ySize="2000" />
      <DstRect xOff="50000" yOff="226000" xSize="2000" ySize="2000" />
      <NODATA>-999999</NODATA>
    </ComplexSource>
    <ComplexSource>
      <SourceFilename relativeToVRT="1">zone_3/00530608.tif</SourceFilename>
      <SourceBand>1</SourceBand>
      <SourceProperties RasterXSize="2000" RasterYSize="2000" DataType="Float32" BlockXSize="512" BlockYSize="512" />
      <SrcRect xOff="0" yOff="0" xSize="2000" ySize="2000" />
      <DstRect xOff="50000" yOff="224000" xSize="2000" ySize="2000" />
      <NODATA>-999999</NODATA>
    </ComplexSource>
    <ComplexSource>
      <SourceFilename relativeToVRT="1">zone_3/00530848.tif</SourceFilename>
      <SourceBand>1</SourceBand>
      <SourceProperties RasterXSize="2000" RasterYSize="2000" DataType="Float32" BlockXSize="512" BlockYSize="512" />
      <SrcRect xOff="0" yOff="0" xSize="2000" ySize="2000" />
      <DstRect xOff="50000" yOff="200000" xSize="2000" ySize="2000" />
      <NODATA>-999999</NODATA>
    </ComplexSource>
    <ComplexSource>
      <SourceFilename relativeToVRT="1">zone_3/00530528.tif</SourceFilename>
      <SourceBand>1</SourceBand>
      <SourceProperties RasterXSize="2000" RasterYSize="2000" DataType="Float32" BlockXSize="512" BlockYSize="512" />
      <SrcRect xOff="0" yOff="0" xSize="2000" ySize="2000" />
      <DstRect xOff="50000" yOff="232000" xSize="2000" ySize="2000" />
      <NODATA>-999999</NODATA>
    </ComplexSource>
    <ComplexSource>
      <SourceFilename relativeToVRT="1">zone_3/00530548.tif</SourceFilename>
      <SourceBand>1</SourceBand>
      <SourceProperties RasterXSize="2000" RasterYSize="2000" DataType="Float32" BlockXSize="512" BlockYSize="512" />
      <SrcRect xOff="0" yOff="0" xSize="2000" ySize="2000" />
      <DstRect xOff="50000" yOff="230000" xSize="2000" ySize="2000" />
      <NODATA>-999999</NODATA>
    </ComplexSource>
    <ComplexSource>
      <SourceFilename relativeToVRT="1">zone_3/00331788.tif</SourceFilename>
      <SourceBand>1</SourceBand>
      <SourceProperties RasterXSize="2000" RasterYSize="2000" DataType="Float32" BlockXSize="512" BlockYSize="512" />
      <SrcRect xOff="0" yOff="0" xSize="2000" ySize="2000" />
      <DstRect xOff="48000" yOff="106000" xSize="2000" ySize="2000" />
      <NODATA>-999999</NODATA>
    </ComplexSource>
    <ComplexSource>
      <SourceFilename relativeToVRT="1">zone_3/00530568.tif</SourceFilename>
      <SourceBand>1</SourceBand>
      <SourceProperties RasterXSize="2000" RasterYSize="2000" DataType="Float32" BlockXSize="512" BlockYSize="512" />
      <SrcRect xOff="0" yOff="0" xSize="2000" ySize="2000" />
      <DstRect xOff="50000" yOff="228000" xSize="2000" ySize="2000" />
      <NODATA>-999999</NODATA>
    </ComplexSource>
    <ComplexSource>
      <SourceFilename relativeToVRT="1">zone_3/00530828.tif</SourceFilename>
      <SourceBand>1</SourceBand>
      <SourceProperties RasterXSize="2000" RasterYSize="2000" DataType="Float32" BlockXSize="512" BlockYSize="512" />
      <SrcRect xOff="0" yOff="0" xSize="2000" ySize="2000" />
      <DstRect xOff="50000" yOff="202000" xSize="2000" ySize="2000" />
      <NODATA>-999999</NODATA>
    </ComplexSource>
    <ComplexSource>
      <SourceFilename relativeToVRT="1">zone_3/00530648.tif</SourceFilename>
      <SourceBand>1</SourceBand>
      <SourceProperties RasterXSize="2000" RasterYSize="2000" DataType="Float32" BlockXSize="512" BlockYSize="512" />
      <SrcRect xOff="0" yOff="0" xSize="2000" ySize="2000" />
      <DstRect xOff="50000" yOff="220000" xSize="2000" ySize="2000" />
      <NODATA>-999999</NODATA>
    </ComplexSource>
    <ComplexSource>
      <SourceFilename relativeToVRT="1">zone_3/00530668.tif</SourceFilename>
      <SourceBand>1</SourceBand>
      <SourceProperties RasterXSize="2000" RasterYSize="2000" DataType="Float32" BlockXSize="512" BlockYSize="512" />
      <SrcRect xOff="0" yOff="0" xSize="2000" ySize="2000" />
      <DstRect xOff="50000" yOff="218000" xSize="2000" ySize="2000" />
      <NODATA>-999999</NODATA>
    </ComplexSource>
    <ComplexSource>
      <SourceFilename relativeToVRT="1">zone_3/00531748.tif</SourceFilename>
      <SourceBand>1</SourceBand>
      <SourceProperties RasterXSize="2000" RasterYSize="2000" DataType="Float32" BlockXSize="512" BlockYSize="512" />
      <SrcRect xOff="0" yOff="0" xSize="2000" ySize="2000" />
      <DstRect xOff="50000" yOff="110000" xSize="2000" ySize="2000" />
      <NODATA>-999999</NODATA>
    </ComplexSource>
    <ComplexSource>
      <SourceFilename relativeToVRT="1">zone_3/00531028.tif</SourceFilename>
      <SourceBand>1</SourceBand>
      <SourceProperties RasterXSize="2000" RasterYSize="2000" DataType="Float32" BlockXSize="512" BlockYSize="512" />
      <SrcRect xOff="0" yOff="0" xSize="2000" ySize="2000" />
      <DstRect xOff="50000" yOff="182000" xSize="2000" ySize="2000" />
      <NODATA>-999999</NODATA>
    </ComplexSource>
    <ComplexSource>
      <SourceFilename relativeToVRT="1">zone_3/00730608.tif</SourceFilename>
      <SourceBand>1</SourceBand>
      <SourceProperties RasterXSize="2000" RasterYSize="2000" DataType="Float32" BlockXSize="512" BlockYSize="512" />
      <SrcRect xOff="0" yOff="0" xSize="2000" ySize="2000" />
      <DstRect xOff="52000" yOff="224000" xSize="2000" ySize="2000" />
      <NODATA>-999999</NODATA>
    </ComplexSource>
    <ComplexSource>
      <SourceFilename relativeToVRT="1">zone_3/00531708.tif</SourceFilename>
      <SourceBand>1</SourceBand>
      <SourceProperties RasterXSize="2000" RasterYSize="2000" DataType="Float32" BlockXSize="512" BlockYSize="512" />
      <SrcRect xOff="0" yOff="0" xSize="2000" ySize="2000" />
      <DstRect xOff="50000" yOff="114000" xSize="2000" ySize="2000" />
      <NODATA>-999999</NODATA>
    </ComplexSource>
    <ComplexSource>
      <SourceFilename relativeToVRT="1">zone_3/00730748.tif</SourceFilename>
      <SourceBand>1</SourceBand>
      <SourceProperties RasterXSize="2000" RasterYSize="2000" DataType="Float32" BlockXSize="512" BlockYSize="512" />
      <SrcRect xOff="0" yOff="0" xSize="2000" ySize="2000" />
      <DstRect xOff="52000" yOff="210000" xSize="2000" ySize="2000" />
      <NODATA>-999999</NODATA>
    </ComplexSource>
    <ComplexSource>
      <SourceFilename relativeToVRT="1">zone_3/00530948.tif</SourceFilename>
      <SourceBand>1</SourceBand>
      <SourceProperties RasterXSize="2000" RasterYSize="2000" DataType="Float32" BlockXSize="512" BlockYSize="512" />
      <SrcRect xOff="0" yOff="0" xSize="2000" ySize="2000" />
      <DstRect xOff="50000" yOff="190000" xSize="2000" ySize="2000" />
      <NODATA>-999999</NODATA>
    </ComplexSource>
    <ComplexSource>
      <SourceFilename relativeToVRT="1">zone_3/00530928.tif</SourceFilename>
      <SourceBand>1</SourceBand>
      <SourceProperties RasterXSize="2000" RasterYSize="2000" DataType="Float32" BlockXSize="512" BlockYSize="512" />
      <SrcRect xOff="0" yOff="0" xSize="2000" ySize="2000" />
      <DstRect xOff="50000" yOff="192000" xSize="2000" ySize="2000" />
      <NODATA>-999999</NODATA>
    </ComplexSource>
    <ComplexSource>
      <SourceFilename relativeToVRT="1">zone_3/00531048.tif</SourceFilename>
      <SourceBand>1</SourceBand>
      <SourceProperties RasterXSize="2000" RasterYSize="2000" DataType="Float32" BlockXSize="512" BlockYSize="512" />
      <SrcRect xOff="0" yOff="0" xSize="2000" ySize="2000" />
      <DstRect xOff="50000" yOff="180000" xSize="2000" ySize="2000" />
      <NODATA>-999999</NODATA>
    </ComplexSource>
    <ComplexSource>
      <SourceFilename relativeToVRT="1">zone_3/00531108.tif</SourceFilename>
      <SourceBand>1</SourceBand>
      <SourceProperties RasterXSize="2000" RasterYSize="2000" DataType="Float32" BlockXSize="512" BlockYSize="512" />
      <SrcRect xOff="0" yOff="0" xSize="2000" ySize="2000" />
      <DstRect xOff="50000" yOff="174000" xSize="2000" ySize="2000" />
      <NODATA>-999999</NODATA>
    </ComplexSource>
    <ComplexSource>
      <SourceFilename relativeToVRT="1">zone_3/00531088.tif</SourceFilename>
      <SourceBand>1</SourceBand>
      <SourceProperties RasterXSize="2000" RasterYSize="2000" DataType="Float32" BlockXSize="512" BlockYSize="512" />
      <SrcRect xOff="0" yOff="0" xSize="2000" ySize="2000" />
      <DstRect xOff="50000" yOff="176000" xSize="2000" ySize="2000" />
      <NODATA>-999999</NODATA>
    </ComplexSource>
    <ComplexSource>
      <SourceFilename relativeToVRT="1">zone_3/00531068.tif</SourceFilename>
      <SourceBand>1</SourceBand>
      <SourceProperties RasterXSize="2000" RasterYSize="2000" DataType="Float32" BlockXSize="512" BlockYSize="512" />
      <SrcRect xOff="0" yOff="0" xSize="2000" ySize="2000" />
      <DstRect xOff="50000" yOff="178000" xSize="2000" ySize="2000" />
      <NODATA>-999999</NODATA>
    </ComplexSource>
    <ComplexSource>
      <SourceFilename relativeToVRT="1">zone_3/00730848.tif</SourceFilename>
      <SourceBand>1</SourceBand>
      <SourceProperties RasterXSize="2000" RasterYSize="2000" DataType="Float32" BlockXSize="512" BlockYSize="512" />
      <SrcRect xOff="0" yOff="0" xSize="2000" ySize="2000" />
      <DstRect xOff="52000" yOff="200000" xSize="2000" ySize="2000" />
      <NODATA>-999999</NODATA>
    </ComplexSource>
    <ComplexSource>
      <SourceFilename relativeToVRT="1">zone_3/00730988.tif</SourceFilename>
      <SourceBand>1</SourceBand>
      <SourceProperties RasterXSize="2000" RasterYSize="2000" DataType="Float32" BlockXSize="512" BlockYSize="512" />
      <SrcRect xOff="0" yOff="0" xSize="2000" ySize="2000" />
      <DstRect xOff="52000" yOff="186000" xSize="2000" ySize="2000" />
      <NODATA>-999999</NODATA>
    </ComplexSource>
    <ComplexSource>
      <SourceFilename relativeToVRT="1">zone_3/00531728.tif</SourceFilename>
      <SourceBand>1</SourceBand>
      <SourceProperties RasterXSize="2000" RasterYSize="2000" DataType="Float32" BlockXSize="512" BlockYSize="512" />
      <SrcRect xOff="0" yOff="0" xSize="2000" ySize="2000" />
      <DstRect xOff="50000" yOff="112000" xSize="2000" ySize="2000" />
      <NODATA>-999999</NODATA>
    </ComplexSource>
    <ComplexSource>
      <SourceFilename relativeToVRT="1">zone_3/00531228.tif</SourceFilename>
      <SourceBand>1</SourceBand>
      <SourceProperties RasterXSize="2000" RasterYSize="2000" DataType="Float32" BlockXSize="512" BlockYSize="512" />
      <SrcRect xOff="0" yOff="0" xSize="2000" ySize="2000" />
      <DstRect xOff="50000" yOff="162000" xSize="2000" ySize="2000" />
      <NODATA>-999999</NODATA>
    </ComplexSource>
    <ComplexSource>
      <SourceFilename relativeToVRT="1">zone_3/00531188.tif</SourceFilename>
      <SourceBand>1</SourceBand>
      <SourceProperties RasterXSize="2000" RasterYSize="2000" DataType="Float32" BlockXSize="512" BlockYSize="512" />
      <SrcRect xOff="0" yOff="0" xSize="2000" ySize="2000" />
      <DstRect xOff="50000" yOff="166000" xSize="2000" ySize="2000" />
      <NODATA>-999999</NODATA>
    </ComplexSource>
    <ComplexSource>
      <SourceFilename relativeToVRT="1">zone_3/00531208.tif</SourceFilename>
      <SourceBand>1</SourceBand>
      <SourceProperties RasterXSize="2000" RasterYSize="2000" DataType="Float32" BlockXSize="512" BlockYSize="512" />
      <SrcRect xOff="0" yOff="0" xSize="2000" ySize="2000" />
      <DstRect xOff="50000" yOff="164000" xSize="2000" ySize="2000" />
      <NODATA>-999999</NODATA>
    </ComplexSource>
    <ComplexSource>
      <SourceFilename relativeToVRT="1">zone_3/00531768.tif</SourceFilename>
      <SourceBand>1</SourceBand>
      <SourceProperties RasterXSize="2000" RasterYSize="2000" DataType="Float32" BlockXSize="512" BlockYSize="512" />
      <SrcRect xOff="0" yOff="0" xSize="2000" ySize="2000" />
      <DstRect xOff="50000" yOff="108000" xSize="2000" ySize="2000" />
      <NODATA>-999999</NODATA>
    </ComplexSource>
    <ComplexSource>
      <SourceFilename relativeToVRT="1">zone_3/00730468.tif</SourceFilename>
      <SourceBand>1</SourceBand>
      <SourceProperties RasterXSize="2000" RasterYSize="2000" DataType="Float32" BlockXSize="512" BlockYSize="512" />
      <SrcRect xOff="0" yOff="0" xSize="2000" ySize="2000" />
      <DstRect xOff="52000" yOff="238000" xSize="2000" ySize="2000" />
      <NODATA>-999999</NODATA>
    </ComplexSource>
    <ComplexSource>
      <SourceFilename relativeToVRT="1">zone_3/00531788.tif</SourceFilename>
      <SourceBand>1</SourceBand>
      <SourceProperties RasterXSize="2000" RasterYSize="2000" DataType="Float32" BlockXSize="512" BlockYSize="512" />
      <SrcRect xOff="0" yOff="0" xSize="2000" ySize="2000" />
      <DstRect xOff="50000" yOff="106000" xSize="2000" ySize="2000" />
      <NODATA>-999999</NODATA>
    </ComplexSource>
    <ComplexSource>
      <SourceFilename relativeToVRT="1">zone_3/00730488.tif</SourceFilename>
      <SourceBand>1</SourceBand>
      <SourceProperties RasterXSize="2000" RasterYSize="2000" DataType="Float32" BlockXSize="512" BlockYSize="512" />
      <SrcRect xOff="0" yOff="0" xSize="2000" ySize="2000" />
      <DstRect xOff="52000" yOff="236000" xSize="2000" ySize="2000" />
      <NODATA>-999999</NODATA>
    </ComplexSource>
    <ComplexSource>
      <SourceFilename relativeToVRT="1">zone_3/00730688.tif</SourceFilename>
      <SourceBand>1</SourceBand>
      <SourceProperties RasterXSize="2000" RasterYSize="2000" DataType="Float32" BlockXSize="512" BlockYSize="512" />
      <SrcRect xOff="0" yOff="0" xSize="2000" ySize="2000" />
      <DstRect xOff="52000" yOff="216000" xSize="2000" ySize="2000" />
      <NODATA>-999999</NODATA>
    </ComplexSource>
    <ComplexSource>
      <SourceFilename relativeToVRT="1">zone_3/00730568.tif</SourceFilename>
      <SourceBand>1</SourceBand>
      <SourceProperties RasterXSize="2000" RasterYSize="2000" DataType="Float32" BlockXSize="512" BlockYSize="512" />
      <SrcRect xOff="0" yOff="0" xSize="2000" ySize="2000" />
      <DstRect xOff="52000" yOff="228000" xSize="2000" ySize="2000" />
      <NODATA>-999999</NODATA>
    </ComplexSource>
    <ComplexSource>
      <SourceFilename relativeToVRT="1">zone_3/00730548.tif</SourceFilename>
      <SourceBand>1</SourceBand>
      <SourceProperties RasterXSize="2000" RasterYSize="2000" DataType="Float32" BlockXSize="512" BlockYSize="512" />
      <SrcRect xOff="0" yOff="0" xSize="2000" ySize="2000" />
      <DstRect xOff="52000" yOff="230000" xSize="2000" ySize="2000" />
      <NODATA>-999999</NODATA>
    </ComplexSource>
    <ComplexSource>
      <SourceFilename relativeToVRT="1">zone_3/00730528.tif</SourceFilename>
      <SourceBand>1</SourceBand>
      <SourceProperties RasterXSize="2000" RasterYSize="2000" DataType="Float32" BlockXSize="512" BlockYSize="512" />
      <SrcRect xOff="0" yOff="0" xSize="2000" ySize="2000" />
      <DstRect xOff="52000" yOff="232000" xSize="2000" ySize="2000" />
      <NODATA>-999999</NODATA>
    </ComplexSource>
    <ComplexSource>
      <SourceFilename relativeToVRT="1">zone_3/00730508.tif</SourceFilename>
      <SourceBand>1</SourceBand>
      <SourceProperties RasterXSize="2000" RasterYSize="2000" DataType="Float32" BlockXSize="512" BlockYSize="512" />
      <SrcRect xOff="0" yOff="0" xSize="2000" ySize="2000" />
      <DstRect xOff="52000" yOff="234000" xSize="2000" ySize="2000" />
      <NODATA>-999999</NODATA>
    </ComplexSource>
    <ComplexSource>
      <SourceFilename relativeToVRT="1">zone_3/00730588.tif</SourceFilename>
      <SourceBand>1</SourceBand>
      <SourceProperties RasterXSize="2000" RasterYSize="2000" DataType="Float32" BlockXSize="512" BlockYSize="512" />
      <SrcRect xOff="0" yOff="0" xSize="2000" ySize="2000" />
      <DstRect xOff="52000" yOff="226000" xSize="2000" ySize="2000" />
      <NODATA>-999999</NODATA>
