<VRTDataset rasterXSize="74000" rasterYSize="188014">
  <SRS dataAxisToSRSAxisMapping="1,2,3">COMPD_CS["NAD83(2011) / Florida North (ftUS) + NAVD88 height (ftUS)",PROJCS["NAD83(2011) / Florida North (ftUS)",GEOGCS["NAD83(2011)",DATUM["NAD83_National_Spatial_Reference_System_2011",SPHEROID["GRS 1980",6378137,298.257222101,AUTHORITY["EPSG","7019"]],AUTHORITY["EPSG","1116"]],PRIMEM["Greenwich",0,AUTHORITY["EPSG","8901"]],UNIT["degree",0.0174532925199433,AUTHORITY["EPSG","9122"]],AUTHORITY["EPSG","6318"]],PROJECTION["Lambert_Conformal_Conic_2SP"],PARAMETER["latitude_of_origin",29],PARAMETER["central_meridian",-84.5],PARAMETER["standard_parallel_1",30.75],PARAMETER["standard_parallel_2",29.5833333333333],PARAMETER["false_easting",1968500],PARAMETER["false_northing",0],UNIT["US survey foot",0.304800609601219,AUTHORITY["EPSG","9003"]],AXIS["Easting",EAST],AXIS["Northing",NORTH],AUTHORITY["EPSG","6441"]],VERT_CS["NAVD88 height (ftUS)",VERT_DATUM["North American Vertical Datum 1988",2005,AUTHORITY["EPSG","5103"]],UNIT["US survey foot",0.304800609601219,AUTHORITY["EPSG","9003"]],AXIS["Gravity-related height",UP],AUTHORITY["EPSG","6360"]]]</SRS>
  <GeoTransform>  1.7490000000000000e+06,  1.5000000000000000e+00,  0.0000000000000000e+00,  6.2400000000000000e+05,  0.0000000000000000e+00, -1.5000000000000000e+00</GeoTransform>
  <VRTRasterBand dataType="Float32" band="1">
    <NoDataValue>-999999</NoDataValue>
    <ColorInterp>Gray</ColorInterp>
    <ComplexSource>
      <SourceFilename relativeToVRT="1">BE_AP_0020.tif</SourceFilename>
      <SourceBand>1</SourceBand>
      <SourceProperties RasterXSize="576" RasterYSize="1106" DataType="Float32" BlockXSize="512" BlockYSize="512" />
      <SrcRect xOff="0" yOff="0" xSize="576" ySize="1106" />
      <DstRect xOff="38000" yOff="182000" xSize="576" ySize="1106" />
      <NODATA>-999999</NODATA>
    </ComplexSource>
    <ComplexSource>
      <SourceFilename relativeToVRT="1">BE_AP_0012.tif</SourceFilename>
      <SourceBand>1</SourceBand>
      <SourceProperties RasterXSize="2000" RasterYSize="2000" DataType="Float32" BlockXSize="512" BlockYSize="512" />
      <SrcRect xOff="0" yOff="0" xSize="2000" ySize="2000" />
      <DstRect xOff="36000" yOff="184000" xSize="2000" ySize="2000" />
      <NODATA>-999999</NODATA>
    </ComplexSource>
    <ComplexSource>
      <SourceFilename relativeToVRT="1">BE_AP_0033.tif</SourceFilename>
      <SourceBand>1</SourceBand>
      <SourceProperties RasterXSize="2000" RasterYSize="2000" DataType="Float32" BlockXSize="512" BlockYSize="512" />
      <SrcRect xOff="0" yOff="0" xSize="2000" ySize="2000" />
      <DstRect xOff="22000" yOff="178000" xSize="2000" ySize="2000" />
      <NODATA>-999999</NODATA>
    </ComplexSource>
    <ComplexSource>
      <SourceFilename relativeToVRT="1">BE_AP_0030.tif</SourceFilename>
      <SourceBand>1</SourceBand>
      <SourceProperties RasterXSize="240" RasterYSize="746" DataType="Float32" BlockXSize="512" BlockYSize="512" />
      <SrcRect xOff="0" yOff="0" xSize="240" ySize="746" />
      <DstRect xOff="38000" yOff="181254" xSize="240" ySize="746" />
      <NODATA>-999999</NODATA>
    </ComplexSource>
    <ComplexSource>
      <SourceFilename relativeToVRT="1">BE_AP_0028.tif</SourceFilename>
      <SourceBand>1</SourceBand>
      <SourceProperties RasterXSize="2000" RasterYSize="2000" DataType="Float32" BlockXSize="512" BlockYSize="512" />
      <SrcRect xOff="0" yOff="0" xSize="2000" ySize="2000" />
      <DstRect xOff="34000" yOff="180000" xSize="2000" ySize="2000" />
      <NODATA>-999999</NODATA>
    </ComplexSource>
    <ComplexSource>
      <SourceFilename relativeToVRT="1">BE_AP_0011.tif</SourceFilename>
      <SourceBand>1</SourceBand>
      <SourceProperties RasterXSize="2000" RasterYSize="2000" DataType="Float32" BlockXSize="512" BlockYSize="512" />
      <SrcRect xOff="0" yOff="0" xSize="2000" ySize="2000" />
      <DstRect xOff="34000" yOff="184000" xSize="2000" ySize="2000" />
      <NODATA>-999999</NODATA>
    </ComplexSource>
    <ComplexSource>
      <SourceFilename relativeToVRT="1">BE_AP_0019.tif</SourceFilename>
      <SourceBand>1</SourceBand>
      <SourceProperties RasterXSize="2000" RasterYSize="2000" DataType="Float32" BlockXSize="512" BlockYSize="512" />
      <SrcRect xOff="0" yOff="0" xSize="2000" ySize="2000" />
      <DstRect xOff="36000" yOff="182000" xSize="2000" ySize="2000" />
      <NODATA>-999999</NODATA>
    </ComplexSource>
    <ComplexSource>
      <SourceFilename relativeToVRT="1">BE_AP_0001.tif</SourceFilename>
      <SourceBand>1</SourceBand>
      <SourceProperties RasterXSize="175" RasterYSize="14" DataType="Float32" BlockXSize="512" BlockYSize="512" />
      <SrcRect xOff="0" yOff="0" xSize="175" ySize="14" />
      <DstRect xOff="29787" yOff="188000" xSize="175" ySize="14" />
      <NODATA>-999999</NODATA>
    </ComplexSource>
    <ComplexSource>
      <SourceFilename relativeToVRT="1">BE_AP_0007.tif</SourceFilename>
      <SourceBand>1</SourceBand>
      <SourceProperties RasterXSize="135" RasterYSize="222" DataType="Float32" BlockXSize="512" BlockYSize="512" />
      <SrcRect xOff="0" yOff="0" xSize="135" ySize="222" />
      <DstRect xOff="38000" yOff="186000" xSize="135" ySize="222" />
      <NODATA>-999999</NODATA>
    </ComplexSource>
    <ComplexSource>
      <SourceFilename relativeToVRT="1">BE_AP_0024.tif</SourceFilename>
      <SourceBand>1</SourceBand>
      <SourceProperties RasterXSize="2000" RasterYSize="2000" DataType="Float32" BlockXSize="512" BlockYSize="512" />
      <SrcRect xOff="0" yOff="0" xSize="2000" ySize="2000" />
      <DstRect xOff="26000" yOff="180000" xSize="2000" ySize="2000" />
      <NODATA>-999999</NODATA>
    </ComplexSource>
    <ComplexSource>
      <SourceFilename relativeToVRT="1">BE_AP_0006.tif</SourceFilename>
      <SourceBand>1</SourceBand>
      <SourceProperties RasterXSize="2000" RasterYSize="2000" DataType="Float32" BlockXSize="512" BlockYSize="512" />
      <SrcRect xOff="0" yOff="0" xSize="2000" ySize="2000" />
      <DstRect xOff="36000" yOff="186000" xSize="2000" ySize="2000" />
      <NODATA>-999999</NODATA>
    </ComplexSource>
    <ComplexSource>
      <SourceFilename relativeToVRT="1">BE_AP_0005.tif</SourceFilename>
      <SourceBand>1</SourceBand>
      <SourceProperties RasterXSize="2000" RasterYSize="2000" DataType="Float32" BlockXSize="512" BlockYSize="512" />
      <SrcRect xOff="0" yOff="0" xSize="2000" ySize="2000" />
      <DstRect xOff="34000" yOff="186000" xSize="2000" ySize="2000" />
      <NODATA>-999999</NODATA>
    </ComplexSource>
    <ComplexSource>
      <SourceFilename relativeToVRT="1">BE_AP_0002.tif</SourceFilename>
      <SourceBand>1</SourceBand>
      <SourceProperties RasterXSize="1761" RasterYSize="2000" DataType="Float32" BlockXSize="512" BlockYSize="512" />
      <SrcRect xOff="0" yOff="0" xSize="1761" ySize="2000" />
      <DstRect xOff="28239" yOff="186000" xSize="1761" ySize="2000" />
      <NODATA>-999999</NODATA>
    </ComplexSource>
    <ComplexSource>
      <SourceFilename relativeToVRT="1">BE_AP_0004.tif</SourceFilename>
      <SourceBand>1</SourceBand>
      <SourceProperties RasterXSize="2000" RasterYSize="2000" DataType="Float32" BlockXSize="512" BlockYSize="512" />
      <SrcRect xOff="0" yOff="0" xSize="2000" ySize="2000" />
      <DstRect xOff="32000" yOff="186000" xSize="2000" ySize="2000" />
      <NODATA>-999999</NODATA>
    </ComplexSource>
    <ComplexSource>
      <SourceFilename relativeToVRT="1">BE_AP_0008.tif</SourceFilename>
      <SourceBand>1</SourceBand>
      <SourceProperties RasterXSize="1896" RasterYSize="2000" DataType="Float32" BlockXSize="512" BlockYSize="512" />
      <SrcRect xOff="0" yOff="0" xSize="1896" ySize="2000" />
      <DstRect xOff="28104" yOff="184000" xSize="1896" ySize="2000" />
      <NODATA>-999999</NODATA>
    </ComplexSource>
    <ComplexSource>
      <SourceFilename relativeToVRT="1">BE_AP_0009.tif</SourceFilename>
      <SourceBand>1</SourceBand>
      <SourceProperties RasterXSize="2000" RasterYSize="2000" DataType="Float32" BlockXSize="512" BlockYSize="512" />
      <SrcRect xOff="0" yOff="0" xSize="2000" ySize="2000" />
      <DstRect xOff="30000" yOff="184000" xSize="2000" ySize="2000" />
      <NODATA>-999999</NODATA>
    </ComplexSource>
    <ComplexSource>
      <SourceFilename relativeToVRT="1">BE_AP_0021.tif</SourceFilename>
      <SourceBand>1</SourceBand>
      <SourceProperties RasterXSize="465" RasterYSize="428" DataType="Float32" BlockXSize="512" BlockYSize="512" />
      <SrcRect xOff="0" yOff="0" xSize="465" ySize="428" />
      <DstRect xOff="21535" yOff="180000" xSize="465" ySize="428" />
      <NODATA>-999999</NODATA>
    </ComplexSource>
    <ComplexSource>
      <SourceFilename relativeToVRT="1">BE_AP_0013.tif</SourceFilename>
      <SourceBand>1</SourceBand>
      <SourceProperties RasterXSize="602" RasterYSize="1618" DataType="Float32" BlockXSize="512" BlockYSize="512" />
      <SrcRect xOff="0" yOff="0" xSize="602" ySize="1618" />
      <DstRect xOff="38000" yOff="184382" xSize="602" ySize="1618" />
      <NODATA>-999999</NODATA>
    </ComplexSource>
    <ComplexSource>
      <SourceFilename relativeToVRT="1">BE_AP_0010.tif</SourceFilename>
      <SourceBand>1</SourceBand>
      <SourceProperties RasterXSize="2000" RasterYSize="2000" DataType="Float32" BlockXSize="512" BlockYSize="512" />
      <SrcRect xOff="0" yOff="0" xSize="2000" ySize="2000" />
      <DstRect xOff="32000" yOff="184000" xSize="2000" ySize="2000" />
      <NODATA>-999999</NODATA>
    </ComplexSource>
    <ComplexSource>
      <SourceFilename relativeToVRT="1">BE_AP_0003.tif</SourceFilename>
      <SourceBand>1</SourceBand>
      <SourceProperties RasterXSize="2000" RasterYSize="2000" DataType="Float32" BlockXSize="512" BlockYSize="512" />
      <SrcRect xOff="0" yOff="0" xSize="2000" ySize="2000" />
      <DstRect xOff="30000" yOff="186000" xSize="2000" ySize="2000" />
      <NODATA>-999999</NODATA>
    </ComplexSource>
    <ComplexSource>
      <SourceFilename relativeToVRT="1">BE_AP_0034.tif</SourceFilename>
      <SourceBand>1</SourceBand>
      <SourceProperties RasterXSize="2000" RasterYSize="2000" DataType="Float32" BlockXSize="512" BlockYSize="512" />
      <SrcRect xOff="0" yOff="0" xSize="2000" ySize="2000" />
      <DstRect xOff="24000" yOff="178000" xSize="2000" ySize="2000" />
      <NODATA>-999999</NODATA>
    </ComplexSource>
    <ComplexSource>
      <SourceFilename relativeToVRT="1">BE_AP_0014.tif</SourceFilename>
      <SourceBand>1</SourceBand>
      <SourceProperties RasterXSize="1277" RasterYSize="1869" DataType="Float32" BlockXSize="512" BlockYSize="512" />
      <SrcRect xOff="0" yOff="0" xSize="1277" ySize="1869" />
      <DstRect xOff="26723" yOff="182000" xSize="1277" ySize="1869" />
      <NODATA>-999999</NODATA>
    </ComplexSource>
    <ComplexSource>
      <SourceFilename relativeToVRT="1">BE_AP_0017.tif</SourceFilename>
      <SourceBand>1</SourceBand>
      <SourceProperties RasterXSize="2000" RasterYSize="2000" DataType="Float32" BlockXSize="512" BlockYSize="512" />
      <SrcRect xOff="0" yOff="0" xSize="2000" ySize="2000" />
      <DstRect xOff="32000" yOff="182000" xSize="2000" ySize="2000" />
      <NODATA>-999999</NODATA>
    </ComplexSource>
    <ComplexSource>
      <SourceFilename relativeToVRT="1">BE_AP_0018.tif</SourceFilename>
      <SourceBand>1</SourceBand>
      <SourceProperties RasterXSize="2000" RasterYSize="2000" DataType="Float32" BlockXSize="512" BlockYSize="512" />
      <SrcRect xOff="0" yOff="0" xSize="2000" ySize="2000" />
      <DstRect xOff="34000" yOff="182000" xSize="2000" ySize="2000" />
      <NODATA>-999999</NODATA>
    </ComplexSource>
    <ComplexSource>
      <SourceFilename relativeToVRT="1">BE_AP_0015.tif</SourceFilename>
      <SourceBand>1</SourceBand>
      <SourceProperties RasterXSize="2000" RasterYSize="2000" DataType="Float32" BlockXSize="512" BlockYSize="512" />
      <SrcRect xOff="0" yOff="0" xSize="2000" ySize="2000" />
      <DstRect xOff="28000" yOff="182000" xSize="2000" ySize="2000" />
      <NODATA>-999999</NODATA>
    </ComplexSource>
    <ComplexSource>
      <SourceFilename relativeToVRT="1">BE_AP_0016.tif</SourceFilename>
      <SourceBand>1</SourceBand>
      <SourceProperties RasterXSize="2000" RasterYSize="2000" DataType="Float32" BlockXSize="512" BlockYSize="512" />
      <SrcRect xOff="0" yOff="0" xSize="2000" ySize="2000" />
      <DstRect xOff="30000" yOff="182000" xSize="2000" ySize="2000" />
      <NODATA>-999999</NODATA>
    </ComplexSource>
    <ComplexSource>
      <SourceFilename relativeToVRT="1">BE_AP_0032.tif</SourceFilename>
      <SourceBand>1</SourceBand>
      <SourceProperties RasterXSize="2000" RasterYSize="2000" DataType="Float32" BlockXSize="512" BlockYSize="512" />
      <SrcRect xOff="0" yOff="0" xSize="2000" ySize="2000" />
      <DstRect xOff="20000" yOff="178000" xSize="2000" ySize="2000" />
      <NODATA>-999999</NODATA>
    </ComplexSource>
    <ComplexSource>
      <SourceFilename relativeToVRT="1">BE_AP_0025.tif</SourceFilename>
      <SourceBand>1</SourceBand>
      <SourceProperties RasterXSize="2000" RasterYSize="2000" DataType="Float32" BlockXSize="512" BlockYSize="512" />
      <SrcRect xOff="0" yOff="0" xSize="2000" ySize="2000" />
      <DstRect xOff="28000" yOff="180000" xSize="2000" ySize="2000" />
      <NODATA>-999999</NODATA>
    </ComplexSource>
    <ComplexSource>
      <SourceFilename relativeToVRT="1">BE_AP_0029.tif</SourceFilename>
      <SourceBand>1</SourceBand>
      <SourceProperties RasterXSize="2000" RasterYSize="2000" DataType="Float32" BlockXSize="512" BlockYSize="512" />
      <SrcRect xOff="0" yOff="0" xSize="2000" ySize="2000" />
      <DstRect xOff="36000" yOff="180000" xSize="2000" ySize="2000" />
      <NODATA>-999999</NODATA>
    </ComplexSource>
    <ComplexSource>
      <SourceFilename relativeToVRT="1">BE_AP_0022.tif</SourceFilename>
      <SourceBand>1</SourceBand>
      <SourceProperties RasterXSize="1702" RasterYSize="571" DataType="Float32" BlockXSize="512" BlockYSize="512" />
      <SrcRect xOff="0" yOff="0" xSize="1702" ySize="571" />
      <DstRect xOff="22000" yOff="180000" xSize="1702" ySize="571" />
      <NODATA>-999999</NODATA>
    </ComplexSource>
    <ComplexSource>
      <SourceFilename relativeToVRT="1">BE_AP_0023.tif</SourceFilename>
      <SourceBand>1</SourceBand>
      <SourceProperties RasterXSize="225" RasterYSize="632" DataType="Float32" BlockXSize="512" BlockYSize="512" />
      <SrcRect xOff="0" yOff="0" xSize="225" ySize="632" />
      <DstRect xOff="25775" yOff="180000" xSize="225" ySize="632" />
      <NODATA>-999999</NODATA>
    </ComplexSource>
    <ComplexSource>
      <SourceFilename relativeToVRT="1">BE_AP_0027.tif</SourceFilename>
      <SourceBand>1</SourceBand>
      <SourceProperties RasterXSize="2000" RasterYSize="2000" DataType="Float32" BlockXSize="512" BlockYSize="512" />
      <SrcRect xOff="0" yOff="0" xSize="2000" ySize="2000" />
      <DstRect xOff="32000" yOff="180000" xSize="2000" ySize="2000" />
      <NODATA>-999999</NODATA>
    </ComplexSource>
    <ComplexSource>
      <SourceFilename relativeToVRT="1">BE_AP_0026.tif</SourceFilename>
      <SourceBand>1</SourceBand>
      <SourceProperties RasterXSize="2000" RasterYSize="2000" DataType="Float32" BlockXSize="512" BlockYSize="512" />
      <SrcRect xOff="0" yOff="0" xSize="2000" ySize="2000" />
      <DstRect xOff="30000" yOff="180000" xSize="2000" ySize="2000" />
      <NODATA>-999999</NODATA>
    </ComplexSource>
    <ComplexSource>
      <SourceFilename relativeToVRT="1">BE_AP_0036.tif</SourceFilename>
      <SourceBand>1</SourceBand>
      <SourceProperties RasterXSize="2000" RasterYSize="2000" DataType="Float32" BlockXSize="512" BlockYSize="512" />
      <SrcRect xOff="0" yOff="0" xSize="2000" ySize="2000" />
      <DstRect xOff="28000" yOff="178000" xSize="2000" ySize="2000" />
      <NODATA>-999999</NODATA>
    </ComplexSource>
    <ComplexSource>
      <SourceFilename relativeToVRT="1">BE_AP_0035.tif</SourceFilename>
      <SourceBand>1</SourceBand>
      <SourceProperties RasterXSize="2000" RasterYSize="2000" DataType="Float32" BlockXSize="512" BlockYSize="512" />
      <SrcRect xOff="0" yOff="0" xSize="2000" ySize="2000" />
      <DstRect xOff="26000" yOff="178000" xSize="2000" ySize="2000" />
      <NODATA>-999999</NODATA>
    </ComplexSource>
    <ComplexSource>
      <SourceFilename relativeToVRT="1">BE_AP_0041.tif</SourceFilename>
      <SourceBand>1</SourceBand>
      <SourceProperties RasterXSize="1828" RasterYSize="2000" DataType="Float32" BlockXSize="512" BlockYSize="512" />
      <SrcRect xOff="0" yOff="0" xSize="1828" ySize="2000" />
      <DstRect xOff="18172" yOff="176000" xSize="1828" ySize="2000" />
      <NODATA>-999999</NODATA>
    </ComplexSource>
    <ComplexSource>
      <SourceFilename relativeToVRT="1">BE_AP_0042.tif</SourceFilename>
      <SourceBand>1</SourceBand>
      <SourceProperties RasterXSize="2000" RasterYSize="2000" DataType="Float32" BlockXSize="512" BlockYSize="512" />
      <SrcRect xOff="0" yOff="0" xSize="2000" ySize="2000" />
      <DstRect xOff="20000" yOff="176000" xSize="2000" ySize="2000" />
      <NODATA>-999999</NODATA>
    </ComplexSource>
    <ComplexSource>
      <SourceFilename relativeToVRT="1">BE_AP_0044.tif</SourceFilename>
      <SourceBand>1</SourceBand>
      <SourceProperties RasterXSize="2000" RasterYSize="2000" DataType="Float32" BlockXSize="512" BlockYSize="512" />
      <SrcRect xOff="0" yOff="0" xSize="2000" ySize="2000" />
      <DstRect xOff="24000" yOff="176000" xSize="2000" ySize="2000" />
      <NODATA>-999999</NODATA>
    </ComplexSource>
    <ComplexSource>
      <SourceFilename relativeToVRT="1">BE_AP_0031.tif</SourceFilename>
      <SourceBand>1</SourceBand>
      <SourceProperties RasterXSize="650" RasterYSize="1184" DataType="Float32" BlockXSize="512" BlockYSize="512" />
      <SrcRect xOff="0" yOff="0" xSize="650" ySize="1184" />
      <DstRect xOff="19350" yOff="178000" xSize="650" ySize="1184" />
      <NODATA>-999999</NODATA>
    </ComplexSource>
    <ComplexSource>
      <SourceFilename relativeToVRT="1">BE_AP_0045.tif</SourceFilename>
      <SourceBand>1</SourceBand>
      <SourceProperties RasterXSize="2000" RasterYSize="2000" DataType="Float32" BlockXSize="512" BlockYSize="512" />
      <SrcRect xOff="0" yOff="0" xSize="2000" ySize="2000" />
      <DstRect xOff="26000" yOff="176000" xSize="2000" ySize="2000" />
      <NODATA>-999999</NODATA>
    </ComplexSource>
    <ComplexSource>
      <SourceFilename relativeToVRT="1">BE_AP_0043.tif</SourceFilename>
      <SourceBand>1</SourceBand>
      <SourceProperties RasterXSize="2000" RasterYSize="2000" DataType="Float32" BlockXSize="512" BlockYSize="512" />
      <SrcRect xOff="0" yOff="0" xSize="2000" ySize="2000" />
      <DstRect xOff="22000" yOff="176000" xSize="2000" ySize="2000" />
      <NODATA>-999999</NODATA>
    </ComplexSource>
    <ComplexSource>
      <SourceFilename relativeToVRT="1">BE_AP_0052.tif</SourceFilename>
      <SourceBand>1</SourceBand>
      <SourceProperties RasterXSize="1692" RasterYSize="1898" DataType="Float32" BlockXSize="512" BlockYSize="512" />
      <SrcRect xOff="0" yOff="0" xSize="1692" ySize="1898" />
      <DstRect xOff="16308" yOff="174000" xSize="1692" ySize="1898" />
      <NODATA>-999999</NODATA>
    </ComplexSource>
    <ComplexSource>
      <SourceFilename relativeToVRT="1">BE_AP_0040.tif</SourceFilename>
      <SourceBand>1</SourceBand>
      <SourceProperties RasterXSize="2000" RasterYSize="2000" DataType="Float32" BlockXSize="512" BlockYSize="512" />
      <SrcRect xOff="0" yOff="0" xSize="2000" ySize="2000" />
      <DstRect xOff="36000" yOff="178000" xSize="2000" ySize="2000" />
      <NODATA>-999999</NODATA>
    </ComplexSource>
    <ComplexSource>
      <SourceFilename relativeToVRT="1">BE_AP_0038.tif</SourceFilename>
      <SourceBand>1</SourceBand>
      <SourceProperties RasterXSize="2000" RasterYSize="2000" DataType="Float32" BlockXSize="512" BlockYSize="512" />
      <SrcRect xOff="0" yOff="0" xSize="2000" ySize="2000" />
      <DstRect xOff="32000" yOff="178000" xSize="2000" ySize="2000" />
      <NODATA>-999999</NODATA>
    </ComplexSource>
    <ComplexSource>
      <SourceFilename relativeToVRT="1">BE_AP_0039.tif</SourceFilename>
      <SourceBand>1</SourceBand>
      <SourceProperties RasterXSize="2000" RasterYSize="2000" DataType="Float32" BlockXSize="512" BlockYSize="512" />
      <SrcRect xOff="0" yOff="0" xSize="2000" ySize="2000" />
      <DstRect xOff="34000" yOff="178000" xSize="2000" ySize="2000" />
      <NODATA>-999999</NODATA>
    </ComplexSource>
    <ComplexSource>
      <SourceFilename relativeToVRT="1">BE_AP_0037.tif</SourceFilename>
      <SourceBand>1</SourceBand>
      <SourceProperties RasterXSize="2000" RasterYSize="2000" DataType="Float32" BlockXSize="512" BlockYSize="512" />
      <SrcRect xOff="0" yOff="0" xSize="2000" ySize="2000" />
      <DstRect xOff="30000" yOff="178000" xSize="2000" ySize="2000" />
      <NODATA>-999999</NODATA>
    </ComplexSource>
    <ComplexSource>
      <SourceFilename relativeToVRT="1">BE_AP_0053.tif</SourceFilename>
      <SourceBand>1</SourceBand>
      <SourceProperties RasterXSize="2000" RasterYSize="2000" DataType="Float32" BlockXSize="512" BlockYSize="512" />
      <SrcRect xOff="0" yOff="0" xSize="2000" ySize="2000" />
      <DstRect xOff="18000" yOff="174000" xSize="2000" ySize="2000" />
      <NODATA>-999999</NODATA>
    </ComplexSource>
    <ComplexSource>
      <SourceFilename relativeToVRT="1">BE_AP_0050.tif</SourceFilename>
      <SourceBand>1</SourceBand>
      <SourceProperties RasterXSize="2000" RasterYSize="2000" DataType="Float32" BlockXSize="512" BlockYSize="512" />
      <SrcRect xOff="0" yOff="0" xSize="2000" ySize="2000" />
      <DstRect xOff="36000" yOff="176000" xSize="2000" ySize="2000" />
      <NODATA>-999999</NODATA>
    </ComplexSource>
    <ComplexSource>
      <SourceFilename relativeToVRT="1">BE_AP_0046.tif</SourceFilename>
      <SourceBand>1</SourceBand>
      <SourceProperties RasterXSize="2000" RasterYSize="2000" DataType="Float32" BlockXSize="512" BlockYSize="512" />
      <SrcRect xOff="0" yOff="0" xSize="2000" ySize="2000" />
      <DstRect xOff="28000" yOff="176000" xSize="2000" ySize="2000" />
      <NODATA>-999999</NODATA>
    </ComplexSource>
    <ComplexSource>
      <SourceFilename relativeToVRT="1">BE_AP_0055.tif</SourceFilename>
      <SourceBand>1</SourceBand>
      <SourceProperties RasterXSize="2000" RasterYSize="2000" DataType="Float32" BlockXSize="512" BlockYSize="512" />
      <SrcRect xOff="0" yOff="0" xSize="2000" ySize="2000" />
      <DstRect xOff="22000" yOff="174000" xSize="2000" ySize="2000" />
      <NODATA>-999999</NODATA>
    </ComplexSource>
    <ComplexSource>
      <SourceFilename relativeToVRT="1">BE_AP_0054.tif</SourceFilename>
      <SourceBand>1</SourceBand>
      <SourceProperties RasterXSize="2000" RasterYSize="2000" DataType="Float32" BlockXSize="512" BlockYSize="512" />
      <SrcRect xOff="0" yOff="0" xSize="2000" ySize="2000" />
      <DstRect xOff="20000" yOff="174000" xSize="2000" ySize="2000" />
      <NODATA>-999999</NODATA>
    </ComplexSource>
    <ComplexSource>
      <SourceFilename relativeToVRT="1">BE_AP_0047.tif</SourceFilename>
      <SourceBand>1</SourceBand>
      <SourceProperties RasterXSize="2000" RasterYSize="2000" DataType="Float32" BlockXSize="512" BlockYSize="512" />
      <SrcRect xOff="0" yOff="0" xSize="2000" ySize="2000" />
      <DstRect xOff="30000" yOff="176000" xSize="2000" ySize="2000" />
      <NODATA>-999999</NODATA>
    </ComplexSource>
    <ComplexSource>
      <SourceFilename relativeToVRT="1">BE_AP_0051.tif</SourceFilename>
      <SourceBand>1</SourceBand>
      <SourceProperties RasterXSize="156" RasterYSize="340" DataType="Float32" BlockXSize="512" BlockYSize="512" />
      <SrcRect xOff="0" yOff="0" xSize="156" ySize="340" />
