<VRTDataset rasterXSize="134914" rasterYSize="173414">
  <SRS dataAxisToSRSAxisMapping="1,2,3">COMPD_CS["NAD83(2011) / UTM zone 16N + NAVD88 height",PROJCS["NAD83(2011) / UTM zone 16N",GEOGCS["NAD83(2011)",DATUM["NAD83_National_Spatial_Reference_System_2011",SPHEROID["GRS 1980",6378137,298.257222101,AUTHORITY["EPSG","7019"]],AUTHORITY["EPSG","1116"]],PRIMEM["Greenwich",0,AUTHORITY["EPSG","8901"]],UNIT["degree",0.0174532925199433,AUTHORITY["EPSG","9122"]],AUTHORITY["EPSG","6318"]],PROJECTION["Transverse_Mercator"],PARAMETER["latitude_of_origin",0],PARAMETER["central_meridian",-87],PARAMETER["scale_factor",0.9996],PARAMETER["false_easting",500000],PARAMETER["false_northing",0],UNIT["metre",1,AUTHORITY["EPSG","9001"]],AXIS["Easting",EAST],AXIS["Northing",NORTH],AUTHORITY["EPSG","6345"]],VERT_CS["NAVD88 height",VERT_DATUM["North American Vertical Datum 1988",2005,AUTHORITY["EPSG","5103"]],UNIT["metre",1,AUTHORITY["EPSG","9001"]],AXIS["Gravity-related height",UP],AUTHORITY["EPSG","5703"]]]</SRS>
  <GeoTransform>  2.6487700000000000e+05,  1.0000000000000000e+00,  0.0000000000000000e+00,  3.8748130000000000e+06,  0.0000000000000000e+00, -1.0000000000000000e+00</GeoTransform>
  <VRTRasterBand dataType="Float32" band="1">
    <NoDataValue>-32767</NoDataValue>
    <ColorInterp>Gray</ColorInterp>
    <ComplexSource>
      <SourceFilename relativeToVRT="1">north/16SBD640730.tif</SourceFilename>
      <SourceBand>1</SourceBand>
      <SourceProperties RasterXSize="623" RasterYSize="844" DataType="Float32" BlockXSize="512" BlockYSize="512" />
      <SrcRect xOff="0" yOff="0" xSize="623" ySize="844" />
      <DstRect xOff="0" yOff="313" xSize="623" ySize="844" />
      <NODATA>-32767</NODATA>
    </ComplexSource>
    <ComplexSource>
      <SourceFilename relativeToVRT="1">north/16SBD640745.tif</SourceFilename>
      <SourceBand>1</SourceBand>
      <SourceProperties RasterXSize="526" RasterYSize="313" DataType="Float32" BlockXSize="512" BlockYSize="512" />
      <SrcRect xOff="0" yOff="0" xSize="526" ySize="313" />
      <DstRect xOff="97" yOff="0" xSize="526" ySize="313" />
      <NODATA>-32767</NODATA>
    </ComplexSource>
    <ComplexSource>
      <SourceFilename relativeToVRT="1">north/16SBD655730.tif</SourceFilename>
      <SourceBand>1</SourceBand>
      <SourceProperties RasterXSize="1500" RasterYSize="1032" DataType="Float32" BlockXSize="512" BlockYSize="512" />
      <SrcRect xOff="0" yOff="0" xSize="1500" ySize="1032" />
      <DstRect xOff="623" yOff="313" xSize="1500" ySize="1032" />
      <NODATA>-32767</NODATA>
    </ComplexSource>
    <ComplexSource>
      <SourceFilename relativeToVRT="1">north/16SBD655745.tif</SourceFilename>
      <SourceBand>1</SourceBand>
      <SourceProperties RasterXSize="1500" RasterYSize="299" DataType="Float32" BlockXSize="512" BlockYSize="512" />
      <SrcRect xOff="0" yOff="0" xSize="1500" ySize="299" />
      <DstRect xOff="623" yOff="14" xSize="1500" ySize="299" />
      <NODATA>-32767</NODATA>
    </ComplexSource>
    <ComplexSource>
      <SourceFilename relativeToVRT="1">north/16SBD670730.tif</SourceFilename>
      <SourceBand>1</SourceBand>
      <SourceProperties RasterXSize="1500" RasterYSize="1428" DataType="Float32" BlockXSize="512" BlockYSize="512" />
      <SrcRect xOff="0" yOff="0" xSize="1500" ySize="1428" />
      <DstRect xOff="2123" yOff="313" xSize="1500" ySize="1428" />
      <NODATA>-32767</NODATA>
    </ComplexSource>
    <ComplexSource>
      <SourceFilename relativeToVRT="1">north/16SBD670745.tif</SourceFilename>
      <SourceBand>1</SourceBand>
      <SourceProperties RasterXSize="1500" RasterYSize="247" DataType="Float32" BlockXSize="512" BlockYSize="512" />
      <SrcRect xOff="0" yOff="0" xSize="1500" ySize="247" />
      <DstRect xOff="2123" yOff="66" xSize="1500" ySize="247" />
      <NODATA>-32767</NODATA>
    </ComplexSource>
    <ComplexSource>
      <SourceFilename relativeToVRT="1">north/16SBD685715.tif</SourceFilename>
      <SourceBand>1</SourceBand>
      <SourceProperties RasterXSize="1226" RasterYSize="324" DataType="Float32" BlockXSize="512" BlockYSize="512" />
      <SrcRect xOff="0" yOff="0" xSize="1226" ySize="324" />
      <DstRect xOff="3897" yOff="1813" xSize="1226" ySize="324" />
      <NODATA>-32767</NODATA>
    </ComplexSource>
    <ComplexSource>
      <SourceFilename relativeToVRT="1">north/16SBD685730.tif</SourceFilename>
      <SourceBand>1</SourceBand>
      <SourceProperties RasterXSize="1500" RasterYSize="1500" DataType="Float32" BlockXSize="512" BlockYSize="512" />
      <SrcRect xOff="0" yOff="0" xSize="1500" ySize="1500" />
      <DstRect xOff="3623" yOff="313" xSize="1500" ySize="1500" />
      <NODATA>-32767</NODATA>
    </ComplexSource>
    <ComplexSource>
      <SourceFilename relativeToVRT="1">north/16SBD685745.tif</SourceFilename>
      <SourceBand>1</SourceBand>
      <SourceProperties RasterXSize="1500" RasterYSize="195" DataType="Float32" BlockXSize="512" BlockYSize="512" />
      <SrcRect xOff="0" yOff="0" xSize="1500" ySize="195" />
      <DstRect xOff="3623" yOff="118" xSize="1500" ySize="195" />
      <NODATA>-32767</NODATA>
    </ComplexSource>
    <ComplexSource>
      <SourceFilename relativeToVRT="1">north/16SBD700715.tif</SourceFilename>
      <SourceBand>1</SourceBand>
      <SourceProperties RasterXSize="1500" RasterYSize="719" DataType="Float32" BlockXSize="512" BlockYSize="512" />
      <SrcRect xOff="0" yOff="0" xSize="1500" ySize="719" />
      <DstRect xOff="5123" yOff="1813" xSize="1500" ySize="719" />
      <NODATA>-32767</NODATA>
    </ComplexSource>
    <ComplexSource>
      <SourceFilename relativeToVRT="1">north/16SBD700730.tif</SourceFilename>
      <SourceBand>1</SourceBand>
      <SourceProperties RasterXSize="1500" RasterYSize="1500" DataType="Float32" BlockXSize="512" BlockYSize="512" />
      <SrcRect xOff="0" yOff="0" xSize="1500" ySize="1500" />
      <DstRect xOff="5123" yOff="313" xSize="1500" ySize="1500" />
      <NODATA>-32767</NODATA>
    </ComplexSource>
    <ComplexSource>
      <SourceFilename relativeToVRT="1">north/16SBD700745.tif</SourceFilename>
      <SourceBand>1</SourceBand>
      <SourceProperties RasterXSize="1500" RasterYSize="143" DataType="Float32" BlockXSize="512" BlockYSize="512" />
      <SrcRect xOff="0" yOff="0" xSize="1500" ySize="143" />
      <DstRect xOff="5123" yOff="170" xSize="1500" ySize="143" />
      <NODATA>-32767</NODATA>
    </ComplexSource>
    <ComplexSource>
      <SourceFilename relativeToVRT="1">north/16SBD715715.tif</SourceFilename>
      <SourceBand>1</SourceBand>
      <SourceProperties RasterXSize="1500" RasterYSize="1115" DataType="Float32" BlockXSize="512" BlockYSize="512" />
      <SrcRect xOff="0" yOff="0" xSize="1500" ySize="1115" />
      <DstRect xOff="6623" yOff="1813" xSize="1500" ySize="1115" />
      <NODATA>-32767</NODATA>
    </ComplexSource>
    <ComplexSource>
      <SourceFilename relativeToVRT="1">north/16SBD715730.tif</SourceFilename>
      <SourceBand>1</SourceBand>
      <SourceProperties RasterXSize="1500" RasterYSize="1500" DataType="Float32" BlockXSize="512" BlockYSize="512" />
      <SrcRect xOff="0" yOff="0" xSize="1500" ySize="1500" />
      <DstRect xOff="6623" yOff="313" xSize="1500" ySize="1500" />
      <NODATA>-32767</NODATA>
    </ComplexSource>
    <ComplexSource>
      <SourceFilename relativeToVRT="1">north/16SBD715745.tif</SourceFilename>
      <SourceBand>1</SourceBand>
      <SourceProperties RasterXSize="1500" RasterYSize="81" DataType="Float32" BlockXSize="512" BlockYSize="512" />
      <SrcRect xOff="0" yOff="0" xSize="1500" ySize="81" />
      <DstRect xOff="6623" yOff="232" xSize="1500" ySize="81" />
      <NODATA>-32767</NODATA>
    </ComplexSource>
    <ComplexSource>
      <SourceFilename relativeToVRT="1">north/16SBD730700.tif</SourceFilename>
      <SourceBand>1</SourceBand>
      <SourceProperties RasterXSize="39" RasterYSize="11" DataType="Float32" BlockXSize="512" BlockYSize="512" />
      <SrcRect xOff="0" yOff="0" xSize="39" ySize="11" />
      <DstRect xOff="9584" yOff="3313" xSize="39" ySize="11" />
      <NODATA>-32767</NODATA>
    </ComplexSource>
    <ComplexSource>
      <SourceFilename relativeToVRT="1">north/16SBD730715.tif</SourceFilename>
      <SourceBand>1</SourceBand>
      <SourceProperties RasterXSize="1500" RasterYSize="1500" DataType="Float32" BlockXSize="512" BlockYSize="512" />
      <SrcRect xOff="0" yOff="0" xSize="1500" ySize="1500" />
      <DstRect xOff="8123" yOff="1813" xSize="1500" ySize="1500" />
      <NODATA>-32767</NODATA>
    </ComplexSource>
    <ComplexSource>
      <SourceFilename relativeToVRT="1">north/16SBD730730.tif</SourceFilename>
      <SourceBand>1</SourceBand>
      <SourceProperties RasterXSize="1500" RasterYSize="1500" DataType="Float32" BlockXSize="512" BlockYSize="512" />
      <SrcRect xOff="0" yOff="0" xSize="1500" ySize="1500" />
      <DstRect xOff="8123" yOff="313" xSize="1500" ySize="1500" />
      <NODATA>-32767</NODATA>
    </ComplexSource>
    <ComplexSource>
      <SourceFilename relativeToVRT="1">north/16SBD745685.tif</SourceFilename>
      <SourceBand>1</SourceBand>
      <SourceProperties RasterXSize="358" RasterYSize="635" DataType="Float32" BlockXSize="512" BlockYSize="512" />
      <SrcRect xOff="0" yOff="0" xSize="358" ySize="635" />
      <DstRect xOff="10765" yOff="4813" xSize="358" ySize="635" />
      <NODATA>-32767</NODATA>
    </ComplexSource>
    <ComplexSource>
      <SourceFilename relativeToVRT="1">north/16SBD745700.tif</SourceFilename>
      <SourceBand>1</SourceBand>
      <SourceProperties RasterXSize="1500" RasterYSize="1500" DataType="Float32" BlockXSize="512" BlockYSize="512" />
      <SrcRect xOff="0" yOff="0" xSize="1500" ySize="1500" />
      <DstRect xOff="9623" yOff="3313" xSize="1500" ySize="1500" />
      <NODATA>-32767</NODATA>
    </ComplexSource>
    <ComplexSource>
      <SourceFilename relativeToVRT="1">north/16SBD745715.tif</SourceFilename>
      <SourceBand>1</SourceBand>
      <SourceProperties RasterXSize="1500" RasterYSize="1500" DataType="Float32" BlockXSize="512" BlockYSize="512" />
      <SrcRect xOff="0" yOff="0" xSize="1500" ySize="1500" />
      <DstRect xOff="9623" yOff="1813" xSize="1500" ySize="1500" />
      <NODATA>-32767</NODATA>
    </ComplexSource>
    <ComplexSource>
      <SourceFilename relativeToVRT="1">north/16SBD745730.tif</SourceFilename>
      <SourceBand>1</SourceBand>
      <SourceProperties RasterXSize="1500" RasterYSize="1449" DataType="Float32" BlockXSize="512" BlockYSize="512" />
      <SrcRect xOff="0" yOff="0" xSize="1500" ySize="1449" />
      <DstRect xOff="9623" yOff="364" xSize="1500" ySize="1449" />
      <NODATA>-32767</NODATA>
    </ComplexSource>
    <ComplexSource>
      <SourceFilename relativeToVRT="1">north/16SBD760655.tif</SourceFilename>
      <SourceBand>1</SourceBand>
      <SourceProperties RasterXSize="167" RasterYSize="297" DataType="Float32" BlockXSize="512" BlockYSize="512" />
      <SrcRect xOff="0" yOff="0" xSize="167" ySize="297" />
      <DstRect xOff="12456" yOff="7813" xSize="167" ySize="297" />
      <NODATA>-32767</NODATA>
    </ComplexSource>
    <ComplexSource>
      <SourceFilename relativeToVRT="1">north/16SBD760670.tif</SourceFilename>
      <SourceBand>1</SourceBand>
      <SourceProperties RasterXSize="1013" RasterYSize="1500" DataType="Float32" BlockXSize="512" BlockYSize="512" />
      <SrcRect xOff="0" yOff="0" xSize="1013" ySize="1500" />
      <DstRect xOff="11610" yOff="6313" xSize="1013" ySize="1500" />
      <NODATA>-32767</NODATA>
    </ComplexSource>
    <ComplexSource>
      <SourceFilename relativeToVRT="1">north/16SBD760685.tif</SourceFilename>
      <SourceBand>1</SourceBand>
      <SourceProperties RasterXSize="1500" RasterYSize="1500" DataType="Float32" BlockXSize="512" BlockYSize="512" />
      <SrcRect xOff="0" yOff="0" xSize="1500" ySize="1500" />
      <DstRect xOff="11123" yOff="4813" xSize="1500" ySize="1500" />
      <NODATA>-32767</NODATA>
    </ComplexSource>
    <ComplexSource>
      <SourceFilename relativeToVRT="1">north/16SBD760700.tif</SourceFilename>
      <SourceBand>1</SourceBand>
      <SourceProperties RasterXSize="1500" RasterYSize="1500" DataType="Float32" BlockXSize="512" BlockYSize="512" />
      <SrcRect xOff="0" yOff="0" xSize="1500" ySize="1500" />
      <DstRect xOff="11123" yOff="3313" xSize="1500" ySize="1500" />
      <NODATA>-32767</NODATA>
    </ComplexSource>
    <ComplexSource>
      <SourceFilename relativeToVRT="1">north/16SBD760715.tif</SourceFilename>
      <SourceBand>1</SourceBand>
      <SourceProperties RasterXSize="1500" RasterYSize="1500" DataType="Float32" BlockXSize="512" BlockYSize="512" />
      <SrcRect xOff="0" yOff="0" xSize="1500" ySize="1500" />
      <DstRect xOff="11123" yOff="1813" xSize="1500" ySize="1500" />
      <NODATA>-32767</NODATA>
    </ComplexSource>
    <ComplexSource>
      <SourceFilename relativeToVRT="1">north/16SBD760730.tif</SourceFilename>
      <SourceBand>1</SourceBand>
      <SourceProperties RasterXSize="1500" RasterYSize="1396" DataType="Float32" BlockXSize="512" BlockYSize="512" />
      <SrcRect xOff="0" yOff="0" xSize="1500" ySize="1396" />
      <DstRect xOff="11123" yOff="417" xSize="1500" ySize="1396" />
      <NODATA>-32767</NODATA>
    </ComplexSource>
    <ComplexSource>
      <SourceFilename relativeToVRT="1">north/16SBD775640.tif</SourceFilename>
      <SourceBand>1</SourceBand>
      <SourceProperties RasterXSize="822" RasterYSize="1458" DataType="Float32" BlockXSize="512" BlockYSize="512" />
      <SrcRect xOff="0" yOff="0" xSize="822" ySize="1458" />
      <DstRect xOff="13301" yOff="9313" xSize="822" ySize="1458" />
      <NODATA>-32767</NODATA>
    </ComplexSource>
    <ComplexSource>
      <SourceFilename relativeToVRT="1">north/16SBD775655.tif</SourceFilename>
      <SourceBand>1</SourceBand>
      <SourceProperties RasterXSize="1500" RasterYSize="1500" DataType="Float32" BlockXSize="512" BlockYSize="512" />
      <SrcRect xOff="0" yOff="0" xSize="1500" ySize="1500" />
      <DstRect xOff="12623" yOff="7813" xSize="1500" ySize="1500" />
      <NODATA>-32767</NODATA>
    </ComplexSource>
    <ComplexSource>
      <SourceFilename relativeToVRT="1">north/16SBD775670.tif</SourceFilename>
      <SourceBand>1</SourceBand>
      <SourceProperties RasterXSize="1500" RasterYSize="1500" DataType="Float32" BlockXSize="512" BlockYSize="512" />
      <SrcRect xOff="0" yOff="0" xSize="1500" ySize="1500" />
      <DstRect xOff="12623" yOff="6313" xSize="1500" ySize="1500" />
      <NODATA>-32767</NODATA>
    </ComplexSource>
    <ComplexSource>
      <SourceFilename relativeToVRT="1">north/16SBD775685.tif</SourceFilename>
      <SourceBand>1</SourceBand>
      <SourceProperties RasterXSize="1500" RasterYSize="1500" DataType="Float32" BlockXSize="512" BlockYSize="512" />
      <SrcRect xOff="0" yOff="0" xSize="1500" ySize="1500" />
      <DstRect xOff="12623" yOff="4813" xSize="1500" ySize="1500" />
      <NODATA>-32767</NODATA>
    </ComplexSource>
    <ComplexSource>
      <SourceFilename relativeToVRT="1">north/16SBD775700.tif</SourceFilename>
      <SourceBand>1</SourceBand>
      <SourceProperties RasterXSize="1500" RasterYSize="1500" DataType="Float32" BlockXSize="512" BlockYSize="512" />
      <SrcRect xOff="0" yOff="0" xSize="1500" ySize="1500" />
      <DstRect xOff="12623" yOff="3313" xSize="1500" ySize="1500" />
      <NODATA>-32767</NODATA>
    </ComplexSource>
    <ComplexSource>
      <SourceFilename relativeToVRT="1">north/16SBD775715.tif</SourceFilename>
      <SourceBand>1</SourceBand>
      <SourceProperties RasterXSize="1500" RasterYSize="1500" DataType="Float32" BlockXSize="512" BlockYSize="512" />
      <SrcRect xOff="0" yOff="0" xSize="1500" ySize="1500" />
      <DstRect xOff="12623" yOff="1813" xSize="1500" ySize="1500" />
      <NODATA>-32767</NODATA>
    </ComplexSource>
    <ComplexSource>
      <SourceFilename relativeToVRT="1">north/16SBD775730.tif</SourceFilename>
      <SourceBand>1</SourceBand>
      <SourceProperties RasterXSize="1500" RasterYSize="1357" DataType="Float32" BlockXSize="512" BlockYSize="512" />
      <SrcRect xOff="0" yOff="0" xSize="1500" ySize="1357" />
      <DstRect xOff="12623" yOff="456" xSize="1500" ySize="1357" />
      <NODATA>-32767</NODATA>
    </ComplexSource>
    <ComplexSource>
      <SourceFilename relativeToVRT="1">north/16SBD790625.tif</SourceFilename>
      <SourceBand>1</SourceBand>
      <SourceProperties RasterXSize="1230" RasterYSize="523" DataType="Float32" BlockXSize="512" BlockYSize="512" />
      <SrcRect xOff="0" yOff="0" xSize="1230" ySize="523" />
      <DstRect xOff="14146" yOff="10813" xSize="1230" ySize="523" />
      <NODATA>-32767</NODATA>
    </ComplexSource>
    <ComplexSource>
      <SourceFilename relativeToVRT="1">north/16SBD790640.tif</SourceFilename>
      <SourceBand>1</SourceBand>
      <SourceProperties RasterXSize="1500" RasterYSize="1500" DataType="Float32" BlockXSize="512" BlockYSize="512" />
      <SrcRect xOff="0" yOff="0" xSize="1500" ySize="1500" />
      <DstRect xOff="14123" yOff="9313" xSize="1500" ySize="1500" />
      <NODATA>-32767</NODATA>
    </ComplexSource>
    <ComplexSource>
      <SourceFilename relativeToVRT="1">north/16SBD790655.tif</SourceFilename>
      <SourceBand>1</SourceBand>
      <SourceProperties RasterXSize="1500" RasterYSize="1500" DataType="Float32" BlockXSize="512" BlockYSize="512" />
      <SrcRect xOff="0" yOff="0" xSize="1500" ySize="1500" />
      <DstRect xOff="14123" yOff="7813" xSize="1500" ySize="1500" />
      <NODATA>-32767</NODATA>
    </ComplexSource>
    <ComplexSource>
      <SourceFilename relativeToVRT="1">north/16SBD790670.tif</SourceFilename>
      <SourceBand>1</SourceBand>
      <SourceProperties RasterXSize="1500" RasterYSize="1500" DataType="Float32" BlockXSize="512" BlockYSize="512" />
      <SrcRect xOff="0" yOff="0" xSize="1500" ySize="1500" />
      <DstRect xOff="14123" yOff="6313" xSize="1500" ySize="1500" />
      <NODATA>-32767</NODATA>
    </ComplexSource>
    <ComplexSource>
      <SourceFilename relativeToVRT="1">north/16SBD790685.tif</SourceFilename>
      <SourceBand>1</SourceBand>
      <SourceProperties RasterXSize="1500" RasterYSize="1500" DataType="Float32" BlockXSize="512" BlockYSize="512" />
      <SrcRect xOff="0" yOff="0" xSize="1500" ySize="1500" />
      <DstRect xOff="14123" yOff="4813" xSize="1500" ySize="1500" />
      <NODATA>-32767</NODATA>
    </ComplexSource>
    <ComplexSource>
      <SourceFilename relativeToVRT="1">north/16SBD790700.tif</SourceFilename>
      <SourceBand>1</SourceBand>
      <SourceProperties RasterXSize="1500" RasterYSize="1500" DataType="Float32" BlockXSize="512" BlockYSize="512" />
      <SrcRect xOff="0" yOff="0" xSize="1500" ySize="1500" />
      <DstRect xOff="14123" yOff="3313" xSize="1500" ySize="1500" />
      <NODATA>-32767</NODATA>
    </ComplexSource>
    <ComplexSource>
      <SourceFilename relativeToVRT="1">north/16SBD790715.tif</SourceFilename>
      <SourceBand>1</SourceBand>
      <SourceProperties RasterXSize="1500" RasterYSize="1500" DataType="Float32" BlockXSize="512" BlockYSize="512" />
      <SrcRect xOff="0" yOff="0" xSize="1500" ySize="1500" />
      <DstRect xOff="14123" yOff="1813" xSize="1500" ySize="1500" />
      <NODATA>-32767</NODATA>
    </ComplexSource>
    <ComplexSource>
      <SourceFilename relativeToVRT="1">north/16SBD790730.tif</SourceFilename>
      <SourceBand>1</SourceBand>
      <SourceProperties RasterXSize="1500" RasterYSize="1321" DataType="Float32" BlockXSize="512" BlockYSize="512" />
      <SrcRect xOff="0" yOff="0" xSize="1500" ySize="1321" />
      <DstRect xOff="14123" yOff="492" xSize="1500" ySize="1321" />
      <NODATA>-32767</NODATA>
    </ComplexSource>
    <ComplexSource>
      <SourceFilename relativeToVRT="1">north/16SBD805640.tif</SourceFilename>
      <SourceBand>1</SourceBand>
      <SourceProperties RasterXSize="1500" RasterYSize="1347" DataType="Float32" BlockXSize="512" BlockYSize="512" />
      <SrcRect xOff="0" yOff="0" xSize="1500" ySize="1347" />
      <DstRect xOff="15623" yOff="9313" xSize="1500" ySize="1347" />
      <NODATA>-32767</NODATA>
    </ComplexSource>
    <ComplexSource>
      <SourceFilename relativeToVRT="1">north/16SBD805655.tif</SourceFilename>
      <SourceBand>1</SourceBand>
      <SourceProperties RasterXSize="1500" RasterYSize="1500" DataType="Float32" BlockXSize="512" BlockYSize="512" />
      <SrcRect xOff="0" yOff="0" xSize="1500" ySize="1500" />
      <DstRect xOff="15623" yOff="7813" xSize="1500" ySize="1500" />
      <NODATA>-32767</NODATA>
    </ComplexSource>
    <ComplexSource>
      <SourceFilename relativeToVRT="1">north/16SBD805670.tif</SourceFilename>
      <SourceBand>1</SourceBand>
      <SourceProperties RasterXSize="1500" RasterYSize="1500" DataType="Float32" BlockXSize="512" BlockYSize="512" />
      <SrcRect xOff="0" yOff="0" xSize="1500" ySize="1500" />
      <DstRect xOff="15623" yOff="6313" xSize="1500" ySize="1500" />
      <NODATA>-32767</NODATA>
    </ComplexSource>
    <ComplexSource>
      <SourceFilename relativeToVRT="1">north/16SBD805685.tif</SourceFilename>
      <SourceBand>1</SourceBand>
      <SourceProperties RasterXSize="1500" RasterYSize="1500" DataType="Float32" BlockXSize="512" BlockYSize="512" />
      <SrcRect xOff="0" yOff="0" xSize="1500" ySize="1500" />
      <DstRect xOff="15623" yOff="4813" xSize="1500" ySize="1500" />
      <NODATA>-32767</NODATA>
    </ComplexSource>
    <ComplexSource>
      <SourceFilename relativeToVRT="1">north/16SBD805700.tif</SourceFilename>
      <SourceBand>1</SourceBand>
      <SourceProperties RasterXSize="1500" RasterYSize="1500" DataType="Float32" BlockXSize="512" BlockYSize="512" />
      <SrcRect xOff="0" yOff="0" xSize="1500" ySize="1500" />
      <DstRect xOff="15623" yOff="3313" xSize="1500" ySize="1500" />
      <NODATA>-32767</NODATA>
    </ComplexSource>
    <ComplexSource>
      <SourceFilename relativeToVRT="1">north/16SBD805715.tif</SourceFilename>
      <SourceBand>1</SourceBand>
      <SourceProperties RasterXSize="1500" RasterYSize="1500" DataType="Float32" BlockXSize="512" BlockYSize="512" />
      <SrcRect xOff="0" yOff="0" xSize="1500" ySize="1500" />
      <DstRect xOff="15623" yOff="1813" xSize="1500" ySize="1500" />
      <NODATA>-32767</NODATA>
    </ComplexSource>
    <ComplexSource>
      <SourceFilename relativeToVRT="1">north/16SBD805730.tif</SourceFilename>
      <SourceBand>1</SourceBand>
      <SourceProperties RasterXSize="1500" RasterYSize="1310" DataType="Float32" BlockXSize="512" BlockYSize="512" />
      <SrcRect xOff="0" yOff="0" xSize="1500" ySize="1310" />
      <DstRect xOff="15623" yOff="503" xSize="1500" ySize="1310" />
      <NODATA>-32767</NODATA>
    </ComplexSource>
    <ComplexSource>
      <SourceFilename relativeToVRT="1">north/16SBD820640.tif</SourceFilename>
      <SourceBand>1</SourceBand>
      <SourceProperties RasterXSize="1500" RasterYSize="1026" DataType="Float32" BlockXSize="512" BlockYSize="512" />
      <SrcRect xOff="0" yOff="0" xSize="1500" ySize="1026" />
      <DstRect xOff="17123" yOff="9313" xSize="1500" ySize="1026" />
      <NODATA>-32767</NODATA>
    </ComplexSource>
    <ComplexSource>
      <SourceFilename relativeToVRT="1">north/16SBD820655.tif</SourceFilename>
      <SourceBand>1</SourceBand>
      <SourceProperties RasterXSize="1500" RasterYSize="1500" DataType="Float32" BlockXSize="512" BlockYSize="512" />
      <SrcRect xOff="0" yOff="0" xSize="1500" ySize="1500" />
      <DstRect xOff="17123" yOff="7813" xSize="1500" ySize="1500" />
      <NODATA>-32767</NODATA>
    </ComplexSource>
    <ComplexSource>
      <SourceFilename relativeToVRT="1">north/16SBD820670.tif</SourceFilename>
      <SourceBand>1</SourceBand>
      <SourceProperties RasterXSize="1500" RasterYSize="1500" DataType="Float32" BlockXSize="512" BlockYSize="512" />
      <SrcRect xOff="0" yOff="0" xSize="1500" ySize="1500" />
