<VRTDataset rasterXSize="32412" rasterYSize="48612">
  <SRS dataAxisToSRSAxisMapping="2,1">GEOGCS["NAD83(MA11)",DATUM["NAD83_National_Spatial_Reference_System_MA11",SPHEROID["GRS 1980",6378137,298.257222101004,AUTHORITY["EPSG","7019"]],AUTHORITY["EPSG","1118"]],PRIMEM["Greenwich",0],UNIT["degree",0.0174532925199433,AUTHORITY["EPSG","9122"]],AXIS["Latitude",NORTH],AXIS["Longitude",EAST],AUTHORITY["EPSG","6325"]]</SRS>
  <GeoTransform>  1.4499981481481598e+02,  3.0864197530576058e-05,  0.0000000000000000e+00,  1.5500185185184034e+01,  0.0000000000000000e+00, -3.0864197530580442e-05</GeoTransform>
  <VRTRasterBand dataType="Float32" band="1">
    <NoDataValue>-9999</NoDataValue>
    <ColorInterp>Gray</ColorInterp>
    <ComplexSource>
      <SourceFilename relativeToVRT="1">ncei19_n14x25_e145x00_2022v1.tif</SourceFilename>
      <SourceBand>1</SourceBand>
      <SourceProperties RasterXSize="8112" RasterYSize="8112" DataType="Float32" BlockXSize="512" BlockYSize="512" />
      <SrcRect xOff="0" yOff="0" xSize="8112" ySize="8112" />
      <DstRect xOff="0" yOff="40500" xSize="8112" ySize="8112" />
      <NODATA>-9999</NODATA>
    </ComplexSource>
    <ComplexSource>
      <SourceFilename relativeToVRT="1">ncei19_n15x50_e145x75_2022v1.tif</SourceFilename>
      <SourceBand>1</SourceBand>
      <SourceProperties RasterXSize="8112" RasterYSize="8112" DataType="Float32" BlockXSize="512" BlockYSize="512" />
      <SrcRect xOff="0" yOff="0" xSize="8112" ySize="8112" />
      <DstRect xOff="24300" yOff="0" xSize="8112" ySize="8112" />
      <NODATA>-9999</NODATA>
    </ComplexSource>
    <ComplexSource>
      <SourceFilename relativeToVRT="1">ncei19_n14x25_e145x25_2022v1.tif</SourceFilename>
      <SourceBand>1</SourceBand>
      <SourceProperties RasterXSize="8112" RasterYSize="8112" DataType="Float32" BlockXSize="512" BlockYSize="512" />
      <SrcRect xOff="0" yOff="0" xSize="8112" ySize="8112" />
      <DstRect xOff="8100" yOff="40500" xSize="8112" ySize="8112" />
      <NODATA>-9999</NODATA>
    </ComplexSource>
    <ComplexSource>
      <SourceFilename relativeToVRT="1">ncei19_n15x25_e145x75_2022v1.tif</SourceFilename>
      <SourceBand>1</SourceBand>
      <SourceProperties RasterXSize="8112" RasterYSize="8112" DataType="Float32" BlockXSize="512" BlockYSize="512" />
      <SrcRect xOff="0" yOff="0" xSize="8112" ySize="8112" />
      <DstRect xOff="24300" yOff="8100" xSize="8112" ySize="8112" />
      <NODATA>-9999</NODATA>
    </ComplexSource>
    <ComplexSource>
      <SourceFilename relativeToVRT="1">ncei19_n15x25_e145x50_2022v1.tif</SourceFilename>
      <SourceBand>1</SourceBand>
      <SourceProperties RasterXSize="8112" RasterYSize="8112" DataType="Float32" BlockXSize="512" BlockYSize="512" />
      <SrcRect xOff="0" yOff="0" xSize="8112" ySize="8112" />
      <DstRect xOff="16200" yOff="8100" xSize="8112" ySize="8112" />
      <NODATA>-9999</NODATA>
    </ComplexSource>
    <ComplexSource>
      <SourceFilename relativeToVRT="1">ncei19_n15x00_e145x50_2022v1.tif</SourceFilename>
      <SourceBand>1</SourceBand>
      <SourceProperties RasterXSize="8112" RasterYSize="8112" DataType="Float32" BlockXSize="512" BlockYSize="512" />
      <SrcRect xOff="0" yOff="0" xSize="8112" ySize="8112" />
      <DstRect xOff="16200" yOff="16200" xSize="8112" ySize="8112" />
      <NODATA>-9999</NODATA>
    </ComplexSource>
  </VRTRasterBand>
  <OverviewList resampling="nearest">2 4 8 16</OverviewList>
</VRTDataset>
