<VRTDataset rasterXSize="16212" rasterYSize="24312">
  <SRS dataAxisToSRSAxisMapping="2,1">GEOGCS["NAD83(MA11)",DATUM["NAD83_National_Spatial_Reference_System_MA11",SPHEROID["GRS 1980",6378137,298.257222101004,AUTHORITY["EPSG","7019"]],AUTHORITY["EPSG","1118"]],PRIMEM["Greenwich",0],UNIT["degree",0.0174532925199433,AUTHORITY["EPSG","9122"]],AXIS["Latitude",NORTH],AXIS["Longitude",EAST],AUTHORITY["EPSG","6325"]]</SRS>
  <GeoTransform>  1.4449981481481487e+02,  3.0864197530770930e-05,  0.0000000000000000e+00,  1.3750185185183796e+01,  0.0000000000000000e+00, -3.0864197530768836e-05</GeoTransform>
  <VRTRasterBand dataType="Float32" band="1">
    <NoDataValue>-9999</NoDataValue>
    <ColorInterp>Gray</ColorInterp>
    <ComplexSource>
      <SourceFilename relativeToVRT="1">ncei19_n13x25_e144x50_2022v1.tif</SourceFilename>
      <SourceBand>1</SourceBand>
      <SourceProperties RasterXSize="8112" RasterYSize="8112" DataType="Float32" BlockXSize="512" BlockYSize="512" />
      <SrcRect xOff="0" yOff="0" xSize="8112" ySize="8112" />
      <DstRect xOff="0" yOff="16200" xSize="8112" ySize="8112" />
      <NODATA>-9999</NODATA>
    </ComplexSource>
    <ComplexSource>
      <SourceFilename relativeToVRT="1">ncei19_n13x50_e144x75_2022v1.tif</SourceFilename>
      <SourceBand>1</SourceBand>
      <SourceProperties RasterXSize="8112" RasterYSize="8112" DataType="Float32" BlockXSize="512" BlockYSize="512" />
      <SrcRect xOff="0" yOff="0" xSize="8112" ySize="8112" />
      <DstRect xOff="8100" yOff="8100" xSize="8112" ySize="8112" />
      <NODATA>-9999</NODATA>
    </ComplexSource>
    <ComplexSource>
      <SourceFilename relativeToVRT="1">ncei19_n13x75_e144x75_2022v1.tif</SourceFilename>
      <SourceBand>1</SourceBand>
      <SourceProperties RasterXSize="8112" RasterYSize="8112" DataType="Float32" BlockXSize="512" BlockYSize="512" />
      <SrcRect xOff="0" yOff="0" xSize="8112" ySize="8112" />
      <DstRect xOff="8100" yOff="0" xSize="8112" ySize="8112" />
      <NODATA>-9999</NODATA>
    </ComplexSource>
    <ComplexSource>
      <SourceFilename relativeToVRT="1">ncei19_n13x50_e144x50_2022v1.tif</SourceFilename>
      <SourceBand>1</SourceBand>
      <SourceProperties RasterXSize="8112" RasterYSize="8112" DataType="Float32" BlockXSize="512" BlockYSize="512" />
      <SrcRect xOff="0" yOff="0" xSize="8112" ySize="8112" />
      <DstRect xOff="0" yOff="8100" xSize="8112" ySize="8112" />
      <NODATA>-9999</NODATA>
    </ComplexSource>
  </VRTRasterBand>
  <OverviewList resampling="nearest">2 4 8 16 32</OverviewList>
</VRTDataset>
