<VRTDataset rasterXSize="10812" rasterYSize="13512">
  <SRS dataAxisToSRSAxisMapping="2,1,3">COMPD_CS["NAD83(MA11) + NMVD03 height",GEOGCS["NAD83(MA11)",DATUM["NAD83_National_Spatial_Reference_System_MA11",SPHEROID["GRS 1980",6378137,298.257222101,AUTHORITY["EPSG","7019"]],AUTHORITY["EPSG","1118"]],PRIMEM["Greenwich",0,AUTHORITY["EPSG","8901"]],UNIT["degree",0.0174532925199433,AUTHORITY["EPSG","9122"]],AXIS["Latitude",NORTH],AXIS["Longitude",EAST],AUTHORITY["EPSG","6325"]],VERT_CS["NMVD03 height",VERT_DATUM["Northern Marianas Vertical Datum of 2003",2005,AUTHORITY["EPSG","1119"]],UNIT["metre",1,AUTHORITY["EPSG","9001"]],AXIS["Gravity-related height",UP],AUTHORITY["EPSG","6640"]],AUTHORITY["EPSG","9525"]]</SRS>
  <GeoTransform>  1.4499944444444461e+02,  9.2592592592094763e-05,  0.0000000000000000e+00,  1.5500555555554373e+01,  0.0000000000000000e+00, -9.2592592592097257e-05</GeoTransform>
  <VRTRasterBand dataType="Float32" band="1">
    <NoDataValue>-9999</NoDataValue>
    <ColorInterp>Gray</ColorInterp>
    <ComplexSource>
      <SourceFilename relativeToVRT="1">ncei13_n14x50_e145x25_2022v1.tif</SourceFilename>
      <SourceBand>1</SourceBand>
      <SourceProperties RasterXSize="2712" RasterYSize="2712" DataType="Float32" BlockXSize="512" BlockYSize="512" />
      <SrcRect xOff="0" yOff="0" xSize="2712" ySize="2712" />
      <DstRect xOff="2700" yOff="10800" xSize="2712" ySize="2712" />
      <NODATA>-9999</NODATA>
    </ComplexSource>
    <ComplexSource>
      <SourceFilename relativeToVRT="1">ncei13_n14x50_e145x00_2022v1.tif</SourceFilename>
      <SourceBand>1</SourceBand>
      <SourceProperties RasterXSize="2712" RasterYSize="2712" DataType="Float32" BlockXSize="512" BlockYSize="512" />
      <SrcRect xOff="0" yOff="0" xSize="2712" ySize="2712" />
      <DstRect xOff="0" yOff="10800" xSize="2712" ySize="2712" />
      <NODATA>-9999</NODATA>
    </ComplexSource>
    <ComplexSource>
      <SourceFilename relativeToVRT="1">ncei13_n15x00_e145x75_2022v1.tif</SourceFilename>
      <SourceBand>1</SourceBand>
      <SourceProperties RasterXSize="2712" RasterYSize="2712" DataType="Float32" BlockXSize="512" BlockYSize="512" />
      <SrcRect xOff="0" yOff="0" xSize="2712" ySize="2712" />
      <DstRect xOff="8100" yOff="5400" xSize="2712" ySize="2712" />
      <NODATA>-9999</NODATA>
    </ComplexSource>
    <ComplexSource>
      <SourceFilename relativeToVRT="1">ncei13_n15x50_e145x50_2022v1.tif</SourceFilename>
      <SourceBand>1</SourceBand>
      <SourceProperties RasterXSize="2712" RasterYSize="2712" DataType="Float32" BlockXSize="512" BlockYSize="512" />
      <SrcRect xOff="0" yOff="0" xSize="2712" ySize="2712" />
      <DstRect xOff="5400" yOff="0" xSize="2712" ySize="2712" />
      <NODATA>-9999</NODATA>
    </ComplexSource>
  </VRTRasterBand>
  <OverviewList resampling="nearest">2 4 8</OverviewList>
</VRTDataset>
