<VRTDataset rasterXSize="100000" rasterYSize="80000">
  <SRS dataAxisToSRSAxisMapping="1,2">PROJCS["NAD83(2011) / North Carolina (ftUS)",GEOGCS["NAD83(2011)",DATUM["NAD83_National_Spatial_Reference_System_2011",SPHEROID["GRS 1980",6378137,298.257222101,AUTHORITY["EPSG","7019"]],AUTHORITY["EPSG","1116"]],PRIMEM["Greenwich",0,AUTHORITY["EPSG","8901"]],UNIT["degree",0.0174532925199433,AUTHORITY["EPSG","9122"]],AUTHORITY["EPSG","6318"]],PROJECTION["Lambert_Conformal_Conic_2SP"],PARAMETER["latitude_of_origin",33.75],PARAMETER["central_meridian",-79],PARAMETER["standard_parallel_1",36.1666666666667],PARAMETER["standard_parallel_2",34.3333333333333],PARAMETER["false_easting",2000000],PARAMETER["false_northing",0],UNIT["US survey foot",0.304800609601219,AUTHORITY["EPSG","9003"]],AXIS["Easting",EAST],AXIS["Northing",NORTH],AUTHORITY["EPSG","6543"]]</SRS>
  <GeoTransform>  9.6250000000000000e+05,  3.1250000000000000e+00,  0.0000000000000000e+00,  9.7499999999999825e+05,  0.0000000000000000e+00, -3.1250000000000000e+00</GeoTransform>
  <VRTRasterBand dataType="Float32" band="1">
    <NoDataValue>-999999</NoDataValue>
    <ColorInterp>Gray</ColorInterp>
    <ComplexSource>
      <SourceFilename relativeToVRT="1">Helene_DEMs/D03_37_10186708_20251130.tif</SourceFilename>
      <SourceBand>1</SourceBand>
      <SourceProperties RasterXSize="800" RasterYSize="800" DataType="Float32" BlockXSize="512" BlockYSize="512" />
      <SrcRect xOff="0" yOff="0" xSize="800" ySize="800" />
      <DstRect xOff="65600" yOff="30400" xSize="800" ySize="800" />
      <NODATA>-999999</NODATA>
    </ComplexSource>
    <ComplexSource>
      <SourceFilename relativeToVRT="1">Helene_DEMs/D03_37_10186712_20251130.tif</SourceFilename>
      <SourceBand>1</SourceBand>
      <SourceProperties RasterXSize="800" RasterYSize="800" DataType="Float32" BlockXSize="512" BlockYSize="512" />
      <SrcRect xOff="0" yOff="0" xSize="800" ySize="800" />
      <DstRect xOff="65600" yOff="31200" xSize="800" ySize="800" />
      <NODATA>-999999</NODATA>
    </ComplexSource>
    <ComplexSource>
      <SourceFilename relativeToVRT="1">Helene_DEMs/D03_37_10186807_20251130.tif</SourceFilename>
      <SourceBand>1</SourceBand>
      <SourceProperties RasterXSize="800" RasterYSize="800" DataType="Float32" BlockXSize="512" BlockYSize="512" />
      <SrcRect xOff="0" yOff="0" xSize="800" ySize="800" />
      <DstRect xOff="64800" yOff="27200" xSize="800" ySize="800" />
      <NODATA>-999999</NODATA>
    </ComplexSource>
    <ComplexSource>
      <SourceFilename relativeToVRT="1">Helene_DEMs/D03_37_10186808_20251130.tif</SourceFilename>
      <SourceBand>1</SourceBand>
      <SourceProperties RasterXSize="800" RasterYSize="800" DataType="Float32" BlockXSize="512" BlockYSize="512" />
      <SrcRect xOff="0" yOff="0" xSize="800" ySize="800" />
      <DstRect xOff="65600" yOff="27200" xSize="800" ySize="800" />
      <NODATA>-999999</NODATA>
    </ComplexSource>
    <ComplexSource>
      <SourceFilename relativeToVRT="1">Helene_DEMs/D03_37_10186812_20251130.tif</SourceFilename>
      <SourceBand>1</SourceBand>
      <SourceProperties RasterXSize="800" RasterYSize="800" DataType="Float32" BlockXSize="512" BlockYSize="512" />
      <SrcRect xOff="0" yOff="0" xSize="800" ySize="800" />
      <DstRect xOff="65600" yOff="28000" xSize="800" ySize="800" />
      <NODATA>-999999</NODATA>
    </ComplexSource>
    <ComplexSource>
      <SourceFilename relativeToVRT="1">Helene_DEMs/D03_37_10186816_20251130.tif</SourceFilename>
      <SourceBand>1</SourceBand>
      <SourceProperties RasterXSize="800" RasterYSize="800" DataType="Float32" BlockXSize="512" BlockYSize="512" />
      <SrcRect xOff="0" yOff="0" xSize="800" ySize="800" />
      <DstRect xOff="65600" yOff="28800" xSize="800" ySize="800" />
      <NODATA>-999999</NODATA>
    </ComplexSource>
    <ComplexSource>
      <SourceFilename relativeToVRT="1">Helene_DEMs/D03_37_10186820_20251130.tif</SourceFilename>
      <SourceBand>1</SourceBand>
      <SourceProperties RasterXSize="800" RasterYSize="800" DataType="Float32" BlockXSize="512" BlockYSize="512" />
      <SrcRect xOff="0" yOff="0" xSize="800" ySize="800" />
      <DstRect xOff="65600" yOff="29600" xSize="800" ySize="800" />
      <NODATA>-999999</NODATA>
    </ComplexSource>
    <ComplexSource>
      <SourceFilename relativeToVRT="1">Helene_DEMs/D03_37_10186905_20251130.tif</SourceFilename>
      <SourceBand>1</SourceBand>
      <SourceProperties RasterXSize="800" RasterYSize="800" DataType="Float32" BlockXSize="512" BlockYSize="512" />
      <SrcRect xOff="0" yOff="0" xSize="800" ySize="800" />
      <DstRect xOff="63200" yOff="24000" xSize="800" ySize="800" />
      <NODATA>-999999</NODATA>
    </ComplexSource>
    <ComplexSource>
      <SourceFilename relativeToVRT="1">Helene_DEMs/D03_37_10186906_20251130.tif</SourceFilename>
      <SourceBand>1</SourceBand>
      <SourceProperties RasterXSize="800" RasterYSize="800" DataType="Float32" BlockXSize="512" BlockYSize="512" />
      <SrcRect xOff="0" yOff="0" xSize="800" ySize="800" />
      <DstRect xOff="64000" yOff="24000" xSize="800" ySize="800" />
      <NODATA>-999999</NODATA>
    </ComplexSource>
    <ComplexSource>
      <SourceFilename relativeToVRT="1">Helene_DEMs/D03_37_10186907_20251130.tif</SourceFilename>
      <SourceBand>1</SourceBand>
      <SourceProperties RasterXSize="800" RasterYSize="800" DataType="Float32" BlockXSize="512" BlockYSize="512" />
      <SrcRect xOff="0" yOff="0" xSize="800" ySize="800" />
      <DstRect xOff="64800" yOff="24000" xSize="800" ySize="800" />
      <NODATA>-999999</NODATA>
    </ComplexSource>
    <ComplexSource>
      <SourceFilename relativeToVRT="1">Helene_DEMs/D03_37_10186908_20251130.tif</SourceFilename>
      <SourceBand>1</SourceBand>
      <SourceProperties RasterXSize="800" RasterYSize="800" DataType="Float32" BlockXSize="512" BlockYSize="512" />
      <SrcRect xOff="0" yOff="0" xSize="800" ySize="800" />
      <DstRect xOff="65600" yOff="24000" xSize="800" ySize="800" />
      <NODATA>-999999</NODATA>
    </ComplexSource>
    <ComplexSource>
      <SourceFilename relativeToVRT="1">Helene_DEMs/D03_37_10186909_20251130.tif</SourceFilename>
      <SourceBand>1</SourceBand>
      <SourceProperties RasterXSize="800" RasterYSize="800" DataType="Float32" BlockXSize="512" BlockYSize="512" />
      <SrcRect xOff="0" yOff="0" xSize="800" ySize="800" />
      <DstRect xOff="63200" yOff="24800" xSize="800" ySize="800" />
      <NODATA>-999999</NODATA>
    </ComplexSource>
    <ComplexSource>
      <SourceFilename relativeToVRT="1">Helene_DEMs/D03_37_10186910_20251130.tif</SourceFilename>
      <SourceBand>1</SourceBand>
      <SourceProperties RasterXSize="800" RasterYSize="800" DataType="Float32" BlockXSize="512" BlockYSize="512" />
      <SrcRect xOff="0" yOff="0" xSize="800" ySize="800" />
      <DstRect xOff="64000" yOff="24800" xSize="800" ySize="800" />
      <NODATA>-999999</NODATA>
    </ComplexSource>
    <ComplexSource>
      <SourceFilename relativeToVRT="1">Helene_DEMs/D03_37_10186911_20251130.tif</SourceFilename>
      <SourceBand>1</SourceBand>
      <SourceProperties RasterXSize="800" RasterYSize="800" DataType="Float32" BlockXSize="512" BlockYSize="512" />
      <SrcRect xOff="0" yOff="0" xSize="800" ySize="800" />
      <DstRect xOff="64800" yOff="24800" xSize="800" ySize="800" />
      <NODATA>-999999</NODATA>
    </ComplexSource>
    <ComplexSource>
      <SourceFilename relativeToVRT="1">Helene_DEMs/D03_37_10186912_20251130.tif</SourceFilename>
      <SourceBand>1</SourceBand>
      <SourceProperties RasterXSize="800" RasterYSize="800" DataType="Float32" BlockXSize="512" BlockYSize="512" />
      <SrcRect xOff="0" yOff="0" xSize="800" ySize="800" />
      <DstRect xOff="65600" yOff="24800" xSize="800" ySize="800" />
      <NODATA>-999999</NODATA>
    </ComplexSource>
    <ComplexSource>
      <SourceFilename relativeToVRT="1">Helene_DEMs/D03_37_10186914_20251130.tif</SourceFilename>
      <SourceBand>1</SourceBand>
      <SourceProperties RasterXSize="800" RasterYSize="800" DataType="Float32" BlockXSize="512" BlockYSize="512" />
      <SrcRect xOff="0" yOff="0" xSize="800" ySize="800" />
      <DstRect xOff="64000" yOff="25600" xSize="800" ySize="800" />
      <NODATA>-999999</NODATA>
    </ComplexSource>
    <ComplexSource>
      <SourceFilename relativeToVRT="1">Helene_DEMs/D03_37_10186915_20251130.tif</SourceFilename>
      <SourceBand>1</SourceBand>
      <SourceProperties RasterXSize="800" RasterYSize="800" DataType="Float32" BlockXSize="512" BlockYSize="512" />
      <SrcRect xOff="0" yOff="0" xSize="800" ySize="800" />
      <DstRect xOff="64800" yOff="25600" xSize="800" ySize="800" />
      <NODATA>-999999</NODATA>
    </ComplexSource>
    <ComplexSource>
      <SourceFilename relativeToVRT="1">Helene_DEMs/D03_37_10186916_20251130.tif</SourceFilename>
      <SourceBand>1</SourceBand>
      <SourceProperties RasterXSize="800" RasterYSize="800" DataType="Float32" BlockXSize="512" BlockYSize="512" />
      <SrcRect xOff="0" yOff="0" xSize="800" ySize="800" />
      <DstRect xOff="65600" yOff="25600" xSize="800" ySize="800" />
      <NODATA>-999999</NODATA>
    </ComplexSource>
    <ComplexSource>
      <SourceFilename relativeToVRT="1">Helene_DEMs/D03_37_10186919_20251130.tif</SourceFilename>
      <SourceBand>1</SourceBand>
      <SourceProperties RasterXSize="800" RasterYSize="800" DataType="Float32" BlockXSize="512" BlockYSize="512" />
      <SrcRect xOff="0" yOff="0" xSize="800" ySize="800" />
      <DstRect xOff="64800" yOff="26400" xSize="800" ySize="800" />
      <NODATA>-999999</NODATA>
    </ComplexSource>
    <ComplexSource>
      <SourceFilename relativeToVRT="1">Helene_DEMs/D03_37_10186920_20251130.tif</SourceFilename>
      <SourceBand>1</SourceBand>
      <SourceProperties RasterXSize="800" RasterYSize="800" DataType="Float32" BlockXSize="512" BlockYSize="512" />
      <SrcRect xOff="0" yOff="0" xSize="800" ySize="800" />
      <DstRect xOff="65600" yOff="26400" xSize="800" ySize="800" />
      <NODATA>-999999</NODATA>
    </ComplexSource>
    <ComplexSource>
      <SourceFilename relativeToVRT="1">Helene_DEMs/D03_37_10187705_20251130.tif</SourceFilename>
      <SourceBand>1</SourceBand>
      <SourceProperties RasterXSize="800" RasterYSize="800" DataType="Float32" BlockXSize="512" BlockYSize="512" />
      <SrcRect xOff="0" yOff="0" xSize="800" ySize="800" />
      <DstRect xOff="66400" yOff="30400" xSize="800" ySize="800" />
      <NODATA>-999999</NODATA>
    </ComplexSource>
    <ComplexSource>
      <SourceFilename relativeToVRT="1">Helene_DEMs/D03_37_10187706_20251130.tif</SourceFilename>
      <SourceBand>1</SourceBand>
      <SourceProperties RasterXSize="800" RasterYSize="800" DataType="Float32" BlockXSize="512" BlockYSize="512" />
      <SrcRect xOff="0" yOff="0" xSize="800" ySize="800" />
      <DstRect xOff="67200" yOff="30400" xSize="800" ySize="800" />
      <NODATA>-999999</NODATA>
    </ComplexSource>
    <ComplexSource>
      <SourceFilename relativeToVRT="1">Helene_DEMs/D03_37_10187707_20251130.tif</SourceFilename>
      <SourceBand>1</SourceBand>
      <SourceProperties RasterXSize="800" RasterYSize="800" DataType="Float32" BlockXSize="512" BlockYSize="512" />
      <SrcRect xOff="0" yOff="0" xSize="800" ySize="800" />
      <DstRect xOff="68000" yOff="30400" xSize="800" ySize="800" />
      <NODATA>-999999</NODATA>
    </ComplexSource>
    <ComplexSource>
      <SourceFilename relativeToVRT="1">Helene_DEMs/D03_37_10187708_20251130.tif</SourceFilename>
      <SourceBand>1</SourceBand>
      <SourceProperties RasterXSize="800" RasterYSize="800" DataType="Float32" BlockXSize="512" BlockYSize="512" />
      <SrcRect xOff="0" yOff="0" xSize="800" ySize="800" />
      <DstRect xOff="68800" yOff="30400" xSize="800" ySize="800" />
      <NODATA>-999999</NODATA>
    </ComplexSource>
    <ComplexSource>
      <SourceFilename relativeToVRT="1">Helene_DEMs/D03_37_10187709_20251130.tif</SourceFilename>
      <SourceBand>1</SourceBand>
      <SourceProperties RasterXSize="800" RasterYSize="800" DataType="Float32" BlockXSize="512" BlockYSize="512" />
      <SrcRect xOff="0" yOff="0" xSize="800" ySize="800" />
      <DstRect xOff="66400" yOff="31200" xSize="800" ySize="800" />
      <NODATA>-999999</NODATA>
    </ComplexSource>
    <ComplexSource>
      <SourceFilename relativeToVRT="1">Helene_DEMs/D03_37_10187710_20251130.tif</SourceFilename>
      <SourceBand>1</SourceBand>
      <SourceProperties RasterXSize="800" RasterYSize="800" DataType="Float32" BlockXSize="512" BlockYSize="512" />
      <SrcRect xOff="0" yOff="0" xSize="800" ySize="800" />
      <DstRect xOff="67200" yOff="31200" xSize="800" ySize="800" />
      <NODATA>-999999</NODATA>
    </ComplexSource>
    <ComplexSource>
      <SourceFilename relativeToVRT="1">Helene_DEMs/D03_37_10187711_20251130.tif</SourceFilename>
      <SourceBand>1</SourceBand>
      <SourceProperties RasterXSize="800" RasterYSize="800" DataType="Float32" BlockXSize="512" BlockYSize="512" />
      <SrcRect xOff="0" yOff="0" xSize="800" ySize="800" />
      <DstRect xOff="68000" yOff="31200" xSize="800" ySize="800" />
      <NODATA>-999999</NODATA>
    </ComplexSource>
    <ComplexSource>
      <SourceFilename relativeToVRT="1">Helene_DEMs/D03_37_10187712_20251130.tif</SourceFilename>
      <SourceBand>1</SourceBand>
      <SourceProperties RasterXSize="800" RasterYSize="800" DataType="Float32" BlockXSize="512" BlockYSize="512" />
      <SrcRect xOff="0" yOff="0" xSize="800" ySize="800" />
      <DstRect xOff="68800" yOff="31200" xSize="800" ySize="800" />
      <NODATA>-999999</NODATA>
    </ComplexSource>
    <ComplexSource>
      <SourceFilename relativeToVRT="1">Helene_DEMs/D03_37_10187713_20251130.tif</SourceFilename>
      <SourceBand>1</SourceBand>
      <SourceProperties RasterXSize="800" RasterYSize="800" DataType="Float32" BlockXSize="512" BlockYSize="512" />
      <SrcRect xOff="0" yOff="0" xSize="800" ySize="800" />
      <DstRect xOff="66400" yOff="32000" xSize="800" ySize="800" />
      <NODATA>-999999</NODATA>
    </ComplexSource>
    <ComplexSource>
      <SourceFilename relativeToVRT="1">Helene_DEMs/D03_37_10187714_20251130.tif</SourceFilename>
      <SourceBand>1</SourceBand>
      <SourceProperties RasterXSize="800" RasterYSize="800" DataType="Float32" BlockXSize="512" BlockYSize="512" />
      <SrcRect xOff="0" yOff="0" xSize="800" ySize="800" />
      <DstRect xOff="67200" yOff="32000" xSize="800" ySize="800" />
      <NODATA>-999999</NODATA>
    </ComplexSource>
    <ComplexSource>
      <SourceFilename relativeToVRT="1">Helene_DEMs/D03_37_10187715_20251130.tif</SourceFilename>
      <SourceBand>1</SourceBand>
      <SourceProperties RasterXSize="800" RasterYSize="800" DataType="Float32" BlockXSize="512" BlockYSize="512" />
      <SrcRect xOff="0" yOff="0" xSize="800" ySize="800" />
      <DstRect xOff="68000" yOff="32000" xSize="800" ySize="800" />
      <NODATA>-999999</NODATA>
    </ComplexSource>
    <ComplexSource>
      <SourceFilename relativeToVRT="1">Helene_DEMs/D03_37_10187716_20251130.tif</SourceFilename>
      <SourceBand>1</SourceBand>
      <SourceProperties RasterXSize="800" RasterYSize="800" DataType="Float32" BlockXSize="512" BlockYSize="512" />
      <SrcRect xOff="0" yOff="0" xSize="800" ySize="800" />
      <DstRect xOff="68800" yOff="32000" xSize="800" ySize="800" />
      <NODATA>-999999</NODATA>
    </ComplexSource>
    <ComplexSource>
      <SourceFilename relativeToVRT="1">Helene_DEMs/D03_37_10187805_20251130.tif</SourceFilename>
      <SourceBand>1</SourceBand>
      <SourceProperties RasterXSize="800" RasterYSize="800" DataType="Float32" BlockXSize="512" BlockYSize="512" />
      <SrcRect xOff="0" yOff="0" xSize="800" ySize="800" />
      <DstRect xOff="66400" yOff="27200" xSize="800" ySize="800" />
      <NODATA>-999999</NODATA>
    </ComplexSource>
    <ComplexSource>
      <SourceFilename relativeToVRT="1">Helene_DEMs/D03_37_10187806_20251130.tif</SourceFilename>
      <SourceBand>1</SourceBand>
      <SourceProperties RasterXSize="800" RasterYSize="800" DataType="Float32" BlockXSize="512" BlockYSize="512" />
      <SrcRect xOff="0" yOff="0" xSize="800" ySize="800" />
      <DstRect xOff="67200" yOff="27200" xSize="800" ySize="800" />
      <NODATA>-999999</NODATA>
    </ComplexSource>
    <ComplexSource>
      <SourceFilename relativeToVRT="1">Helene_DEMs/D03_37_10187807_20251130.tif</SourceFilename>
      <SourceBand>1</SourceBand>
      <SourceProperties RasterXSize="800" RasterYSize="800" DataType="Float32" BlockXSize="512" BlockYSize="512" />
      <SrcRect xOff="0" yOff="0" xSize="800" ySize="800" />
      <DstRect xOff="68000" yOff="27200" xSize="800" ySize="800" />
      <NODATA>-999999</NODATA>
    </ComplexSource>
    <ComplexSource>
      <SourceFilename relativeToVRT="1">Helene_DEMs/D03_37_10187808_20251130.tif</SourceFilename>
      <SourceBand>1</SourceBand>
      <SourceProperties RasterXSize="800" RasterYSize="800" DataType="Float32" BlockXSize="512" BlockYSize="512" />
      <SrcRect xOff="0" yOff="0" xSize="800" ySize="800" />
      <DstRect xOff="68800" yOff="27200" xSize="800" ySize="800" />
      <NODATA>-999999</NODATA>
    </ComplexSource>
    <ComplexSource>
      <SourceFilename relativeToVRT="1">Helene_DEMs/D03_37_10187809_20251130.tif</SourceFilename>
      <SourceBand>1</SourceBand>
      <SourceProperties RasterXSize="800" RasterYSize="800" DataType="Float32" BlockXSize="512" BlockYSize="512" />
      <SrcRect xOff="0" yOff="0" xSize="800" ySize="800" />
      <DstRect xOff="66400" yOff="28000" xSize="800" ySize="800" />
      <NODATA>-999999</NODATA>
    </ComplexSource>
    <ComplexSource>
      <SourceFilename relativeToVRT="1">Helene_DEMs/D03_37_10187810_20251130.tif</SourceFilename>
      <SourceBand>1</SourceBand>
      <SourceProperties RasterXSize="800" RasterYSize="800" DataType="Float32" BlockXSize="512" BlockYSize="512" />
      <SrcRect xOff="0" yOff="0" xSize="800" ySize="800" />
      <DstRect xOff="67200" yOff="28000" xSize="800" ySize="800" />
      <NODATA>-999999</NODATA>
    </ComplexSource>
    <ComplexSource>
      <SourceFilename relativeToVRT="1">Helene_DEMs/D03_37_10187811_20251130.tif</SourceFilename>
      <SourceBand>1</SourceBand>
      <SourceProperties RasterXSize="800" RasterYSize="800" DataType="Float32" BlockXSize="512" BlockYSize="512" />
      <SrcRect xOff="0" yOff="0" xSize="800" ySize="800" />
      <DstRect xOff="68000" yOff="28000" xSize="800" ySize="800" />
      <NODATA>-999999</NODATA>
    </ComplexSource>
    <ComplexSource>
      <SourceFilename relativeToVRT="1">Helene_DEMs/D03_37_10187812_20251130.tif</SourceFilename>
      <SourceBand>1</SourceBand>
      <SourceProperties RasterXSize="800" RasterYSize="800" DataType="Float32" BlockXSize="512" BlockYSize="512" />
      <SrcRect xOff="0" yOff="0" xSize="800" ySize="800" />
      <DstRect xOff="68800" yOff="28000" xSize="800" ySize="800" />
      <NODATA>-999999</NODATA>
    </ComplexSource>
    <ComplexSource>
      <SourceFilename relativeToVRT="1">Helene_DEMs/D03_37_10187813_20251130.tif</SourceFilename>
      <SourceBand>1</SourceBand>
      <SourceProperties RasterXSize="800" RasterYSize="800" DataType="Float32" BlockXSize="512" BlockYSize="512" />
      <SrcRect xOff="0" yOff="0" xSize="800" ySize="800" />
      <DstRect xOff="66400" yOff="28800" xSize="800" ySize="800" />
      <NODATA>-999999</NODATA>
    </ComplexSource>
    <ComplexSource>
      <SourceFilename relativeToVRT="1">Helene_DEMs/D03_37_10187814_20251130.tif</SourceFilename>
      <SourceBand>1</SourceBand>
      <SourceProperties RasterXSize="800" RasterYSize="800" DataType="Float32" BlockXSize="512" BlockYSize="512" />
      <SrcRect xOff="0" yOff="0" xSize="800" ySize="800" />
      <DstRect xOff="67200" yOff="28800" xSize="800" ySize="800" />
      <NODATA>-999999</NODATA>
    </ComplexSource>
    <ComplexSource>
      <SourceFilename relativeToVRT="1">Helene_DEMs/D03_37_10187815_20251130.tif</SourceFilename>
      <SourceBand>1</SourceBand>
      <SourceProperties RasterXSize="800" RasterYSize="800" DataType="Float32" BlockXSize="512" BlockYSize="512" />
      <SrcRect xOff="0" yOff="0" xSize="800" ySize="800" />
      <DstRect xOff="68000" yOff="28800" xSize="800" ySize="800" />
      <NODATA>-999999</NODATA>
    </ComplexSource>
    <ComplexSource>
      <SourceFilename relativeToVRT="1">Helene_DEMs/D03_37_10187816_20251130.tif</SourceFilename>
      <SourceBand>1</SourceBand>
      <SourceProperties RasterXSize="800" RasterYSize="800" DataType="Float32" BlockXSize="512" BlockYSize="512" />
      <SrcRect xOff="0" yOff="0" xSize="800" ySize="800" />
      <DstRect xOff="68800" yOff="28800" xSize="800" ySize="800" />
      <NODATA>-999999</NODATA>
    </ComplexSource>
    <ComplexSource>
      <SourceFilename relativeToVRT="1">Helene_DEMs/D03_37_10187817_20251130.tif</SourceFilename>
      <SourceBand>1</SourceBand>
      <SourceProperties RasterXSize="800" RasterYSize="800" DataType="Float32" BlockXSize="512" BlockYSize="512" />
      <SrcRect xOff="0" yOff="0" xSize="800" ySize="800" />
      <DstRect xOff="66400" yOff="29600" xSize="800" ySize="800" />
      <NODATA>-999999</NODATA>
    </ComplexSource>
    <ComplexSource>
      <SourceFilename relativeToVRT="1">Helene_DEMs/D03_37_10187818_20251130.tif</SourceFilename>
      <SourceBand>1</SourceBand>
      <SourceProperties RasterXSize="800" RasterYSize="800" DataType="Float32" BlockXSize="512" BlockYSize="512" />
      <SrcRect xOff="0" yOff="0" xSize="800" ySize="800" />
      <DstRect xOff="67200" yOff="29600" xSize="800" ySize="800" />
      <NODATA>-999999</NODATA>
    </ComplexSource>
    <ComplexSource>
      <SourceFilename relativeToVRT="1">Helene_DEMs/D03_37_10187819_20251130.tif</SourceFilename>
      <SourceBand>1</SourceBand>
      <SourceProperties RasterXSize="800" RasterYSize="800" DataType="Float32" BlockXSize="512" BlockYSize="512" />
      <SrcRect xOff="0" yOff="0" xSize="800" ySize="800" />
      <DstRect xOff="68000" yOff="29600" xSize="800" ySize="800" />
      <NODATA>-999999</NODATA>
    </ComplexSource>
    <ComplexSource>
      <SourceFilename relativeToVRT="1">Helene_DEMs/D03_37_10187820_20251130.tif</SourceFilename>
      <SourceBand>1</SourceBand>
      <SourceProperties RasterXSize="800" RasterYSize="800" DataType="Float32" BlockXSize="512" BlockYSize="512" />
      <SrcRect xOff="0" yOff="0" xSize="800" ySize="800" />
      <DstRect xOff="68800" yOff="29600" xSize="800" ySize="800" />
      <NODATA>-999999</NODATA>
    </ComplexSource>
    <ComplexSource>
      <SourceFilename relativeToVRT="1">Helene_DEMs/D03_37_10187905_20251130.tif</SourceFilename>
      <SourceBand>1</SourceBand>
      <SourceProperties RasterXSize="800" RasterYSize="800" DataType="Float32" BlockXSize="512" BlockYSize="512" />
      <SrcRect xOff="0" yOff="0" xSize="800" ySize="800" />
      <DstRect xOff="66400" yOff="24000" xSize="800" ySize="800" />
      <NODATA>-999999</NODATA>
    </ComplexSource>
    <ComplexSource>
      <SourceFilename relativeToVRT="1">Helene_DEMs/D03_37_10187906_20251130.tif</SourceFilename>
      <SourceBand>1</SourceBand>
      <SourceProperties RasterXSize="800" RasterYSize="800" DataType="Float32" BlockXSize="512" BlockYSize="512" />
      <SrcRect xOff="0" yOff="0" xSize="800" ySize="800" />
      <DstRect xOff="67200" yOff="24000" xSize="800" ySize="800" />
      <NODATA>-999999</NODATA>
    </ComplexSource>
    <ComplexSource>
      <SourceFilename relativeToVRT="1">Helene_DEMs/D03_37_10187907_20251130.tif</SourceFilename>
      <SourceBand>1</SourceBand>
      <SourceProperties RasterXSize="800" RasterYSize="800" DataType="Float32" BlockXSize="512" BlockYSize="512" />
      <SrcRect xOff="0" yOff="0" xSize="800" ySize="800" />
      <DstRect xOff="68000" yOff="24000" xSize="800" ySize="800" />
      <NODATA>-999999</NODATA>
    </ComplexSource>
    <ComplexSource>
