<VRTDataset rasterXSize="220000" rasterYSize="450000">
  <SRS dataAxisToSRSAxisMapping="1,2">PROJCS["NAD83(2011) / UTM zone 17N",GEOGCS["NAD83(2011)",DATUM["NAD83_National_Spatial_Reference_System_2011",SPHEROID["GRS 1980",6378137,298.257222101004,AUTHORITY["EPSG","7019"]],AUTHORITY["EPSG","1116"]],PRIMEM["Greenwich",0],UNIT["degree",0.0174532925199433,AUTHORITY["EPSG","9122"]],AUTHORITY["EPSG","6318"]],PROJECTION["Transverse_Mercator"],PARAMETER["latitude_of_origin",0],PARAMETER["central_meridian",-81],PARAMETER["scale_factor",0.9996],PARAMETER["false_easting",500000],PARAMETER["false_northing",0],UNIT["metre",1,AUTHORITY["EPSG","9001"]],AXIS["Easting",EAST],AXIS["Northing",NORTH],AUTHORITY["EPSG","6346"]]</SRS>
  <GeoTransform>  5.4000000000000000e+05,  1.0000000000000000e+00,  0.0000000000000000e+00,  4.7400000000000000e+06,  0.0000000000000000e+00, -1.0000000000000000e+00</GeoTransform>
  <VRTRasterBand dataType="Float32" band="1">
    <NoDataValue>-999999</NoDataValue>
    <ColorInterp>Gray</ColorInterp>
    <ComplexSource>
      <SourceFilename relativeToVRT="1">block01/2024_640000e_4665000n_dem.tif</SourceFilename>
      <SourceBand>1</SourceBand>
      <SourceProperties RasterXSize="5000" RasterYSize="5000" DataType="Float32" BlockXSize="64" BlockYSize="64" />
      <SrcRect xOff="0" yOff="0" xSize="5000" ySize="5000" />
      <DstRect xOff="100000" yOff="75000" xSize="5000" ySize="5000" />
      <NODATA>-999999</NODATA>
    </ComplexSource>
    <ComplexSource>
      <SourceFilename relativeToVRT="1">block01/2024_645000e_4665000n_dem.tif</SourceFilename>
      <SourceBand>1</SourceBand>
      <SourceProperties RasterXSize="5000" RasterYSize="5000" DataType="Float32" BlockXSize="64" BlockYSize="64" />
      <SrcRect xOff="0" yOff="0" xSize="5000" ySize="5000" />
      <DstRect xOff="105000" yOff="75000" xSize="5000" ySize="5000" />
      <NODATA>-999999</NODATA>
    </ComplexSource>
    <ComplexSource>
      <SourceFilename relativeToVRT="1">block01/2024_645000e_4670000n_dem.tif</SourceFilename>
      <SourceBand>1</SourceBand>
      <SourceProperties RasterXSize="5000" RasterYSize="5000" DataType="Float32" BlockXSize="64" BlockYSize="64" />
      <SrcRect xOff="0" yOff="0" xSize="5000" ySize="5000" />
      <DstRect xOff="105000" yOff="70000" xSize="5000" ySize="5000" />
      <NODATA>-999999</NODATA>
    </ComplexSource>
    <ComplexSource>
      <SourceFilename relativeToVRT="1">block01/2024_650000e_4650000n_dem.tif</SourceFilename>
      <SourceBand>1</SourceBand>
      <SourceProperties RasterXSize="5000" RasterYSize="5000" DataType="Float32" BlockXSize="64" BlockYSize="64" />
      <SrcRect xOff="0" yOff="0" xSize="5000" ySize="5000" />
      <DstRect xOff="110000" yOff="90000" xSize="5000" ySize="5000" />
      <NODATA>-999999</NODATA>
    </ComplexSource>
    <ComplexSource>
      <SourceFilename relativeToVRT="1">block01/2024_650000e_4655000n_dem.tif</SourceFilename>
      <SourceBand>1</SourceBand>
      <SourceProperties RasterXSize="5000" RasterYSize="5000" DataType="Float32" BlockXSize="64" BlockYSize="64" />
      <SrcRect xOff="0" yOff="0" xSize="5000" ySize="5000" />
      <DstRect xOff="110000" yOff="85000" xSize="5000" ySize="5000" />
      <NODATA>-999999</NODATA>
    </ComplexSource>
    <ComplexSource>
      <SourceFilename relativeToVRT="1">block01/2024_650000e_4660000n_dem.tif</SourceFilename>
      <SourceBand>1</SourceBand>
      <SourceProperties RasterXSize="5000" RasterYSize="5000" DataType="Float32" BlockXSize="64" BlockYSize="64" />
      <SrcRect xOff="0" yOff="0" xSize="5000" ySize="5000" />
      <DstRect xOff="110000" yOff="80000" xSize="5000" ySize="5000" />
      <NODATA>-999999</NODATA>
    </ComplexSource>
    <ComplexSource>
      <SourceFilename relativeToVRT="1">block01/2024_650000e_4665000n_dem.tif</SourceFilename>
      <SourceBand>1</SourceBand>
      <SourceProperties RasterXSize="5000" RasterYSize="5000" DataType="Float32" BlockXSize="64" BlockYSize="64" />
      <SrcRect xOff="0" yOff="0" xSize="5000" ySize="5000" />
      <DstRect xOff="110000" yOff="75000" xSize="5000" ySize="5000" />
      <NODATA>-999999</NODATA>
    </ComplexSource>
    <ComplexSource>
      <SourceFilename relativeToVRT="1">block01/2024_650000e_4670000n_dem.tif</SourceFilename>
      <SourceBand>1</SourceBand>
      <SourceProperties RasterXSize="5000" RasterYSize="5000" DataType="Float32" BlockXSize="64" BlockYSize="64" />
      <SrcRect xOff="0" yOff="0" xSize="5000" ySize="5000" />
      <DstRect xOff="110000" yOff="70000" xSize="5000" ySize="5000" />
      <NODATA>-999999</NODATA>
    </ComplexSource>
    <ComplexSource>
      <SourceFilename relativeToVRT="1">block01/2024_655000e_4650000n_dem.tif</SourceFilename>
      <SourceBand>1</SourceBand>
      <SourceProperties RasterXSize="5000" RasterYSize="5000" DataType="Float32" BlockXSize="64" BlockYSize="64" />
      <SrcRect xOff="0" yOff="0" xSize="5000" ySize="5000" />
      <DstRect xOff="115000" yOff="90000" xSize="5000" ySize="5000" />
      <NODATA>-999999</NODATA>
    </ComplexSource>
    <ComplexSource>
      <SourceFilename relativeToVRT="1">block01/2024_660000e_4635000n_dem.tif</SourceFilename>
      <SourceBand>1</SourceBand>
      <SourceProperties RasterXSize="5000" RasterYSize="5000" DataType="Float32" BlockXSize="64" BlockYSize="64" />
      <SrcRect xOff="0" yOff="0" xSize="5000" ySize="5000" />
      <DstRect xOff="120000" yOff="105000" xSize="5000" ySize="5000" />
      <NODATA>-999999</NODATA>
    </ComplexSource>
    <ComplexSource>
      <SourceFilename relativeToVRT="1">block01/2024_660000e_4640000n_dem.tif</SourceFilename>
      <SourceBand>1</SourceBand>
      <SourceProperties RasterXSize="5000" RasterYSize="5000" DataType="Float32" BlockXSize="64" BlockYSize="64" />
      <SrcRect xOff="0" yOff="0" xSize="5000" ySize="5000" />
      <DstRect xOff="120000" yOff="100000" xSize="5000" ySize="5000" />
      <NODATA>-999999</NODATA>
    </ComplexSource>
    <ComplexSource>
      <SourceFilename relativeToVRT="1">block01/2024_665000e_4635000n_dem.tif</SourceFilename>
      <SourceBand>1</SourceBand>
      <SourceProperties RasterXSize="5000" RasterYSize="5000" DataType="Float32" BlockXSize="64" BlockYSize="64" />
      <SrcRect xOff="0" yOff="0" xSize="5000" ySize="5000" />
      <DstRect xOff="125000" yOff="105000" xSize="5000" ySize="5000" />
      <NODATA>-999999</NODATA>
    </ComplexSource>
    <ComplexSource>
      <SourceFilename relativeToVRT="1">block01/2024_665000e_4640000n_dem.tif</SourceFilename>
      <SourceBand>1</SourceBand>
      <SourceProperties RasterXSize="5000" RasterYSize="5000" DataType="Float32" BlockXSize="64" BlockYSize="64" />
      <SrcRect xOff="0" yOff="0" xSize="5000" ySize="5000" />
      <DstRect xOff="125000" yOff="100000" xSize="5000" ySize="5000" />
      <NODATA>-999999</NODATA>
    </ComplexSource>
    <ComplexSource>
      <SourceFilename relativeToVRT="1">block01/2024_665000e_4645000n_dem.tif</SourceFilename>
      <SourceBand>1</SourceBand>
      <SourceProperties RasterXSize="5000" RasterYSize="5000" DataType="Float32" BlockXSize="64" BlockYSize="64" />
      <SrcRect xOff="0" yOff="0" xSize="5000" ySize="5000" />
      <DstRect xOff="125000" yOff="95000" xSize="5000" ySize="5000" />
      <NODATA>-999999</NODATA>
    </ComplexSource>
    <ComplexSource>
      <SourceFilename relativeToVRT="1">block01/2024_665000e_4650000n_dem.tif</SourceFilename>
      <SourceBand>1</SourceBand>
      <SourceProperties RasterXSize="5000" RasterYSize="5000" DataType="Float32" BlockXSize="64" BlockYSize="64" />
      <SrcRect xOff="0" yOff="0" xSize="5000" ySize="5000" />
      <DstRect xOff="125000" yOff="90000" xSize="5000" ySize="5000" />
      <NODATA>-999999</NODATA>
    </ComplexSource>
    <ComplexSource>
      <SourceFilename relativeToVRT="1">block01/2024_665000e_4655000n_dem.tif</SourceFilename>
      <SourceBand>1</SourceBand>
      <SourceProperties RasterXSize="5000" RasterYSize="5000" DataType="Float32" BlockXSize="64" BlockYSize="64" />
      <SrcRect xOff="0" yOff="0" xSize="5000" ySize="5000" />
      <DstRect xOff="125000" yOff="85000" xSize="5000" ySize="5000" />
      <NODATA>-999999</NODATA>
    </ComplexSource>
    <ComplexSource>
      <SourceFilename relativeToVRT="1">block01/2024_665000e_4660000n_dem.tif</SourceFilename>
      <SourceBand>1</SourceBand>
      <SourceProperties RasterXSize="5000" RasterYSize="5000" DataType="Float32" BlockXSize="64" BlockYSize="64" />
      <SrcRect xOff="0" yOff="0" xSize="5000" ySize="5000" />
      <DstRect xOff="125000" yOff="80000" xSize="5000" ySize="5000" />
      <NODATA>-999999</NODATA>
    </ComplexSource>
    <ComplexSource>
      <SourceFilename relativeToVRT="1">block01/2024_670000e_4635000n_dem.tif</SourceFilename>
      <SourceBand>1</SourceBand>
      <SourceProperties RasterXSize="5000" RasterYSize="5000" DataType="Float32" BlockXSize="64" BlockYSize="64" />
      <SrcRect xOff="0" yOff="0" xSize="5000" ySize="5000" />
      <DstRect xOff="130000" yOff="105000" xSize="5000" ySize="5000" />
      <NODATA>-999999</NODATA>
    </ComplexSource>
    <ComplexSource>
      <SourceFilename relativeToVRT="1">block01/2024_670000e_4640000n_dem.tif</SourceFilename>
      <SourceBand>1</SourceBand>
      <SourceProperties RasterXSize="5000" RasterYSize="5000" DataType="Float32" BlockXSize="64" BlockYSize="64" />
      <SrcRect xOff="0" yOff="0" xSize="5000" ySize="5000" />
      <DstRect xOff="130000" yOff="100000" xSize="5000" ySize="5000" />
      <NODATA>-999999</NODATA>
    </ComplexSource>
    <ComplexSource>
      <SourceFilename relativeToVRT="1">block01/2024_670000e_4645000n_dem.tif</SourceFilename>
      <SourceBand>1</SourceBand>
      <SourceProperties RasterXSize="5000" RasterYSize="5000" DataType="Float32" BlockXSize="64" BlockYSize="64" />
      <SrcRect xOff="0" yOff="0" xSize="5000" ySize="5000" />
      <DstRect xOff="130000" yOff="95000" xSize="5000" ySize="5000" />
      <NODATA>-999999</NODATA>
    </ComplexSource>
    <ComplexSource>
      <SourceFilename relativeToVRT="1">block01/2024_670000e_4650000n_dem.tif</SourceFilename>
      <SourceBand>1</SourceBand>
      <SourceProperties RasterXSize="5000" RasterYSize="5000" DataType="Float32" BlockXSize="64" BlockYSize="64" />
      <SrcRect xOff="0" yOff="0" xSize="5000" ySize="5000" />
      <DstRect xOff="130000" yOff="90000" xSize="5000" ySize="5000" />
      <NODATA>-999999</NODATA>
    </ComplexSource>
    <ComplexSource>
      <SourceFilename relativeToVRT="1">block01/2024_670000e_4655000n_dem.tif</SourceFilename>
      <SourceBand>1</SourceBand>
      <SourceProperties RasterXSize="5000" RasterYSize="5000" DataType="Float32" BlockXSize="64" BlockYSize="64" />
      <SrcRect xOff="0" yOff="0" xSize="5000" ySize="5000" />
      <DstRect xOff="130000" yOff="85000" xSize="5000" ySize="5000" />
      <NODATA>-999999</NODATA>
    </ComplexSource>
    <ComplexSource>
      <SourceFilename relativeToVRT="1">block01/2024_670000e_4660000n_dem.tif</SourceFilename>
      <SourceBand>1</SourceBand>
      <SourceProperties RasterXSize="5000" RasterYSize="5000" DataType="Float32" BlockXSize="64" BlockYSize="64" />
      <SrcRect xOff="0" yOff="0" xSize="5000" ySize="5000" />
      <DstRect xOff="130000" yOff="80000" xSize="5000" ySize="5000" />
      <NODATA>-999999</NODATA>
    </ComplexSource>
    <ComplexSource>
      <SourceFilename relativeToVRT="1">block01/2024_670000e_4665000n_dem.tif</SourceFilename>
      <SourceBand>1</SourceBand>
      <SourceProperties RasterXSize="5000" RasterYSize="5000" DataType="Float32" BlockXSize="64" BlockYSize="64" />
      <SrcRect xOff="0" yOff="0" xSize="5000" ySize="5000" />
      <DstRect xOff="130000" yOff="75000" xSize="5000" ySize="5000" />
      <NODATA>-999999</NODATA>
    </ComplexSource>
    <ComplexSource>
      <SourceFilename relativeToVRT="1">block01/2024_675000e_4660000n_dem.tif</SourceFilename>
      <SourceBand>1</SourceBand>
      <SourceProperties RasterXSize="5000" RasterYSize="5000" DataType="Float32" BlockXSize="64" BlockYSize="64" />
      <SrcRect xOff="0" yOff="0" xSize="5000" ySize="5000" />
      <DstRect xOff="135000" yOff="80000" xSize="5000" ySize="5000" />
      <NODATA>-999999</NODATA>
    </ComplexSource>
    <ComplexSource>
      <SourceFilename relativeToVRT="1">block01/2024_675000e_4665000n_dem.tif</SourceFilename>
      <SourceBand>1</SourceBand>
      <SourceProperties RasterXSize="5000" RasterYSize="5000" DataType="Float32" BlockXSize="64" BlockYSize="64" />
      <SrcRect xOff="0" yOff="0" xSize="5000" ySize="5000" />
      <DstRect xOff="135000" yOff="75000" xSize="5000" ySize="5000" />
      <NODATA>-999999</NODATA>
    </ComplexSource>
    <ComplexSource>
      <SourceFilename relativeToVRT="1">block01/2024_680000e_4665000n_dem.tif</SourceFilename>
      <SourceBand>1</SourceBand>
      <SourceProperties RasterXSize="5000" RasterYSize="5000" DataType="Float32" BlockXSize="64" BlockYSize="64" />
      <SrcRect xOff="0" yOff="0" xSize="5000" ySize="5000" />
      <DstRect xOff="140000" yOff="75000" xSize="5000" ySize="5000" />
      <NODATA>-999999</NODATA>
    </ComplexSource>
    <ComplexSource>
      <SourceFilename relativeToVRT="1">block01/2024_680000e_4670000n_dem.tif</SourceFilename>
      <SourceBand>1</SourceBand>
      <SourceProperties RasterXSize="5000" RasterYSize="5000" DataType="Float32" BlockXSize="64" BlockYSize="64" />
      <SrcRect xOff="0" yOff="0" xSize="5000" ySize="5000" />
      <DstRect xOff="140000" yOff="70000" xSize="5000" ySize="5000" />
      <NODATA>-999999</NODATA>
    </ComplexSource>
    <ComplexSource>
      <SourceFilename relativeToVRT="1">block01/2024_680000e_4675000n_dem.tif</SourceFilename>
      <SourceBand>1</SourceBand>
      <SourceProperties RasterXSize="5000" RasterYSize="5000" DataType="Float32" BlockXSize="64" BlockYSize="64" />
      <SrcRect xOff="0" yOff="0" xSize="5000" ySize="5000" />
      <DstRect xOff="140000" yOff="65000" xSize="5000" ySize="5000" />
      <NODATA>-999999</NODATA>
    </ComplexSource>
    <ComplexSource>
      <SourceFilename relativeToVRT="1">block01/2024_685000e_4670000n_dem.tif</SourceFilename>
      <SourceBand>1</SourceBand>
      <SourceProperties RasterXSize="5000" RasterYSize="5000" DataType="Float32" BlockXSize="64" BlockYSize="64" />
      <SrcRect xOff="0" yOff="0" xSize="5000" ySize="5000" />
      <DstRect xOff="145000" yOff="70000" xSize="5000" ySize="5000" />
      <NODATA>-999999</NODATA>
    </ComplexSource>
    <ComplexSource>
      <SourceFilename relativeToVRT="1">block01/2024_685000e_4675000n_dem.tif</SourceFilename>
      <SourceBand>1</SourceBand>
      <SourceProperties RasterXSize="5000" RasterYSize="5000" DataType="Float32" BlockXSize="64" BlockYSize="64" />
      <SrcRect xOff="0" yOff="0" xSize="5000" ySize="5000" />
      <DstRect xOff="145000" yOff="65000" xSize="5000" ySize="5000" />
      <NODATA>-999999</NODATA>
    </ComplexSource>
    <ComplexSource>
      <SourceFilename relativeToVRT="1">block01/2024_690000e_4665000n_dem.tif</SourceFilename>
      <SourceBand>1</SourceBand>
      <SourceProperties RasterXSize="5000" RasterYSize="5000" DataType="Float32" BlockXSize="64" BlockYSize="64" />
      <SrcRect xOff="0" yOff="0" xSize="5000" ySize="5000" />
      <DstRect xOff="150000" yOff="75000" xSize="5000" ySize="5000" />
      <NODATA>-999999</NODATA>
    </ComplexSource>
    <ComplexSource>
      <SourceFilename relativeToVRT="1">block01/2024_690000e_4670000n_dem.tif</SourceFilename>
      <SourceBand>1</SourceBand>
      <SourceProperties RasterXSize="5000" RasterYSize="5000" DataType="Float32" BlockXSize="64" BlockYSize="64" />
      <SrcRect xOff="0" yOff="0" xSize="5000" ySize="5000" />
      <DstRect xOff="150000" yOff="70000" xSize="5000" ySize="5000" />
      <NODATA>-999999</NODATA>
    </ComplexSource>
    <ComplexSource>
      <SourceFilename relativeToVRT="1">block01/2024_695000e_4665000n_dem.tif</SourceFilename>
      <SourceBand>1</SourceBand>
      <SourceProperties RasterXSize="5000" RasterYSize="5000" DataType="Float32" BlockXSize="64" BlockYSize="64" />
      <SrcRect xOff="0" yOff="0" xSize="5000" ySize="5000" />
      <DstRect xOff="155000" yOff="75000" xSize="5000" ySize="5000" />
      <NODATA>-999999</NODATA>
    </ComplexSource>
    <ComplexSource>
      <SourceFilename relativeToVRT="1">block01/2024_700000e_4665000n_dem.tif</SourceFilename>
      <SourceBand>1</SourceBand>
      <SourceProperties RasterXSize="5000" RasterYSize="5000" DataType="Float32" BlockXSize="64" BlockYSize="64" />
      <SrcRect xOff="0" yOff="0" xSize="5000" ySize="5000" />
      <DstRect xOff="160000" yOff="75000" xSize="5000" ySize="5000" />
      <NODATA>-999999</NODATA>
    </ComplexSource>
    <ComplexSource>
      <SourceFilename relativeToVRT="1">block01/2024_705000e_4665000n_dem.tif</SourceFilename>
      <SourceBand>1</SourceBand>
      <SourceProperties RasterXSize="5000" RasterYSize="5000" DataType="Float32" BlockXSize="64" BlockYSize="64" />
      <SrcRect xOff="0" yOff="0" xSize="5000" ySize="5000" />
      <DstRect xOff="165000" yOff="75000" xSize="5000" ySize="5000" />
      <NODATA>-999999</NODATA>
    </ComplexSource>
    <ComplexSource>
      <SourceFilename relativeToVRT="1">block01/2024_710000e_4665000n_dem.tif</SourceFilename>
      <SourceBand>1</SourceBand>
      <SourceProperties RasterXSize="5000" RasterYSize="5000" DataType="Float32" BlockXSize="64" BlockYSize="64" />
      <SrcRect xOff="0" yOff="0" xSize="5000" ySize="5000" />
      <DstRect xOff="170000" yOff="75000" xSize="5000" ySize="5000" />
      <NODATA>-999999</NODATA>
    </ComplexSource>
    <ComplexSource>
      <SourceFilename relativeToVRT="1">block01/2024_715000e_4650000n_dem.tif</SourceFilename>
      <SourceBand>1</SourceBand>
      <SourceProperties RasterXSize="5000" RasterYSize="5000" DataType="Float32" BlockXSize="64" BlockYSize="64" />
      <SrcRect xOff="0" yOff="0" xSize="5000" ySize="5000" />
      <DstRect xOff="175000" yOff="90000" xSize="5000" ySize="5000" />
      <NODATA>-999999</NODATA>
    </ComplexSource>
    <ComplexSource>
      <SourceFilename relativeToVRT="1">block01/2024_715000e_4655000n_dem.tif</SourceFilename>
      <SourceBand>1</SourceBand>
      <SourceProperties RasterXSize="5000" RasterYSize="5000" DataType="Float32" BlockXSize="64" BlockYSize="64" />
      <SrcRect xOff="0" yOff="0" xSize="5000" ySize="5000" />
      <DstRect xOff="175000" yOff="85000" xSize="5000" ySize="5000" />
      <NODATA>-999999</NODATA>
    </ComplexSource>
    <ComplexSource>
      <SourceFilename relativeToVRT="1">block01/2024_715000e_4660000n_dem.tif</SourceFilename>
      <SourceBand>1</SourceBand>
      <SourceProperties RasterXSize="5000" RasterYSize="5000" DataType="Float32" BlockXSize="64" BlockYSize="64" />
      <SrcRect xOff="0" yOff="0" xSize="5000" ySize="5000" />
      <DstRect xOff="175000" yOff="80000" xSize="5000" ySize="5000" />
      <NODATA>-999999</NODATA>
    </ComplexSource>
    <ComplexSource>
      <SourceFilename relativeToVRT="1">block01/2024_715000e_4665000n_dem.tif</SourceFilename>
      <SourceBand>1</SourceBand>
      <SourceProperties RasterXSize="5000" RasterYSize="5000" DataType="Float32" BlockXSize="64" BlockYSize="64" />
      <SrcRect xOff="0" yOff="0" xSize="5000" ySize="5000" />
      <DstRect xOff="175000" yOff="75000" xSize="5000" ySize="5000" />
      <NODATA>-999999</NODATA>
    </ComplexSource>
    <ComplexSource>
      <SourceFilename relativeToVRT="1">block01/2024_720000e_4655000n_dem.tif</SourceFilename>
      <SourceBand>1</SourceBand>
      <SourceProperties RasterXSize="5000" RasterYSize="5000" DataType="Float32" BlockXSize="64" BlockYSize="64" />
      <SrcRect xOff="0" yOff="0" xSize="5000" ySize="5000" />
      <DstRect xOff="180000" yOff="85000" xSize="5000" ySize="5000" />
      <NODATA>-999999</NODATA>
    </ComplexSource>
    <ComplexSource>
      <SourceFilename relativeToVRT="1">block01/2024_720000e_4660000n_dem.tif</SourceFilename>
      <SourceBand>1</SourceBand>
      <SourceProperties RasterXSize="5000" RasterYSize="5000" DataType="Float32" BlockXSize="64" BlockYSize="64" />
      <SrcRect xOff="0" yOff="0" xSize="5000" ySize="5000" />
      <DstRect xOff="180000" yOff="80000" xSize="5000" ySize="5000" />
      <NODATA>-999999</NODATA>
    </ComplexSource>
    <ComplexSource>
      <SourceFilename relativeToVRT="1">block01/2024_730000e_4700000n_dem.tif</SourceFilename>
      <SourceBand>1</SourceBand>
      <SourceProperties RasterXSize="5000" RasterYSize="5000" DataType="Float32" BlockXSize="64" BlockYSize="64" />
      <SrcRect xOff="0" yOff="0" xSize="5000" ySize="5000" />
      <DstRect xOff="190000" yOff="40000" xSize="5000" ySize="5000" />
      <NODATA>-999999</NODATA>
    </ComplexSource>
    <ComplexSource>
      <SourceFilename relativeToVRT="1">block01/2024_730000e_4705000n_dem.tif</SourceFilename>
      <SourceBand>1</SourceBand>
      <SourceProperties RasterXSize="5000" RasterYSize="5000" DataType="Float32" BlockXSize="64" BlockYSize="64" />
      <SrcRect xOff="0" yOff="0" xSize="5000" ySize="5000" />
      <DstRect xOff="190000" yOff="35000" xSize="5000" ySize="5000" />
      <NODATA>-999999</NODATA>
    </ComplexSource>
    <ComplexSource>
      <SourceFilename relativeToVRT="1">block01/2024_735000e_4690000n_dem.tif</SourceFilename>
      <SourceBand>1</SourceBand>
      <SourceProperties RasterXSize="5000" RasterYSize="5000" DataType="Float32" BlockXSize="64" BlockYSize="64" />
      <SrcRect xOff="0" yOff="0" xSize="5000" ySize="5000" />
      <DstRect xOff="195000" yOff="50000" xSize="5000" ySize="5000" />
      <NODATA>-999999</NODATA>
    </ComplexSource>
    <ComplexSource>
      <SourceFilename relativeToVRT="1">block01/2024_735000e_4695000n_dem.tif</SourceFilename>
      <SourceBand>1</SourceBand>
      <SourceProperties RasterXSize="5000" RasterYSize="5000" DataType="Float32" BlockXSize="64" BlockYSize="64" />
      <SrcRect xOff="0" yOff="0" xSize="5000" ySize="5000" />
      <DstRect xOff="195000" yOff="45000" xSize="5000" ySize="5000" />
      <NODATA>-999999</NODATA>
    </ComplexSource>
    <ComplexSource>
      <SourceFilename relativeToVRT="1">block01/2024_735000e_4700000n_dem.tif</SourceFilename>
      <SourceBand>1</SourceBand>
      <SourceProperties RasterXSize="5000" RasterYSize="5000" DataType="Float32" BlockXSize="64" BlockYSize="64" />
      <SrcRect xOff="0" yOff="0" xSize="5000" ySize="5000" />
      <DstRect xOff="195000" yOff="40000" xSize="5000" ySize="5000" />
      <NODATA>-999999</NODATA>
    </ComplexSource>
    <ComplexSource>
      <SourceFilename relativeToVRT="1">block01/2024_735000e_4705000n_dem.tif</SourceFilename>
      <SourceBand>1</SourceBand>
      <SourceProperties RasterXSize="5000" RasterYSize="5000" DataType="Float32" BlockXSize="64" BlockYSize="64" />
      <SrcRect xOff="0" yOff="0" xSize="5000" ySize="5000" />
      <DstRect xOff="195000" yOff="35000" xSize="5000" ySize="5000" />
      <NODATA>-999999</NODATA>
    </ComplexSource>
    <ComplexSource>
      <SourceFilename relativeToVRT="1">block01/2024_735000e_4710000n_dem.tif</SourceFilename>
      <SourceBand>1</SourceBand>
      <SourceProperties RasterXSize="5000" RasterYSize="5000" DataType="Float32" BlockXSize="64" BlockYSize="64" />
      <SrcRect xOff="0" yOff="0" xSize="5000" ySize="5000" />
      <DstRect xOff="195000" yOff="30000" xSize="5000" ySize="5000" />
      <NODATA>-999999</NODATA>
    </ComplexSource>
    <ComplexSource>
      <SourceFilename relativeToVRT="1">block01/2024_740000e_4680000n_dem.tif</SourceFilename>
      <SourceBand>1</SourceBand>
      <SourceProperties RasterXSize="5000" RasterYSize="5000" DataType="Float32" BlockXSize="64" BlockYSize="64" />
      <SrcRect xOff="0" yOff="0" xSize="5000" ySize="5000" />
      <DstRect xOff="200000" yOff="60000" xSize="5000" ySize="5000" />
      <NODATA>-999999</NODATA>
    </ComplexSource>
    <ComplexSource>
