<metadata><mdLang><languageCode value="eng"/><countryCode value="USA" Sync="TRUE"></countryCode></mdLang><mdChar><CharSetCd value="004"/></mdChar><mdHrLv><ScopeCd value="005"/></mdHrLv><mdContact><rpOrgName>JALBTCX</rpOrgName><rpPosName>Data Production Manager</rpPosName><rpCntInfo><cntPhone><voiceNum>228-252-1121</voiceNum><voiceNum>228-252-1131</voiceNum><faxNum>228-252-1133</faxNum></cntPhone><cntAddress addressType="both"><delPoint>7225 Stennis Airport Rd., STE 100</delPoint><city>Kiln</city><adminArea>MS</adminArea><postCode>01556</postCode><country>US</country><eMailAdd>JALBTCX@usace.army.mil</eMailAdd></cntAddress><cntHours>8am- 5pm Monday through Friday</cntHours></rpCntInfo><role><RoleCd value="007"/></role></mdContact><mdDateSt>20161101</mdDateSt><mdStanName>ArcGIS Metadata</mdStanName><mdStanVer>1.0</mdStanVer><distInfo><distributor><distorCont><rpOrgName>JALBTCX</rpOrgName><rpPosName>Data Production Manager</rpPosName><rpCntInfo><cntPhone><voiceNum>228-252-1121</voiceNum><faxNum>228-252-1133</faxNum></cntPhone><cntAddress addressType="postal"><delPoint>7225 Stennis Airport Rd. STE 100</delPoint><city>Kiln</city><adminArea>MS</adminArea><postCode>01556</postCode><country>US</country><eMailAdd>JALBTCX@usace.army.mil</eMailAdd></cntAddress><cntInstr>Please make data requests via email to JALBTCX@usace.army.mil.</cntInstr></rpCntInfo><role><RoleCd value="005"/></role></distorCont><distorOrdPrc><resFees units="">Requests for large amounts of data are shipped on an external hard drive. Costs include the shipping cost to return the hard drive to JALBTCX.</resFees></distorOrdPrc><distorFormat><formatName>TIFF</formatName><fileDecmTech>no compression applied</fileDecmTech><formatInfo>rasterized hydrographic and topographic lidar elevation data</formatInfo></distorFormat><distorFormat><formatName>Web Mapping Service</formatName></distorFormat><distorFormat><formatName>TIFF</formatName><fileDecmTech>no compression applied</fileDecmTech><formatInfo>rasterized hydrographic and topographic lidar elevation data</formatInfo></distorFormat><distorTran><onLineSrc><linkage>https://coast.noaa.gov/dataviewer/#/lidar/search/where:ID=</linkage></onLineSrc></distorTran><distorTran><onLineSrc><linkage>https://coast.noaa.gov/htdata/lidar1_z/geoid12b/data/</linkage></onLineSrc></distorTran></distributor><distTranOps><onLineSrc><linkage>http://coast.noaa.gov/htdata/lidar1_z/GEOID12B/data/?redirect=301ocm</linkage></onLineSrc><onLineSrc><linkage>https://coast.noaa.gov/dataviewer</linkage></onLineSrc></distTranOps><distFormat><formatName Sync="TRUE">Raster Dataset</formatName></distFormat></distInfo><dataIdInfo><idCitation><date><pubDate date="inapplicable"/></date><citRespParty><rpOrgName>JALBTCX</rpOrgName><rpCntInfo><cntAddress><delPoint>Kiln, MS</delPoint></cntAddress></rpCntInfo><role><RoleCd value="010"/></role></citRespParty><citRespParty><rpOrgName>U.S. Army Corps of Engineers (USACE), JALBTCX (Joint Airborne Lidar Bathymetry Technical Center of eXpertise)</rpOrgName><role><RoleCd value="006"/></role></citRespParty><presForm><PresFormCd value="007"/><fgdcGeoform>raster digital data</fgdcGeoform></presForm><resTitle Sync="TRUE">2016_NCMP_FL_17RNJ9088_1mGrid.tif</resTitle></idCitation><idAbs>&lt;DIV STYLE="text-align:Left;"&gt;&lt;DIV&gt;&lt;DIV&gt;&lt;P&gt;&lt;SPAN&gt;These files contain rasterized topobathy lidar elevations generated from data collected by the Coastal Zone Mapping and Imaging Lidar (CZMIL) system. CZMIL integrates a lidar sensor with simultaneous topographic and bathymetric capabilities, a digital camera and a hyperspectral imager on a single remote sensing platform for use in coastal mapping and charting activities. Horizontal positions, provided in decimal degrees of latitude and longitude, are referenced to the North American Datum of 1983 National Adjustment of 2011 (NAD83 NA11). Vertical positions are referenced to the (NAD83 NA11) ellipsoid and provided in meters. The National Geodetic Survey's (NGS) GEOID12B model is used to transform the vertical positions from ellipsoid to orthometric heights referenced to the North American Vertical Datum of 1988 (NAVD88). The 3-D position data are used to generate a series of gridded file products, which are tiled into quarter-quads or 5km boxes. The grid file index is provided by the shape file, MGRS_1km_17R_FL.shp and the numbers used to identify files are in the "Box" field of the shape file. The data file naming convention is based on the year, effort, area name, "Box" number and product type. An example file name is s "2016_NCMP_FL_01_BareEarth_1mGrid", where 2016 is the year of data collection, NCMP is the project under which data were collected, Florida is the area of data collection, 01 is the "Box" number, and BareEarth_1mGrid is the product type.&lt;/SPAN&gt;&lt;/P&gt;&lt;/DIV&gt;&lt;/DIV&gt;&lt;/DIV&gt;</idAbs><idPurp>This data was collected as part of the NCMP to depict the elevations above and below the water in the Florida coastal zone.</idPurp><idStatus><ProgCd value="001"/></idStatus><idPoC><rpOrgName>JALBTCX</rpOrgName><rpPosName>Data Production Manager</rpPosName><rpCntInfo><cntPhone><voiceNum>228-252-1121</voiceNum><voiceNum>228-252-1131</voiceNum><faxNum>228-252-1133</faxNum></cntPhone><cntAddress addressType="both"><delPoint>7225 Stennis Airport Rd., STE 100</delPoint><city>Kiln</city><adminArea>MS</adminArea><postCode>01556</postCode><country>US</country><eMailAdd>JALBTCX@usace.army.mil</eMailAdd></cntAddress><cntHours>8 am - 5 pm Monday through Friday</cntHours></rpCntInfo><role><RoleCd value="007"/></role></idPoC><resMaint><maintFreq><MaintFreqCd value="009"/></maintFreq></resMaint><placeKeys><thesaName><resTitle>Geographic Names Information System</resTitle></thesaName><keyword>United States</keyword><keyword>Florida</keyword><keyword>FL</keyword><keyword>Florida</keyword></placeKeys><placeKeys><thesaName><resTitle>GCMD Location Keywords v7</resTitle></thesaName><keyword>VERTICAL LOCATION &gt; SEA FLOOR</keyword><keyword>VERTICAL LOCATION &gt; LAND SURFACE</keyword></placeKeys><tempKeys><keyword>May</keyword><keyword>June</keyword><keyword>July</keyword><keyword>2016</keyword></tempKeys><themeKeys><thesaName><resTitle>GCMD Earth Sciences Keywords</resTitle></thesaName><keyword>OCEANS &gt; COASTAL PROCESSES &gt; COASTAL ELEVATION</keyword><keyword>SOLID EARTH &gt; GEOMORPHOLOGY &gt; COASTAL LANDFORMS/PROCESSES</keyword><keyword>OCEANS &gt; BATHYMETRY/SEAFLOOR TOPOGRAPHY &gt; BATHYMETRY</keyword><keyword>EARTH SCIENCE &gt; OCEANS &gt;COASTAL PROCESSES &gt; COASTAL ELEVATION</keyword><keyword>OCEANS &gt; BATHYMETRY/SEAFLOOR TOPOGRAPHY &gt; SEAFLOOR TOPOGRAPHY</keyword><keyword>HUMAN DIMENSIONS &gt; LAND USE/LAND COVER &gt; LAND USE CLASSES</keyword><keyword>LAND SURFACE &gt; TOPOGRAPHY&gt; TERRAIN ELEVATION</keyword></themeKeys><themeKeys><thesaName><resTitle>GCMD Data Center Keywords v7</resTitle></thesaName><keyword>DOD/USARMY/USACE/SAM/MOBILE/OPJ/JALBTCX &gt; Department of Defense</keyword><keyword>United States Army</keyword><keyword>United States Army Corps of Engineers</keyword><keyword>Mobile District</keyword><keyword>Spatial Data Branch</keyword><keyword>Joint Airborne Lidar Bathymetry Technical Center of Expertise</keyword></themeKeys><themeKeys><keyword>Joint Airborne Lidar Bathymetry Technical Center of eXpertise (JALBTCX)</keyword><keyword>National Coastal Mapping Program (NCMP)</keyword><keyword>IWG-OCM</keyword><keyword>1mRaster</keyword><keyword>Bathymetry</keyword><keyword>U.S. Army Corps of Engineers (USACE)</keyword><keyword>Topography</keyword><keyword>Coastal Zone Mapping Imaging Lidar (CZMIL)</keyword><keyword>BareEarth</keyword><keyword>Mobile District</keyword></themeKeys><themeKeys><thesaName><resTitle>GCMD Instrument Keywords v7</resTitle></thesaName><keyword>LIDAR &gt; LIGHT DETECTION AND RANGING</keyword></themeKeys><themeKeys><thesaName><resTitle>ISO 19115 Topic Categories</resTitle></thesaName><keyword>location</keyword><keyword>elevation</keyword><keyword>imageryBaseMapsEarthCover</keyword></themeKeys><searchKeys><keyword>LIDAR &gt; LIGHT DETECTION AND RANGING</keyword><keyword>Joint Airborne Lidar Bathymetry Technical Center of eXpertise (JALBTCX)</keyword><keyword>VERTICAL LOCATION &gt; SEA FLOOR</keyword><keyword>National Coastal Mapping Program (NCMP)</keyword><keyword>IWG-OCM</keyword><keyword>OCEANS &gt; COASTAL PROCESSES &gt; COASTAL ELEVATION</keyword><keyword>1mRaster</keyword><keyword>SOLID EARTH &gt; GEOMORPHOLOGY &gt; COASTAL LANDFORMS/PROCESSES</keyword><keyword>VERTICAL LOCATION &gt; LAND SURFACE</keyword><keyword>Bathymetry</keyword><keyword>OCEANS &gt; BATHYMETRY/SEAFLOOR TOPOGRAPHY &gt; BATHYMETRY</keyword><keyword>May</keyword><keyword>June</keyword><keyword>July DOD/USARMY/USACE/SAM/MOBILE/OPJ/JALBTCX &gt; Department of Defense</keyword><keyword>United States Army</keyword><keyword>United States Army Corps of Engineers</keyword><keyword>Mobile District</keyword><keyword>Spatial Data Branch</keyword><keyword>Joint Airborne Lidar Bathymetry Technical Center of Expertise</keyword><keyword>U.S. Army Corps of Engineers (USACE)</keyword><keyword>location</keyword><keyword>elevation</keyword><keyword>EARTH SCIENCE &gt; OCEANS &gt;COASTAL PROCESSES &gt; COASTAL ELEVATION</keyword><keyword>Topography</keyword><keyword>imageryBaseMapsEarthCover</keyword><keyword>Coastal Zone Mapping Imaging Lidar (CZMIL)</keyword><keyword>OCEANS &gt; BATHYMETRY/SEAFLOOR TOPOGRAPHY &gt; SEAFLOOR TOPOGRAPHY</keyword><keyword>HUMAN DIMENSIONS &gt; LAND USE/LAND COVER &gt; LAND USE CLASSES</keyword><keyword>Mobile District</keyword><keyword>2016</keyword><keyword>LAND SURFACE &gt; TOPOGRAPHY&gt; TERRAIN ELEVATION</keyword><keyword>United States</keyword></searchKeys><resConst><LegConsts><useLimit>These data have been developed from the best available sources. Although efforts have been made to ensure that the data are accurate and reliable, errors and variable conditions originating from physical sources used to develop the data may be reflected in the data supplied. Users must be aware of these conditions and bear responsibility for the appropriate use of the information with respect to possible errors, scale, resolution, rectification, positional accuracy, development methodology, time period, environmental and climatic conditions and other circumstances specific to these data. The user is responsible for understanding the accuracy limitations of the data provided herein. The burden for determining fitness for use lies entirely with the user. The user should refer to the accompanying metadata notes for a description of the data and data development procedures.</useLimit><othConsts>These data have been developed from the best available sources. Although efforts have been made to ensure that the data are accurate and reliable, errors and variable conditions originating from physical sources used to develop the data may be reflected in the data supplied. Users must be aware of these conditions and bear responsibility for the appropriate use of the information with respect to possible errors, scale, resolution, rectification, positional accuracy, development methodology, time period, environmental and climatic conditions and other circumstances specific to these data. The user is responsible for understanding the accuracy limitations of the data provided herein. The burden for determining fitness for use lies entirely with the user. The user should refer to the accompanying metadata notes for a description of the data and data development procedures.</othConsts></LegConsts></resConst><resConst><Consts><useLimit>&lt;DIV STYLE="text-align:Left;"&gt;&lt;DIV&gt;&lt;DIV&gt;&lt;P&gt;&lt;SPAN&gt;These data depict the heights at the time of the survey and are only accurate for that time. Acknowledgement of the Joint Airborne Lidar Bathymetry Technical Center of eXpertise (JALBTCX) would be appreciated in any publications or derived products. The data herein, including but not limited to geographic data, tabular data, analytical data, electronic data structures or files, are provided "as is" without warranty of any kind, either expressed or implied, or statutory, including, but not limited to, the implied warranties or merchantability and fitness for a particular purpose. The entire risk as to the quality and performance of the data is assumed by the user. No guarantee of accuracy is granted, nor is any responsibility for reliance thereon assumed. In no event shall the U.S. Army Corps of Engineers, Mobile District Office, Spatial Data Branch be liable for direct, indirect, incidental, consequential or special damages of any kind, including, but not limited to, loss of anticipated profits or benefits arising out of use of or reliance on the data. The Spatial Data Branch does not accept liability for any damages or misrepresentation caused by inaccuracies in the data or as a result of changes to the data caused by system transfers or other transformations or conversions, nor is there responsibility assumed to maintain the data in any manner or form.&lt;/SPAN&gt;&lt;/P&gt;&lt;/DIV&gt;&lt;/DIV&gt;&lt;/DIV&gt;</useLimit></Consts></resConst><dataLang><languageCode value="eng"/><countryCode value="USA" Sync="TRUE"></countryCode></dataLang><envirDesc>Microsoft Windows 7 Version 6.1 (Build 7601) Service Pack 1; Esri ArcGIS 10.1.0.3035</envirDesc><dataExt><exDesc>ground condition</exDesc><tempEle><TempExtent><exTemp><TM_Period><tmBegin time="unknown">2016-05-19T00:00:00</tmBegin><tmEnd time="unknown">2016-07-20T00:00:00</tmEnd></TM_Period></exTemp></TempExtent></tempEle><geoEle/></dataExt><dataChar><CharSetCd value="004"/></dataChar><spatRpType><SpatRepTypCd value="002" Sync="TRUE"></SpatRepTypCd></spatRpType><dataExt><geoEle><GeoBndBox esriExtentType="search"><exTypeCode Sync="TRUE">1</exTypeCode><westBL Sync="TRUE">-80.099942</westBL><eastBL Sync="TRUE">-80.091095</eastBL><northBL Sync="TRUE">26.117463</northBL><southBL Sync="TRUE">26.108311</southBL></GeoBndBox></geoEle></dataExt></dataIdInfo><dqInfo><dqScope><scpLvl><ScopeCd value="005"/></scpLvl></dqScope><report dimension="" type="DQConcConsis"><measDesc>During inspection and QC of the lidar point cloud, flightline to flightline elevation differences met the CZMIL sensor specifications.</measDesc></report><report dimension="" type="DQCompOm"><measDesc>This data set covers the spatial extent of topographic lidar data obtained during this survey.</measDesc></report><report dimension="" type="DQQuanAttAcc"><measDesc>These data are not attributed.</measDesc><evalMethDesc>These data are not attributed.</evalMethDesc><measResult><QuanResult><quanVal>N/A</quanVal></QuanResult></measResult></report><report dimension="horizontal" type="DQAbsExtPosAcc"><measDesc>Compiled to meet 1 m horizontal RMSE at 95% confidence level.</measDesc></report><report dimension="vertical" type="DQAbsExtPosAcc"><measDesc>CZMIL topographic data - Tested 9.5 cm vertical RMSE at 95% confidence level.
CZMIL bathymetric shallow FOV data - Tested 12.5 cm vertical RMSE at 95% confidence level.
CZMIL bathymetric deep FOV data - Tested 20 cm vertical RMSE at 95% confidence level.
</measDesc></report><dataLineage><prcStep><stepDesc>These data were collected using the CZMIL system. It is owned and operated by the U.S. Army Corps of Engineers (USACE). The system collects topo/bathy lidar data at 10 kHz and RGB imagery at 2 Hz. A CASI-1500 hyperspectral line scanner is integrated with the system as well. Aircraft position, velocity and acceleration information are collected through a combination of Novatel and POS A/V 510 equipment. All raw data streams are transferred to the office for downloading and processing in CZMIL’s Hydro Fusion software. Aircraft position data are processed using POSPac software and the results are combined with the lidar data to produce 3-D positions for each lidar shot. Upon inspection and QA/QC in the software packages Fledermaus and PFM_ABE, anomalous data are flagged as invalid. PFM_ABE software then converts all valid data from ellipsoid to orthometric heights based on the NGS' GEOID12B model and exports valid lidar data as a series of unclassified LAS files.</stepDesc><stepDateTm>2016-05-19T00:00:00</stepDateTm><stepProc><rpOrgName>JALBTCX</rpOrgName><rpPosName>Data Production Manager</rpPosName><rpCntInfo><cntPhone><voiceNum>228-252-1121</voiceNum><voiceNum>228-252-1131</voiceNum><faxNum>228-252-1133</faxNum></cntPhone><cntAddress addressType="both"><delPoint>7225 Stennis Airport RD., STE 100</delPoint><city>Kiln</city><adminArea>MS</adminArea><postCode>01556</postCode><country>US</country><eMailAdd>JALBTCX@usace.army.mil</eMailAdd></cntAddress><cntHours>8 am - 5 pm Monday through Friday</cntHours></rpCntInfo><role><RoleCd value="009"/></role></stepProc></prcStep><prcStep><stepDesc>LAS files are imported into GeoCue V2016.1.21.4, which is a geospatial workflow production and management software tool employed by JALBTCX to perform and monitor production of data products. Upon import into GeoCue, A customized classification macro, built upon the TerraScan V13 module within Microstation V8i, classifies valid topobathy data as ground points (2), unclassified points (1), and bathymetric points (29). Upon completion the macro, the classification results undergo quality control and any misclassified points are manually edited. In areas of dense vegetation the bare earth ground points might be incorrectly classified due to the inability of the laser to penetrate the canopy and reach the bare ground. In these areas, JALBTCX defaults to the algorithm’s “ground” surface instead of manually reclassifying those points. They are partitioned into a series of 5km or quarter quad delivery boxes, one Classified LAS file per box. The format of the file is LAS version 1.2. Data are classified as 1 (valid non-ground topographic data), 2 (valid ground topographic data), and 29 (valid bathymetric data).</stepDesc><stepDateTm>2016-10-14T00:00:00</stepDateTm><stepProc><rpOrgName>JALBTCX</rpOrgName><rpPosName>Data Production Manager</rpPosName><rpCntInfo><cntPhone><voiceNum>228-252-1121</voiceNum><voiceNum>228-252-1131</voiceNum><faxNum>228-252-1133</faxNum></cntPhone><cntAddress addressType="both"><delPoint>7225 Stennis Airport Rd., STE 100</delPoint><city>Kiln</city><adminArea>MS</adminArea><postCode>01556</postCode><country>US</country><eMailAdd>JALBTCX@usace.army.mil</eMailAdd></cntAddress><cntHours>8am - 5pm Monday through Friday</cntHours></rpCntInfo><role><RoleCd value="009"/></role></stepProc></prcStep><prcStep><stepDesc>Data classified as ground points (2) and bathymetric points (29) in the las files are converted to a grid by generating a triangulated irregular network (TIN) and then extracting the grid node elevations from the TIN surface. The origin point of the grid is located at a horizontal position whose value is evenly divisible by the 1m grid resolution such that rasters from subsequent surveys have common cell boundaries. JALBTCX uses Quick Terrain Modeler V8 to perform this operation utilizing the following parameters; “Legacy Triangulation”, "Max Sample Excursion - 30000”, “Max Triangle Side – 30000”, “Radius - none”, “Tolerance – 1”, and “Tiling Settings Snap to Grid (Expand)." The grid is exported from Quick Terrain Modeler as an ESRI ASCII Z grid file. Utilizing an in-house python script within ESRI ArcMap V10.1, the ASCII Z grid file is converted to a tiff-format raster file whose projection is defined as “The North American Datum of 1983 (2011).” The raster is then multiplied against a corresponding 1m Grid mask raster, a mask image produced from JALBTCX’s 1m Grid, in ESRI’s Raster Calculator to remove interpolated areas where data does not exist.</stepDesc><stepDateTm>2016-10-30T00:00:00</stepDateTm><stepProc><rpOrgName>JALBTCX</rpOrgName><rpPosName>Data Production Manager</rpPosName><rpCntInfo><cntPhone><voiceNum>228-252-1131</voiceNum><voiceNum>228-252-1121</voiceNum><faxNum>228-252-1133</faxNum></cntPhone><cntAddress addressType="both"><delPoint>7225 Stennis Airport Rd., STE 100</delPoint><city>Kiln</city><adminArea>MS</adminArea><postCode>01556</postCode><country>US</country><eMailAdd>JALBTCX@usace.army.mil</eMailAdd></cntAddress><cntHours>8am - 5pm Monday through Friday</cntHours></rpCntInfo><role><RoleCd value="009"/></role></stepProc></prcStep></dataLineage></dqInfo><spatRepInfo><Georect><numDims>2</numDims><axisDimension type="001"><dimSize>0198</dimSize><dimResol><value Sync="TRUE" uom="Degree">0.000009</value></dimResol></axisDimension><axisDimension type="002"><dimSize>10277</dimSize><dimResol><value Sync="TRUE" uom="Degree">0.000009</value></dimResol></axisDimension><axisDimension type="003"><dimSize>1</dimSize></axisDimension><cellGeo><CellGeoCd value="002" Sync="TRUE"/></cellGeo><tranParaAv Sync="TRUE">1</tranParaAv><chkPtAv Sync="TRUE">0</chkPtAv><cornerPts><pos Sync="TRUE">-80.099942 26.108311</pos></cornerPts><cornerPts><pos Sync="TRUE">-80.099942 26.117463</pos></cornerPts><cornerPts><pos Sync="TRUE">-80.091095 26.117463</pos></cornerPts><cornerPts><pos Sync="TRUE">-80.091095 26.108311</pos></cornerPts><centerPt><pos Sync="TRUE">-80.095518 26.112887</pos></centerPt><ptInPixel><PixOrientCd Sync="TRUE" value="001"></PixOrientCd></ptInPixel></Georect></spatRepInfo><Esri><CreaDate>20160519</CreaDate><CreaTime>14484800</CreaTime><ArcGISFormat>1.0</ArcGISFormat><ModDate>20161101</ModDate><ModTime>11553100</ModTime><scaleRange><minScale>150000000</minScale><maxScale>5000</maxScale></scaleRange><ArcGISProfile>NAP</ArcGISProfile><DataProperties><itemProps><imsContentType export="False"/><itemName Sync="TRUE">2016_NCMP_FL_17RNJ9088_1mGrid.tif</itemName><itemLocation><linkage Sync="TRUE">file://D:\_Working\2016_NCMP_FL\test\2016_NCMP_FL_BareEarth_1mGrid\2016_NCMP_FL_17RNJ9088_1mGrid.tif</linkage><protocol Sync="TRUE">Local Area Network</protocol></itemLocation><nativeExtBox><westBL Sync="TRUE">-80.099942</westBL><eastBL Sync="TRUE">-80.091095</eastBL><southBL Sync="TRUE">26.108311</southBL><northBL Sync="TRUE">26.117463</northBL><exTypeCode Sync="TRUE">1</exTypeCode></nativeExtBox></itemProps><coordRef><type Sync="TRUE">Geographic</type><geogcsn Sync="TRUE">GCS_NAD_1983_2011</geogcsn><csUnits Sync="TRUE">Angular Unit: Degree (0.017453)</csUnits><peXml Sync="TRUE">&lt;GeographicCoordinateSystem xsi:type='typens:GeographicCoordinateSystem' xmlns:xsi='http://www.w3.org/2001/XMLSchema-instance' xmlns:xs='http://www.w3.org/2001/XMLSchema' xmlns:typens='http://www.esri.com/schemas/ArcGIS/10.1'&gt;&lt;WKT&gt;GEOGCS[&amp;quot;GCS_NAD_1983_2011&amp;quot;,DATUM[&amp;quot;D_NAD_1983_2011&amp;quot;,SPHEROID[&amp;quot;GRS_1980&amp;quot;,6378137.0,298.257222101]],PRIMEM[&amp;quot;Greenwich&amp;quot;,0.0],UNIT[&amp;quot;Degree&amp;quot;,0.0174532925199433],AUTHORITY[&amp;quot;EPSG&amp;quot;,6318]]&lt;/WKT&gt;&lt;XOrigin&gt;-400&lt;/XOrigin&gt;&lt;YOrigin&gt;-400&lt;/YOrigin&gt;&lt;XYScale&gt;11258999068426.238&lt;/XYScale&gt;&lt;ZOrigin&gt;-100000&lt;/ZOrigin&gt;&lt;ZScale&gt;10000&lt;/ZScale&gt;&lt;MOrigin&gt;-100000&lt;/MOrigin&gt;&lt;MScale&gt;10000&lt;/MScale&gt;&lt;XYTolerance&gt;8.9831528411952133e-009&lt;/XYTolerance&gt;&lt;ZTolerance&gt;0.001&lt;/ZTolerance&gt;&lt;MTolerance&gt;0.001&lt;/MTolerance&gt;&lt;HighPrecision&gt;true&lt;/HighPrecision&gt;&lt;LeftLongitude&gt;-180&lt;/LeftLongitude&gt;&lt;WKID&gt;104145&lt;/WKID&gt;&lt;LatestWKID&gt;6318&lt;/LatestWKID&gt;&lt;/GeographicCoordinateSystem&gt;</peXml></coordRef><RasterProperties><General><PixelDepth Sync="TRUE">32</PixelDepth><HasColormap Sync="TRUE">FALSE</HasColormap><CompressionType Sync="TRUE">None</CompressionType><NumBands Sync="TRUE">1</NumBands><Format Sync="TRUE">TIFF</Format><HasPyramids Sync="TRUE">FALSE</HasPyramids><SourceType Sync="TRUE">continuous</SourceType><PixelType Sync="TRUE">floating point</PixelType><NoDataValue Sync="TRUE">-3.4028235e+038</NoDataValue></General></RasterProperties></DataProperties><SyncDate>20161101</SyncDate>