<VRTDataset rasterXSize="153750" rasterYSize="128750">
  <SRS dataAxisToSRSAxisMapping="1,2,3">COMPD_CS["NAD83(HARN) / Virginia South (ftUS) + NAVD88 height (ftUS)",PROJCS["NAD83(HARN) / Virginia South (ftUS)",GEOGCS["NAD83(HARN)",DATUM["NAD83_High_Accuracy_Reference_Network",SPHEROID["GRS 1980",6378137,298.257222101,AUTHORITY["EPSG","7019"]],AUTHORITY["EPSG","6152"]],PRIMEM["Greenwich",0,AUTHORITY["EPSG","8901"]],UNIT["degree",0.0174532925199433,AUTHORITY["EPSG","9122"]],AUTHORITY["EPSG","4152"]],PROJECTION["Lambert_Conformal_Conic_2SP"],PARAMETER["latitude_of_origin",36.3333333333333],PARAMETER["central_meridian",-78.5],PARAMETER["standard_parallel_1",37.9666666666667],PARAMETER["standard_parallel_2",36.7666666666667],PARAMETER["false_easting",11482916.667],PARAMETER["false_northing",3280833.333],UNIT["US survey foot",0.304800609601219,AUTHORITY["EPSG","9003"]],AXIS["Easting",EAST],AXIS["Northing",NORTH],AUTHORITY["EPSG","2925"]],VERT_CS["NAVD88 height (ftUS)",VERT_DATUM["North American Vertical Datum 1988",2005,AUTHORITY["EPSG","5103"]],UNIT["US survey foot",0.304800609601219,AUTHORITY["EPSG","9003"]],AXIS["Gravity-related height",UP],AUTHORITY["EPSG","6360"]]]</SRS>
  <GeoTransform>  1.1945000000000000e+07,  1.0000000000000000e+00,  0.0000000000000000e+00,  3.7362500000000000e+06,  0.0000000000000000e+00, -1.0000000000000000e+00</GeoTransform>
  <VRTRasterBand dataType="Float32" band="1">
    <NoDataValue>-999999</NoDataValue>
    <ColorInterp>Gray</ColorInterp>
    <ComplexSource>
      <SourceFilename relativeToVRT="1">DO_S23_0653_21SW.tif</SourceFilename>
      <SourceBand>1</SourceBand>
      <SourceProperties RasterXSize="1250" RasterYSize="1250" DataType="Float32" BlockXSize="512" BlockYSize="512" />
      <SrcRect xOff="0" yOff="0" xSize="1250" ySize="1250" />
      <DstRect xOff="105000" yOff="100000" xSize="1250" ySize="1250" />
      <NODATA>-999999</NODATA>
    </ComplexSource>
    <ComplexSource>
      <SourceFilename relativeToVRT="1">DO_S13_9697_43NE.tif</SourceFilename>
      <SourceBand>1</SourceBand>
      <SourceProperties RasterXSize="1250" RasterYSize="1250" DataType="Float32" BlockXSize="512" BlockYSize="512" />
      <SrcRect xOff="0" yOff="0" xSize="1250" ySize="1250" />
      <DstRect xOff="53750" yOff="61250" xSize="1250" ySize="1250" />
      <NODATA>-999999</NODATA>
    </ComplexSource>
    <ComplexSource>
      <SourceFilename relativeToVRT="1">DO_S13_9697_34SW.tif</SourceFilename>
      <SourceBand>1</SourceBand>
      <SourceProperties RasterXSize="1250" RasterYSize="1250" DataType="Float32" BlockXSize="512" BlockYSize="512" />
      <SrcRect xOff="0" yOff="0" xSize="1250" ySize="1250" />
      <DstRect xOff="52500" yOff="60000" xSize="1250" ySize="1250" />
      <NODATA>-999999</NODATA>
    </ComplexSource>
    <ComplexSource>
      <SourceFilename relativeToVRT="1">DO_S13_9697_34NW.tif</SourceFilename>
      <SourceBand>1</SourceBand>
      <SourceProperties RasterXSize="1250" RasterYSize="1250" DataType="Float32" BlockXSize="512" BlockYSize="512" />
      <SrcRect xOff="0" yOff="0" xSize="1250" ySize="1250" />
      <DstRect xOff="52500" yOff="58750" xSize="1250" ySize="1250" />
      <NODATA>-999999</NODATA>
    </ComplexSource>
    <ComplexSource>
      <SourceFilename relativeToVRT="1">DO_S13_9697_34SE.tif</SourceFilename>
      <SourceBand>1</SourceBand>
      <SourceProperties RasterXSize="1250" RasterYSize="1250" DataType="Float32" BlockXSize="512" BlockYSize="512" />
      <SrcRect xOff="0" yOff="0" xSize="1250" ySize="1250" />
      <DstRect xOff="53750" yOff="60000" xSize="1250" ySize="1250" />
      <NODATA>-999999</NODATA>
    </ComplexSource>
    <ComplexSource>
      <SourceFilename relativeToVRT="1">DO_S13_9697_32NW.tif</SourceFilename>
      <SourceBand>1</SourceBand>
      <SourceProperties RasterXSize="1250" RasterYSize="1250" DataType="Float32" BlockXSize="512" BlockYSize="512" />
      <SrcRect xOff="0" yOff="0" xSize="1250" ySize="1250" />
      <DstRect xOff="50000" yOff="56250" xSize="1250" ySize="1250" />
      <NODATA>-999999</NODATA>
    </ComplexSource>
    <ComplexSource>
      <SourceFilename relativeToVRT="1">DO_S13_9697_32SE.tif</SourceFilename>
      <SourceBand>1</SourceBand>
      <SourceProperties RasterXSize="1250" RasterYSize="1250" DataType="Float32" BlockXSize="512" BlockYSize="512" />
      <SrcRect xOff="0" yOff="0" xSize="1250" ySize="1250" />
      <DstRect xOff="51250" yOff="57500" xSize="1250" ySize="1250" />
      <NODATA>-999999</NODATA>
    </ComplexSource>
    <ComplexSource>
      <SourceFilename relativeToVRT="1">DO_S13_9697_33NE.tif</SourceFilename>
      <SourceBand>1</SourceBand>
      <SourceProperties RasterXSize="1250" RasterYSize="1250" DataType="Float32" BlockXSize="512" BlockYSize="512" />
      <SrcRect xOff="0" yOff="0" xSize="1250" ySize="1250" />
      <DstRect xOff="53750" yOff="56250" xSize="1250" ySize="1250" />
      <NODATA>-999999</NODATA>
    </ComplexSource>
    <ComplexSource>
      <SourceFilename relativeToVRT="1">DO_S13_9697_33NW.tif</SourceFilename>
      <SourceBand>1</SourceBand>
      <SourceProperties RasterXSize="1250" RasterYSize="1250" DataType="Float32" BlockXSize="512" BlockYSize="512" />
      <SrcRect xOff="0" yOff="0" xSize="1250" ySize="1250" />
      <DstRect xOff="52500" yOff="56250" xSize="1250" ySize="1250" />
      <NODATA>-999999</NODATA>
    </ComplexSource>
    <ComplexSource>
      <SourceFilename relativeToVRT="1">DO_S13_9697_32NE.tif</SourceFilename>
      <SourceBand>1</SourceBand>
      <SourceProperties RasterXSize="1250" RasterYSize="1250" DataType="Float32" BlockXSize="512" BlockYSize="512" />
      <SrcRect xOff="0" yOff="0" xSize="1250" ySize="1250" />
      <DstRect xOff="51250" yOff="56250" xSize="1250" ySize="1250" />
      <NODATA>-999999</NODATA>
    </ComplexSource>
    <ComplexSource>
      <SourceFilename relativeToVRT="1">DO_S13_9697_31NW.tif</SourceFilename>
      <SourceBand>1</SourceBand>
      <SourceProperties RasterXSize="1250" RasterYSize="1250" DataType="Float32" BlockXSize="512" BlockYSize="512" />
      <SrcRect xOff="0" yOff="0" xSize="1250" ySize="1250" />
      <DstRect xOff="50000" yOff="58750" xSize="1250" ySize="1250" />
      <NODATA>-999999</NODATA>
    </ComplexSource>
    <ComplexSource>
      <SourceFilename relativeToVRT="1">DO_S13_9697_34NE.tif</SourceFilename>
      <SourceBand>1</SourceBand>
      <SourceProperties RasterXSize="1250" RasterYSize="1250" DataType="Float32" BlockXSize="512" BlockYSize="512" />
      <SrcRect xOff="0" yOff="0" xSize="1250" ySize="1250" />
      <DstRect xOff="53750" yOff="58750" xSize="1250" ySize="1250" />
      <NODATA>-999999</NODATA>
    </ComplexSource>
    <ComplexSource>
      <SourceFilename relativeToVRT="1">DO_S13_9697_32SW.tif</SourceFilename>
      <SourceBand>1</SourceBand>
      <SourceProperties RasterXSize="1250" RasterYSize="1250" DataType="Float32" BlockXSize="512" BlockYSize="512" />
      <SrcRect xOff="0" yOff="0" xSize="1250" ySize="1250" />
      <DstRect xOff="50000" yOff="57500" xSize="1250" ySize="1250" />
      <NODATA>-999999</NODATA>
    </ComplexSource>
    <ComplexSource>
      <SourceFilename relativeToVRT="1">DO_S13_9697_33SE.tif</SourceFilename>
      <SourceBand>1</SourceBand>
      <SourceProperties RasterXSize="1250" RasterYSize="1250" DataType="Float32" BlockXSize="512" BlockYSize="512" />
      <SrcRect xOff="0" yOff="0" xSize="1250" ySize="1250" />
      <DstRect xOff="53750" yOff="57500" xSize="1250" ySize="1250" />
      <NODATA>-999999</NODATA>
    </ComplexSource>
    <ComplexSource>
      <SourceFilename relativeToVRT="1">DO_S13_9697_33SW.tif</SourceFilename>
      <SourceBand>1</SourceBand>
      <SourceProperties RasterXSize="1250" RasterYSize="1250" DataType="Float32" BlockXSize="512" BlockYSize="512" />
      <SrcRect xOff="0" yOff="0" xSize="1250" ySize="1250" />
      <DstRect xOff="52500" yOff="57500" xSize="1250" ySize="1250" />
      <NODATA>-999999</NODATA>
    </ComplexSource>
    <ComplexSource>
      <SourceFilename relativeToVRT="1">DO_S23_0691_43SW.tif</SourceFilename>
      <SourceBand>1</SourceBand>
      <SourceProperties RasterXSize="1250" RasterYSize="1250" DataType="Float32" BlockXSize="512" BlockYSize="512" />
      <SrcRect xOff="0" yOff="0" xSize="1250" ySize="1250" />
      <DstRect xOff="152500" yOff="122500" xSize="1250" ySize="1250" />
      <NODATA>-999999</NODATA>
    </ComplexSource>
    <ComplexSource>
      <SourceFilename relativeToVRT="1">DO_S23_0691_44NW.tif</SourceFilename>
      <SourceBand>1</SourceBand>
      <SourceProperties RasterXSize="1250" RasterYSize="1250" DataType="Float32" BlockXSize="512" BlockYSize="512" />
      <SrcRect xOff="0" yOff="0" xSize="1250" ySize="1250" />
      <DstRect xOff="152500" yOff="123750" xSize="1250" ySize="1250" />
      <NODATA>-999999</NODATA>
    </ComplexSource>
    <ComplexSource>
      <SourceFilename relativeToVRT="1">DO_S13_9698_41SE.tif</SourceFilename>
      <SourceBand>1</SourceBand>
      <SourceProperties RasterXSize="1250" RasterYSize="1250" DataType="Float32" BlockXSize="512" BlockYSize="512" />
      <SrcRect xOff="0" yOff="0" xSize="1250" ySize="1250" />
      <DstRect xOff="51250" yOff="55000" xSize="1250" ySize="1250" />
      <NODATA>-999999</NODATA>
    </ComplexSource>
    <ComplexSource>
      <SourceFilename relativeToVRT="1">DO_S13_9697_44NE.tif</SourceFilename>
      <SourceBand>1</SourceBand>
      <SourceProperties RasterXSize="1250" RasterYSize="1250" DataType="Float32" BlockXSize="512" BlockYSize="512" />
      <SrcRect xOff="0" yOff="0" xSize="1250" ySize="1250" />
      <DstRect xOff="53750" yOff="63750" xSize="1250" ySize="1250" />
      <NODATA>-999999</NODATA>
    </ComplexSource>
    <ComplexSource>
      <SourceFilename relativeToVRT="1">DO_S13_9698_41SW.tif</SourceFilename>
      <SourceBand>1</SourceBand>
      <SourceProperties RasterXSize="1250" RasterYSize="1250" DataType="Float32" BlockXSize="512" BlockYSize="512" />
      <SrcRect xOff="0" yOff="0" xSize="1250" ySize="1250" />
      <DstRect xOff="50000" yOff="55000" xSize="1250" ySize="1250" />
      <NODATA>-999999</NODATA>
    </ComplexSource>
    <ComplexSource>
      <SourceFilename relativeToVRT="1">DO_S13_9698_44SW.tif</SourceFilename>
      <SourceBand>1</SourceBand>
      <SourceProperties RasterXSize="1250" RasterYSize="1250" DataType="Float32" BlockXSize="512" BlockYSize="512" />
      <SrcRect xOff="0" yOff="0" xSize="1250" ySize="1250" />
      <DstRect xOff="52500" yOff="55000" xSize="1250" ySize="1250" />
      <NODATA>-999999</NODATA>
    </ComplexSource>
    <ComplexSource>
      <SourceFilename relativeToVRT="1">DO_S13_9698_44SE.tif</SourceFilename>
      <SourceBand>1</SourceBand>
      <SourceProperties RasterXSize="1250" RasterYSize="1250" DataType="Float32" BlockXSize="512" BlockYSize="512" />
      <SrcRect xOff="0" yOff="0" xSize="1250" ySize="1250" />
      <DstRect xOff="53750" yOff="55000" xSize="1250" ySize="1250" />
      <NODATA>-999999</NODATA>
    </ComplexSource>
    <ComplexSource>
      <SourceFilename relativeToVRT="1">DO_S13_9697_44NW.tif</SourceFilename>
      <SourceBand>1</SourceBand>
      <SourceProperties RasterXSize="1250" RasterYSize="1250" DataType="Float32" BlockXSize="512" BlockYSize="512" />
      <SrcRect xOff="0" yOff="0" xSize="1250" ySize="1250" />
      <DstRect xOff="52500" yOff="63750" xSize="1250" ySize="1250" />
      <NODATA>-999999</NODATA>
    </ComplexSource>
    <ComplexSource>
      <SourceFilename relativeToVRT="1">DO_S13_9697_43SW.tif</SourceFilename>
      <SourceBand>1</SourceBand>
      <SourceProperties RasterXSize="1250" RasterYSize="1250" DataType="Float32" BlockXSize="512" BlockYSize="512" />
      <SrcRect xOff="0" yOff="0" xSize="1250" ySize="1250" />
      <DstRect xOff="52500" yOff="62500" xSize="1250" ySize="1250" />
      <NODATA>-999999</NODATA>
    </ComplexSource>
    <ComplexSource>
      <SourceFilename relativeToVRT="1">DO_S13_9697_43SE.tif</SourceFilename>
      <SourceBand>1</SourceBand>
      <SourceProperties RasterXSize="1250" RasterYSize="1250" DataType="Float32" BlockXSize="512" BlockYSize="512" />
      <SrcRect xOff="0" yOff="0" xSize="1250" ySize="1250" />
      <DstRect xOff="53750" yOff="62500" xSize="1250" ySize="1250" />
      <NODATA>-999999</NODATA>
    </ComplexSource>
    <ComplexSource>
      <SourceFilename relativeToVRT="1">DO_S13_9742_31NE.tif</SourceFilename>
      <SourceBand>1</SourceBand>
      <SourceProperties RasterXSize="1250" RasterYSize="1250" DataType="Float32" BlockXSize="512" BlockYSize="512" />
      <SrcRect xOff="0" yOff="0" xSize="1250" ySize="1250" />
      <DstRect xOff="1250" yOff="8750" xSize="1250" ySize="1250" />
      <NODATA>-999999</NODATA>
    </ComplexSource>
    <ComplexSource>
      <SourceFilename relativeToVRT="1">DO_S13_9697_43NW.tif</SourceFilename>
      <SourceBand>1</SourceBand>
      <SourceProperties RasterXSize="1250" RasterYSize="1250" DataType="Float32" BlockXSize="512" BlockYSize="512" />
      <SrcRect xOff="0" yOff="0" xSize="1250" ySize="1250" />
      <DstRect xOff="52500" yOff="61250" xSize="1250" ySize="1250" />
      <NODATA>-999999</NODATA>
    </ComplexSource>
    <ComplexSource>
      <SourceFilename relativeToVRT="1">DO_S13_9742_33SE.tif</SourceFilename>
      <SourceBand>1</SourceBand>
      <SourceProperties RasterXSize="1250" RasterYSize="1250" DataType="Float32" BlockXSize="512" BlockYSize="512" />
      <SrcRect xOff="0" yOff="0" xSize="1250" ySize="1250" />
      <DstRect xOff="3750" yOff="7500" xSize="1250" ySize="1250" />
      <NODATA>-999999</NODATA>
    </ComplexSource>
    <ComplexSource>
      <SourceFilename relativeToVRT="1">DO_S13_9742_32SE.tif</SourceFilename>
      <SourceBand>1</SourceBand>
      <SourceProperties RasterXSize="1250" RasterYSize="1250" DataType="Float32" BlockXSize="512" BlockYSize="512" />
      <SrcRect xOff="0" yOff="0" xSize="1250" ySize="1250" />
      <DstRect xOff="1250" yOff="7500" xSize="1250" ySize="1250" />
      <NODATA>-999999</NODATA>
    </ComplexSource>
    <ComplexSource>
      <SourceFilename relativeToVRT="1">DO_S13_9742_33SW.tif</SourceFilename>
      <SourceBand>1</SourceBand>
      <SourceProperties RasterXSize="1250" RasterYSize="1250" DataType="Float32" BlockXSize="512" BlockYSize="512" />
      <SrcRect xOff="0" yOff="0" xSize="1250" ySize="1250" />
      <DstRect xOff="2500" yOff="7500" xSize="1250" ySize="1250" />
      <NODATA>-999999</NODATA>
    </ComplexSource>
    <ComplexSource>
      <SourceFilename relativeToVRT="1">DO_S13_9742_31NW.tif</SourceFilename>
      <SourceBand>1</SourceBand>
      <SourceProperties RasterXSize="1250" RasterYSize="1250" DataType="Float32" BlockXSize="512" BlockYSize="512" />
      <SrcRect xOff="0" yOff="0" xSize="1250" ySize="1250" />
      <DstRect xOff="0" yOff="8750" xSize="1250" ySize="1250" />
      <NODATA>-999999</NODATA>
    </ComplexSource>
    <ComplexSource>
      <SourceFilename relativeToVRT="1">DO_S13_9742_33NE.tif</SourceFilename>
      <SourceBand>1</SourceBand>
      <SourceProperties RasterXSize="1250" RasterYSize="1250" DataType="Float32" BlockXSize="512" BlockYSize="512" />
      <SrcRect xOff="0" yOff="0" xSize="1250" ySize="1250" />
      <DstRect xOff="3750" yOff="6250" xSize="1250" ySize="1250" />
      <NODATA>-999999</NODATA>
    </ComplexSource>
    <ComplexSource>
      <SourceFilename relativeToVRT="1">DO_S13_9742_34NE.tif</SourceFilename>
      <SourceBand>1</SourceBand>
      <SourceProperties RasterXSize="1250" RasterYSize="1250" DataType="Float32" BlockXSize="512" BlockYSize="512" />
      <SrcRect xOff="0" yOff="0" xSize="1250" ySize="1250" />
      <DstRect xOff="3750" yOff="8750" xSize="1250" ySize="1250" />
      <NODATA>-999999</NODATA>
    </ComplexSource>
    <ComplexSource>
      <SourceFilename relativeToVRT="1">DO_S13_9742_33NW.tif</SourceFilename>
      <SourceBand>1</SourceBand>
      <SourceProperties RasterXSize="1250" RasterYSize="1250" DataType="Float32" BlockXSize="512" BlockYSize="512" />
      <SrcRect xOff="0" yOff="0" xSize="1250" ySize="1250" />
      <DstRect xOff="2500" yOff="6250" xSize="1250" ySize="1250" />
      <NODATA>-999999</NODATA>
    </ComplexSource>
    <ComplexSource>
      <SourceFilename relativeToVRT="1">DO_S13_9742_32NW.tif</SourceFilename>
      <SourceBand>1</SourceBand>
      <SourceProperties RasterXSize="1250" RasterYSize="1250" DataType="Float32" BlockXSize="512" BlockYSize="512" />
      <SrcRect xOff="0" yOff="0" xSize="1250" ySize="1250" />
      <DstRect xOff="0" yOff="6250" xSize="1250" ySize="1250" />
      <NODATA>-999999</NODATA>
    </ComplexSource>
    <ComplexSource>
      <SourceFilename relativeToVRT="1">DO_S13_9742_32SW.tif</SourceFilename>
      <SourceBand>1</SourceBand>
      <SourceProperties RasterXSize="1250" RasterYSize="1250" DataType="Float32" BlockXSize="512" BlockYSize="512" />
      <SrcRect xOff="0" yOff="0" xSize="1250" ySize="1250" />
      <DstRect xOff="0" yOff="7500" xSize="1250" ySize="1250" />
      <NODATA>-999999</NODATA>
    </ComplexSource>
    <ComplexSource>
      <SourceFilename relativeToVRT="1">DO_S13_9742_32NE.tif</SourceFilename>
      <SourceBand>1</SourceBand>
      <SourceProperties RasterXSize="1250" RasterYSize="1250" DataType="Float32" BlockXSize="512" BlockYSize="512" />
      <SrcRect xOff="0" yOff="0" xSize="1250" ySize="1250" />
      <DstRect xOff="1250" yOff="6250" xSize="1250" ySize="1250" />
      <NODATA>-999999</NODATA>
    </ComplexSource>
    <ComplexSource>
      <SourceFilename relativeToVRT="1">DO_S13_9743_43SW.tif</SourceFilename>
      <SourceBand>1</SourceBand>
      <SourceProperties RasterXSize="1250" RasterYSize="1250" DataType="Float32" BlockXSize="512" BlockYSize="512" />
      <SrcRect xOff="0" yOff="0" xSize="1250" ySize="1250" />
      <DstRect xOff="2500" yOff="2500" xSize="1250" ySize="1250" />
      <NODATA>-999999</NODATA>
    </ComplexSource>
    <ComplexSource>
      <SourceFilename relativeToVRT="1">DO_S13_9743_42SE.tif</SourceFilename>
      <SourceBand>1</SourceBand>
      <SourceProperties RasterXSize="1250" RasterYSize="1250" DataType="Float32" BlockXSize="512" BlockYSize="512" />
      <SrcRect xOff="0" yOff="0" xSize="1250" ySize="1250" />
      <DstRect xOff="1250" yOff="2500" xSize="1250" ySize="1250" />
      <NODATA>-999999</NODATA>
    </ComplexSource>
    <ComplexSource>
      <SourceFilename relativeToVRT="1">DO_S13_9743_43NW.tif</SourceFilename>
      <SourceBand>1</SourceBand>
      <SourceProperties RasterXSize="1250" RasterYSize="1250" DataType="Float32" BlockXSize="512" BlockYSize="512" />
      <SrcRect xOff="0" yOff="0" xSize="1250" ySize="1250" />
      <DstRect xOff="2500" yOff="1250" xSize="1250" ySize="1250" />
      <NODATA>-999999</NODATA>
    </ComplexSource>
    <ComplexSource>
      <SourceFilename relativeToVRT="1">DO_S13_9743_42NW.tif</SourceFilename>
      <SourceBand>1</SourceBand>
      <SourceProperties RasterXSize="1250" RasterYSize="1250" DataType="Float32" BlockXSize="512" BlockYSize="512" />
      <SrcRect xOff="0" yOff="0" xSize="1250" ySize="1250" />
      <DstRect xOff="0" yOff="1250" xSize="1250" ySize="1250" />
      <NODATA>-999999</NODATA>
    </ComplexSource>
    <ComplexSource>
      <SourceFilename relativeToVRT="1">DO_S13_9743_42NE.tif</SourceFilename>
      <SourceBand>1</SourceBand>
      <SourceProperties RasterXSize="1250" RasterYSize="1250" DataType="Float32" BlockXSize="512" BlockYSize="512" />
      <SrcRect xOff="0" yOff="0" xSize="1250" ySize="1250" />
      <DstRect xOff="1250" yOff="1250" xSize="1250" ySize="1250" />
      <NODATA>-999999</NODATA>
    </ComplexSource>
    <ComplexSource>
      <SourceFilename relativeToVRT="1">DO_S13_9743_41NE.tif</SourceFilename>
      <SourceBand>1</SourceBand>
      <SourceProperties RasterXSize="1250" RasterYSize="1250" DataType="Float32" BlockXSize="512" BlockYSize="512" />
      <SrcRect xOff="0" yOff="0" xSize="1250" ySize="1250" />
      <DstRect xOff="1250" yOff="3750" xSize="1250" ySize="1250" />
      <NODATA>-999999</NODATA>
    </ComplexSource>
    <ComplexSource>
      <SourceFilename relativeToVRT="1">DO_S13_9742_34NW.tif</SourceFilename>
      <SourceBand>1</SourceBand>
      <SourceProperties RasterXSize="1250" RasterYSize="1250" DataType="Float32" BlockXSize="512" BlockYSize="512" />
      <SrcRect xOff="0" yOff="0" xSize="1250" ySize="1250" />
      <DstRect xOff="2500" yOff="8750" xSize="1250" ySize="1250" />
      <NODATA>-999999</NODATA>
    </ComplexSource>
    <ComplexSource>
      <SourceFilename relativeToVRT="1">DO_S13_9743_43NE.tif</SourceFilename>
      <SourceBand>1</SourceBand>
      <SourceProperties RasterXSize="1250" RasterYSize="1250" DataType="Float32" BlockXSize="512" BlockYSize="512" />
      <SrcRect xOff="0" yOff="0" xSize="1250" ySize="1250" />
      <DstRect xOff="3750" yOff="1250" xSize="1250" ySize="1250" />
      <NODATA>-999999</NODATA>
    </ComplexSource>
    <ComplexSource>
      <SourceFilename relativeToVRT="1">DO_S13_9743_43SE.tif</SourceFilename>
      <SourceBand>1</SourceBand>
      <SourceProperties RasterXSize="1250" RasterYSize="1250" DataType="Float32" BlockXSize="512" BlockYSize="512" />
      <SrcRect xOff="0" yOff="0" xSize="1250" ySize="1250" />
      <DstRect xOff="3750" yOff="2500" xSize="1250" ySize="1250" />
      <NODATA>-999999</NODATA>
    </ComplexSource>
    <ComplexSource>
      <SourceFilename relativeToVRT="1">DO_S13_9743_41SE.tif</SourceFilename>
      <SourceBand>1</SourceBand>
      <SourceProperties RasterXSize="1250" RasterYSize="1250" DataType="Float32" BlockXSize="512" BlockYSize="512" />
      <SrcRect xOff="0" yOff="0" xSize="1250" ySize="1250" />
      <DstRect xOff="1250" yOff="5000" xSize="1250" ySize="1250" />
      <NODATA>-999999</NODATA>
    </ComplexSource>
    <ComplexSource>
      <SourceFilename relativeToVRT="1">DO_S13_9743_44NW.tif</SourceFilename>
      <SourceBand>1</SourceBand>
      <SourceProperties RasterXSize="1250" RasterYSize="1250" DataType="Float32" BlockXSize="512" BlockYSize="512" />
      <SrcRect xOff="0" yOff="0" xSize="1250" ySize="1250" />
      <DstRect xOff="2500" yOff="3750" xSize="1250" ySize="1250" />
      <NODATA>-999999</NODATA>
    </ComplexSource>
    <ComplexSource>
      <SourceFilename relativeToVRT="1">DO_S13_9752_22SE.tif</SourceFilename>
      <SourceBand>1</SourceBand>
      <SourceProperties RasterXSize="1250" RasterYSize="1250" DataType="Float32" BlockXSize="512" BlockYSize="512" />
      <SrcRect xOff="0" yOff="0" xSize="1250" ySize="1250" />
      <DstRect xOff="6250" yOff="7500" xSize="1250" ySize="1250" />
      <NODATA>-999999</NODATA>
    </ComplexSource>
    <ComplexSource>
      <SourceFilename relativeToVRT="1">DO_S13_9752_22SW.tif</SourceFilename>
      <SourceBand>1</SourceBand>
      <SourceProperties RasterXSize="1250" RasterYSize="1250" DataType="Float32" BlockXSize="512" BlockYSize="512" />
      <SrcRect xOff="0" yOff="0" xSize="1250" ySize="1250" />
      <DstRect xOff="5000" yOff="7500" xSize="1250" ySize="1250" />
      <NODATA>-999999</NODATA>
    </ComplexSource>
    <ComplexSource>
      <SourceFilename relativeToVRT="1">DO_S13_9752_22NE.tif</SourceFilename>
      <SourceBand>1</SourceBand>
      <SourceProperties RasterXSize="1250" RasterYSize="1250" DataType="Float32" BlockXSize="512" BlockYSize="512" />
      <SrcRect xOff="0" yOff="0" xSize="1250" ySize="1250" />
      <DstRect xOff="6250" yOff="6250" xSize="1250" ySize="1250" />
      <NODATA>-999999</NODATA>
    </ComplexSource>
    <ComplexSource>
      <SourceFilename relativeToVRT="1">DO_S13_9743_44SW.tif</SourceFilename>
      <SourceBand>1</SourceBand>
      <SourceProperties RasterXSize="1250" RasterYSize="1250" DataType="Float32" BlockXSize="512" BlockYSize="512" />
      <SrcRect xOff="0" yOff="0" xSize="1250" ySize="1250" />
      <DstRect xOff="2500" yOff="5000" xSize="1250" ySize="1250" />
      <NODATA>-999999</NODATA>
    </ComplexSource>
    <ComplexSource>
