<VRTDataset rasterXSize="75000" rasterYSize="68750">
  <SRS dataAxisToSRSAxisMapping="1,2,3">COMPD_CS["NAD83(HARN) / Virginia South (ftUS) + NAVD88 height (ftUS)",PROJCS["NAD83(HARN) / Virginia South (ftUS)",GEOGCS["NAD83(HARN)",DATUM["NAD83_High_Accuracy_Reference_Network",SPHEROID["GRS 1980",6378137,298.257222101,AUTHORITY["EPSG","7019"]],AUTHORITY["EPSG","6152"]],PRIMEM["Greenwich",0,AUTHORITY["EPSG","8901"]],UNIT["degree",0.0174532925199433,AUTHORITY["EPSG","9122"]],AUTHORITY["EPSG","4152"]],PROJECTION["Lambert_Conformal_Conic_2SP"],PARAMETER["latitude_of_origin",36.3333333333333],PARAMETER["central_meridian",-78.5],PARAMETER["standard_parallel_1",37.9666666666667],PARAMETER["standard_parallel_2",36.7666666666667],PARAMETER["false_easting",11482916.667],PARAMETER["false_northing",3280833.333],UNIT["US survey foot",0.304800609601219,AUTHORITY["EPSG","9003"]],AXIS["Easting",EAST],AXIS["Northing",NORTH],AUTHORITY["EPSG","2925"]],VERT_CS["NAVD88 height (ftUS)",VERT_DATUM["North American Vertical Datum 1988",2005,AUTHORITY["EPSG","5103"]],UNIT["US survey foot",0.304800609601219,AUTHORITY["EPSG","9003"]],AXIS["Gravity-related height",UP],AUTHORITY["EPSG","6360"]]]</SRS>
  <GeoTransform>  1.1737500000000000e+07,  1.0000000000000000e+00,  0.0000000000000000e+00,  3.7512500000000000e+06,  0.0000000000000000e+00, -1.0000000000000000e+00</GeoTransform>
  <VRTRasterBand dataType="Float32" band="1">
    <NoDataValue>-999999</NoDataValue>
    <ColorInterp>Gray</ColorInterp>
    <ComplexSource>
      <SourceFilename relativeToVRT="1">DO_S13_7732_43SW.2025.tif</SourceFilename>
      <SourceBand>1</SourceBand>
      <SourceProperties RasterXSize="1250" RasterYSize="1250" DataType="Float32" BlockXSize="512" BlockYSize="512" />
      <SrcRect xOff="0" yOff="0" xSize="1250" ySize="1250" />
      <DstRect xOff="0" yOff="27500" xSize="1250" ySize="1250" />
      <NODATA>-999999</NODATA>
    </ComplexSource>
    <ComplexSource>
      <SourceFilename relativeToVRT="1">DO_S13_7741_12NE.2025.tif</SourceFilename>
      <SourceBand>1</SourceBand>
      <SourceProperties RasterXSize="1250" RasterYSize="1250" DataType="Float32" BlockXSize="512" BlockYSize="512" />
      <SrcRect xOff="0" yOff="0" xSize="1250" ySize="1250" />
      <DstRect xOff="3750" yOff="36250" xSize="1250" ySize="1250" />
      <NODATA>-999999</NODATA>
    </ComplexSource>
    <ComplexSource>
      <SourceFilename relativeToVRT="1">DO_S13_7679_24SE.2025.tif</SourceFilename>
      <SourceBand>1</SourceBand>
      <SourceProperties RasterXSize="1250" RasterYSize="1250" DataType="Float32" BlockXSize="512" BlockYSize="512" />
      <SrcRect xOff="0" yOff="0" xSize="1250" ySize="1250" />
      <DstRect xOff="36250" yOff="55000" xSize="1250" ySize="1250" />
      <NODATA>-999999</NODATA>
    </ComplexSource>
    <ComplexSource>
      <SourceFilename relativeToVRT="1">DO_S13_7732_43NW.2025.tif</SourceFilename>
      <SourceBand>1</SourceBand>
      <SourceProperties RasterXSize="1250" RasterYSize="1250" DataType="Float32" BlockXSize="512" BlockYSize="512" />
      <SrcRect xOff="0" yOff="0" xSize="1250" ySize="1250" />
      <DstRect xOff="0" yOff="26250" xSize="1250" ySize="1250" />
      <NODATA>-999999</NODATA>
    </ComplexSource>
    <ComplexSource>
      <SourceFilename relativeToVRT="1">DO_S13_7741_34NW.2025.tif</SourceFilename>
      <SourceBand>1</SourceBand>
      <SourceProperties RasterXSize="1250" RasterYSize="1250" DataType="Float32" BlockXSize="512" BlockYSize="512" />
      <SrcRect xOff="0" yOff="0" xSize="1250" ySize="1250" />
      <DstRect xOff="10000" yOff="33750" xSize="1250" ySize="1250" />
      <NODATA>-999999</NODATA>
    </ComplexSource>
    <ComplexSource>
      <SourceFilename relativeToVRT="1">DO_S13_7741_21NE.2025.tif</SourceFilename>
      <SourceBand>1</SourceBand>
      <SourceProperties RasterXSize="1250" RasterYSize="1250" DataType="Float32" BlockXSize="512" BlockYSize="512" />
      <SrcRect xOff="0" yOff="0" xSize="1250" ySize="1250" />
      <DstRect xOff="3750" yOff="33750" xSize="1250" ySize="1250" />
      <NODATA>-999999</NODATA>
    </ComplexSource>
    <ComplexSource>
      <SourceFilename relativeToVRT="1">DO_S13_7741_13SE.2025.tif</SourceFilename>
      <SourceBand>1</SourceBand>
      <SourceProperties RasterXSize="1250" RasterYSize="1250" DataType="Float32" BlockXSize="512" BlockYSize="512" />
      <SrcRect xOff="0" yOff="0" xSize="1250" ySize="1250" />
      <DstRect xOff="6250" yOff="37500" xSize="1250" ySize="1250" />
      <NODATA>-999999</NODATA>
    </ComplexSource>
    <ComplexSource>
      <SourceFilename relativeToVRT="1">DO_S13_7741_21NW.2025.tif</SourceFilename>
      <SourceBand>1</SourceBand>
      <SourceProperties RasterXSize="1250" RasterYSize="1250" DataType="Float32" BlockXSize="512" BlockYSize="512" />
      <SrcRect xOff="0" yOff="0" xSize="1250" ySize="1250" />
      <DstRect xOff="2500" yOff="33750" xSize="1250" ySize="1250" />
      <NODATA>-999999</NODATA>
    </ComplexSource>
    <ComplexSource>
      <SourceFilename relativeToVRT="1">DO_S13_7741_23SE.2025.tif</SourceFilename>
      <SourceBand>1</SourceBand>
      <SourceProperties RasterXSize="1250" RasterYSize="1250" DataType="Float32" BlockXSize="512" BlockYSize="512" />
      <SrcRect xOff="0" yOff="0" xSize="1250" ySize="1250" />
      <DstRect xOff="6250" yOff="32500" xSize="1250" ySize="1250" />
      <NODATA>-999999</NODATA>
    </ComplexSource>
    <ComplexSource>
      <SourceFilename relativeToVRT="1">DO_S13_7668_33NE.2025.tif</SourceFilename>
      <SourceBand>1</SourceBand>
      <SourceProperties RasterXSize="1250" RasterYSize="1250" DataType="Float32" BlockXSize="512" BlockYSize="512" />
      <SrcRect xOff="0" yOff="0" xSize="1250" ySize="1250" />
      <DstRect xOff="31250" yOff="61250" xSize="1250" ySize="1250" />
      <NODATA>-999999</NODATA>
    </ComplexSource>
    <ComplexSource>
      <SourceFilename relativeToVRT="1">DO_S13_7669_13NE.2025.tif</SourceFilename>
      <SourceBand>1</SourceBand>
      <SourceProperties RasterXSize="1250" RasterYSize="1250" DataType="Float32" BlockXSize="512" BlockYSize="512" />
      <SrcRect xOff="0" yOff="0" xSize="1250" ySize="1250" />
      <DstRect xOff="26250" yOff="56250" xSize="1250" ySize="1250" />
      <NODATA>-999999</NODATA>
    </ComplexSource>
    <ComplexSource>
      <SourceFilename relativeToVRT="1">DO_S13_7669_23SE.2025.tif</SourceFilename>
      <SourceBand>1</SourceBand>
      <SourceProperties RasterXSize="1250" RasterYSize="1250" DataType="Float32" BlockXSize="512" BlockYSize="512" />
      <SrcRect xOff="0" yOff="0" xSize="1250" ySize="1250" />
      <DstRect xOff="26250" yOff="52500" xSize="1250" ySize="1250" />
      <NODATA>-999999</NODATA>
    </ComplexSource>
    <ComplexSource>
      <SourceFilename relativeToVRT="1">DO_S13_7669_31NE.2025.tif</SourceFilename>
      <SourceBand>1</SourceBand>
      <SourceProperties RasterXSize="1250" RasterYSize="1250" DataType="Float32" BlockXSize="512" BlockYSize="512" />
      <SrcRect xOff="0" yOff="0" xSize="1250" ySize="1250" />
      <DstRect xOff="28750" yOff="53750" xSize="1250" ySize="1250" />
      <NODATA>-999999</NODATA>
    </ComplexSource>
    <ComplexSource>
      <SourceFilename relativeToVRT="1">DO_S13_7669_23NE.2025.tif</SourceFilename>
      <SourceBand>1</SourceBand>
      <SourceProperties RasterXSize="1250" RasterYSize="1250" DataType="Float32" BlockXSize="512" BlockYSize="512" />
      <SrcRect xOff="0" yOff="0" xSize="1250" ySize="1250" />
      <DstRect xOff="26250" yOff="51250" xSize="1250" ySize="1250" />
      <NODATA>-999999</NODATA>
    </ComplexSource>
    <ComplexSource>
      <SourceFilename relativeToVRT="1">DO_S13_7669_24NE.2025.tif</SourceFilename>
      <SourceBand>1</SourceBand>
      <SourceProperties RasterXSize="1250" RasterYSize="1250" DataType="Float32" BlockXSize="512" BlockYSize="512" />
      <SrcRect xOff="0" yOff="0" xSize="1250" ySize="1250" />
      <DstRect xOff="26250" yOff="53750" xSize="1250" ySize="1250" />
      <NODATA>-999999</NODATA>
    </ComplexSource>
    <ComplexSource>
      <SourceFilename relativeToVRT="1">DO_S13_7669_23SW.2025.tif</SourceFilename>
      <SourceBand>1</SourceBand>
      <SourceProperties RasterXSize="1250" RasterYSize="1250" DataType="Float32" BlockXSize="512" BlockYSize="512" />
      <SrcRect xOff="0" yOff="0" xSize="1250" ySize="1250" />
      <DstRect xOff="25000" yOff="52500" xSize="1250" ySize="1250" />
      <NODATA>-999999</NODATA>
    </ComplexSource>
    <ComplexSource>
      <SourceFilename relativeToVRT="1">DO_S13_7669_31NW.2025.tif</SourceFilename>
      <SourceBand>1</SourceBand>
      <SourceProperties RasterXSize="1250" RasterYSize="1250" DataType="Float32" BlockXSize="512" BlockYSize="512" />
      <SrcRect xOff="0" yOff="0" xSize="1250" ySize="1250" />
      <DstRect xOff="27500" yOff="53750" xSize="1250" ySize="1250" />
      <NODATA>-999999</NODATA>
    </ComplexSource>
    <ComplexSource>
      <SourceFilename relativeToVRT="1">DO_S13_7669_24SE.2025.tif</SourceFilename>
      <SourceBand>1</SourceBand>
      <SourceProperties RasterXSize="1250" RasterYSize="1250" DataType="Float32" BlockXSize="512" BlockYSize="512" />
      <SrcRect xOff="0" yOff="0" xSize="1250" ySize="1250" />
      <DstRect xOff="26250" yOff="55000" xSize="1250" ySize="1250" />
      <NODATA>-999999</NODATA>
    </ComplexSource>
    <ComplexSource>
      <SourceFilename relativeToVRT="1">DO_S13_7669_23NW.2025.tif</SourceFilename>
      <SourceBand>1</SourceBand>
      <SourceProperties RasterXSize="1250" RasterYSize="1250" DataType="Float32" BlockXSize="512" BlockYSize="512" />
      <SrcRect xOff="0" yOff="0" xSize="1250" ySize="1250" />
      <DstRect xOff="25000" yOff="51250" xSize="1250" ySize="1250" />
      <NODATA>-999999</NODATA>
    </ComplexSource>
    <ComplexSource>
      <SourceFilename relativeToVRT="1">DO_S13_7741_23SW.2025.tif</SourceFilename>
      <SourceBand>1</SourceBand>
      <SourceProperties RasterXSize="1250" RasterYSize="1250" DataType="Float32" BlockXSize="512" BlockYSize="512" />
      <SrcRect xOff="0" yOff="0" xSize="1250" ySize="1250" />
      <DstRect xOff="5000" yOff="32500" xSize="1250" ySize="1250" />
      <NODATA>-999999</NODATA>
    </ComplexSource>
    <ComplexSource>
      <SourceFilename relativeToVRT="1">DO_S13_7669_32NW.2025.tif</SourceFilename>
      <SourceBand>1</SourceBand>
      <SourceProperties RasterXSize="1250" RasterYSize="1250" DataType="Float32" BlockXSize="512" BlockYSize="512" />
      <SrcRect xOff="0" yOff="0" xSize="1250" ySize="1250" />
      <DstRect xOff="27500" yOff="51250" xSize="1250" ySize="1250" />
      <NODATA>-999999</NODATA>
    </ComplexSource>
    <ComplexSource>
      <SourceFilename relativeToVRT="1">DO_S13_7669_33NE.2025.tif</SourceFilename>
      <SourceBand>1</SourceBand>
      <SourceProperties RasterXSize="1250" RasterYSize="1250" DataType="Float32" BlockXSize="512" BlockYSize="512" />
      <SrcRect xOff="0" yOff="0" xSize="1250" ySize="1250" />
      <DstRect xOff="31250" yOff="51250" xSize="1250" ySize="1250" />
      <NODATA>-999999</NODATA>
    </ComplexSource>
    <ComplexSource>
      <SourceFilename relativeToVRT="1">DO_S13_7669_32SE.2025.tif</SourceFilename>
      <SourceBand>1</SourceBand>
      <SourceProperties RasterXSize="1250" RasterYSize="1250" DataType="Float32" BlockXSize="512" BlockYSize="512" />
      <SrcRect xOff="0" yOff="0" xSize="1250" ySize="1250" />
      <DstRect xOff="28750" yOff="52500" xSize="1250" ySize="1250" />
      <NODATA>-999999</NODATA>
    </ComplexSource>
    <ComplexSource>
      <SourceFilename relativeToVRT="1">DO_S13_7669_33NW.2025.tif</SourceFilename>
      <SourceBand>1</SourceBand>
      <SourceProperties RasterXSize="1250" RasterYSize="1250" DataType="Float32" BlockXSize="512" BlockYSize="512" />
      <SrcRect xOff="0" yOff="0" xSize="1250" ySize="1250" />
      <DstRect xOff="30000" yOff="51250" xSize="1250" ySize="1250" />
      <NODATA>-999999</NODATA>
    </ComplexSource>
    <ComplexSource>
      <SourceFilename relativeToVRT="1">DO_S13_7669_33SE.2025.tif</SourceFilename>
      <SourceBand>1</SourceBand>
      <SourceProperties RasterXSize="1250" RasterYSize="1250" DataType="Float32" BlockXSize="512" BlockYSize="512" />
      <SrcRect xOff="0" yOff="0" xSize="1250" ySize="1250" />
      <DstRect xOff="31250" yOff="52500" xSize="1250" ySize="1250" />
      <NODATA>-999999</NODATA>
    </ComplexSource>
    <ComplexSource>
      <SourceFilename relativeToVRT="1">DO_S13_7669_32SW.2025.tif</SourceFilename>
      <SourceBand>1</SourceBand>
      <SourceProperties RasterXSize="1250" RasterYSize="1250" DataType="Float32" BlockXSize="512" BlockYSize="512" />
      <SrcRect xOff="0" yOff="0" xSize="1250" ySize="1250" />
      <DstRect xOff="27500" yOff="52500" xSize="1250" ySize="1250" />
      <NODATA>-999999</NODATA>
    </ComplexSource>
    <ComplexSource>
      <SourceFilename relativeToVRT="1">DO_S13_7669_31SE.2025.tif</SourceFilename>
      <SourceBand>1</SourceBand>
      <SourceProperties RasterXSize="1250" RasterYSize="1250" DataType="Float32" BlockXSize="512" BlockYSize="512" />
      <SrcRect xOff="0" yOff="0" xSize="1250" ySize="1250" />
      <DstRect xOff="28750" yOff="55000" xSize="1250" ySize="1250" />
      <NODATA>-999999</NODATA>
    </ComplexSource>
    <ComplexSource>
      <SourceFilename relativeToVRT="1">DO_S13_7669_31SW.2025.tif</SourceFilename>
      <SourceBand>1</SourceBand>
      <SourceProperties RasterXSize="1250" RasterYSize="1250" DataType="Float32" BlockXSize="512" BlockYSize="512" />
      <SrcRect xOff="0" yOff="0" xSize="1250" ySize="1250" />
      <DstRect xOff="27500" yOff="55000" xSize="1250" ySize="1250" />
      <NODATA>-999999</NODATA>
    </ComplexSource>
    <ComplexSource>
      <SourceFilename relativeToVRT="1">DO_S13_7669_32NE.2025.tif</SourceFilename>
      <SourceBand>1</SourceBand>
      <SourceProperties RasterXSize="1250" RasterYSize="1250" DataType="Float32" BlockXSize="512" BlockYSize="512" />
      <SrcRect xOff="0" yOff="0" xSize="1250" ySize="1250" />
      <DstRect xOff="28750" yOff="51250" xSize="1250" ySize="1250" />
      <NODATA>-999999</NODATA>
    </ComplexSource>
    <ComplexSource>
      <SourceFilename relativeToVRT="1">DO_S13_7669_33SW.2025.tif</SourceFilename>
      <SourceBand>1</SourceBand>
      <SourceProperties RasterXSize="1250" RasterYSize="1250" DataType="Float32" BlockXSize="512" BlockYSize="512" />
      <SrcRect xOff="0" yOff="0" xSize="1250" ySize="1250" />
      <DstRect xOff="30000" yOff="52500" xSize="1250" ySize="1250" />
      <NODATA>-999999</NODATA>
    </ComplexSource>
    <ComplexSource>
      <SourceFilename relativeToVRT="1">DO_S13_7669_42SW.2025.tif</SourceFilename>
      <SourceBand>1</SourceBand>
      <SourceProperties RasterXSize="1250" RasterYSize="1250" DataType="Float32" BlockXSize="512" BlockYSize="512" />
      <SrcRect xOff="0" yOff="0" xSize="1250" ySize="1250" />
      <DstRect xOff="27500" yOff="57500" xSize="1250" ySize="1250" />
      <NODATA>-999999</NODATA>
    </ComplexSource>
    <ComplexSource>
      <SourceFilename relativeToVRT="1">DO_S13_7669_41NE.2025.tif</SourceFilename>
      <SourceBand>1</SourceBand>
      <SourceProperties RasterXSize="1250" RasterYSize="1250" DataType="Float32" BlockXSize="512" BlockYSize="512" />
      <SrcRect xOff="0" yOff="0" xSize="1250" ySize="1250" />
      <DstRect xOff="28750" yOff="58750" xSize="1250" ySize="1250" />
      <NODATA>-999999</NODATA>
    </ComplexSource>
    <ComplexSource>
      <SourceFilename relativeToVRT="1">DO_S13_7669_34SW.2025.tif</SourceFilename>
      <SourceBand>1</SourceBand>
      <SourceProperties RasterXSize="1250" RasterYSize="1250" DataType="Float32" BlockXSize="512" BlockYSize="512" />
      <SrcRect xOff="0" yOff="0" xSize="1250" ySize="1250" />
      <DstRect xOff="30000" yOff="55000" xSize="1250" ySize="1250" />
      <NODATA>-999999</NODATA>
    </ComplexSource>
    <ComplexSource>
      <SourceFilename relativeToVRT="1">DO_S13_7669_43NE.2025.tif</SourceFilename>
      <SourceBand>1</SourceBand>
      <SourceProperties RasterXSize="1250" RasterYSize="1250" DataType="Float32" BlockXSize="512" BlockYSize="512" />
      <SrcRect xOff="0" yOff="0" xSize="1250" ySize="1250" />
      <DstRect xOff="31250" yOff="56250" xSize="1250" ySize="1250" />
      <NODATA>-999999</NODATA>
    </ComplexSource>
    <ComplexSource>
      <SourceFilename relativeToVRT="1">DO_S13_7669_34SE.2025.tif</SourceFilename>
      <SourceBand>1</SourceBand>
      <SourceProperties RasterXSize="1250" RasterYSize="1250" DataType="Float32" BlockXSize="512" BlockYSize="512" />
      <SrcRect xOff="0" yOff="0" xSize="1250" ySize="1250" />
      <DstRect xOff="31250" yOff="55000" xSize="1250" ySize="1250" />
      <NODATA>-999999</NODATA>
    </ComplexSource>
    <ComplexSource>
      <SourceFilename relativeToVRT="1">DO_S13_7669_34NW.2025.tif</SourceFilename>
      <SourceBand>1</SourceBand>
      <SourceProperties RasterXSize="1250" RasterYSize="1250" DataType="Float32" BlockXSize="512" BlockYSize="512" />
      <SrcRect xOff="0" yOff="0" xSize="1250" ySize="1250" />
      <DstRect xOff="30000" yOff="53750" xSize="1250" ySize="1250" />
      <NODATA>-999999</NODATA>
    </ComplexSource>
    <ComplexSource>
      <SourceFilename relativeToVRT="1">DO_S13_7669_34NE.2025.tif</SourceFilename>
      <SourceBand>1</SourceBand>
      <SourceProperties RasterXSize="1250" RasterYSize="1250" DataType="Float32" BlockXSize="512" BlockYSize="512" />
      <SrcRect xOff="0" yOff="0" xSize="1250" ySize="1250" />
      <DstRect xOff="31250" yOff="53750" xSize="1250" ySize="1250" />
      <NODATA>-999999</NODATA>
    </ComplexSource>
    <ComplexSource>
      <SourceFilename relativeToVRT="1">DO_S13_7669_42SE.2025.tif</SourceFilename>
      <SourceBand>1</SourceBand>
      <SourceProperties RasterXSize="1250" RasterYSize="1250" DataType="Float32" BlockXSize="512" BlockYSize="512" />
      <SrcRect xOff="0" yOff="0" xSize="1250" ySize="1250" />
      <DstRect xOff="28750" yOff="57500" xSize="1250" ySize="1250" />
      <NODATA>-999999</NODATA>
    </ComplexSource>
    <ComplexSource>
      <SourceFilename relativeToVRT="1">DO_S13_7669_42NE.2025.tif</SourceFilename>
      <SourceBand>1</SourceBand>
      <SourceProperties RasterXSize="1250" RasterYSize="1250" DataType="Float32" BlockXSize="512" BlockYSize="512" />
      <SrcRect xOff="0" yOff="0" xSize="1250" ySize="1250" />
      <DstRect xOff="28750" yOff="56250" xSize="1250" ySize="1250" />
      <NODATA>-999999</NODATA>
    </ComplexSource>
    <ComplexSource>
      <SourceFilename relativeToVRT="1">DO_S13_7669_42NW.2025.tif</SourceFilename>
      <SourceBand>1</SourceBand>
      <SourceProperties RasterXSize="1250" RasterYSize="1250" DataType="Float32" BlockXSize="512" BlockYSize="512" />
      <SrcRect xOff="0" yOff="0" xSize="1250" ySize="1250" />
      <DstRect xOff="27500" yOff="56250" xSize="1250" ySize="1250" />
      <NODATA>-999999</NODATA>
    </ComplexSource>
    <ComplexSource>
      <SourceFilename relativeToVRT="1">DO_S13_7678_22NE.2025.tif</SourceFilename>
      <SourceBand>1</SourceBand>
      <SourceProperties RasterXSize="1250" RasterYSize="1250" DataType="Float32" BlockXSize="512" BlockYSize="512" />
      <SrcRect xOff="0" yOff="0" xSize="1250" ySize="1250" />
      <DstRect xOff="33750" yOff="61250" xSize="1250" ySize="1250" />
      <NODATA>-999999</NODATA>
    </ComplexSource>
    <ComplexSource>
      <SourceFilename relativeToVRT="1">DO_S13_7669_43SW.2025.tif</SourceFilename>
      <SourceBand>1</SourceBand>
      <SourceProperties RasterXSize="1250" RasterYSize="1250" DataType="Float32" BlockXSize="512" BlockYSize="512" />
      <SrcRect xOff="0" yOff="0" xSize="1250" ySize="1250" />
      <DstRect xOff="30000" yOff="57500" xSize="1250" ySize="1250" />
      <NODATA>-999999</NODATA>
    </ComplexSource>
    <ComplexSource>
      <SourceFilename relativeToVRT="1">DO_S13_7669_43NW.2025.tif</SourceFilename>
      <SourceBand>1</SourceBand>
      <SourceProperties RasterXSize="1250" RasterYSize="1250" DataType="Float32" BlockXSize="512" BlockYSize="512" />
      <SrcRect xOff="0" yOff="0" xSize="1250" ySize="1250" />
      <DstRect xOff="30000" yOff="56250" xSize="1250" ySize="1250" />
      <NODATA>-999999</NODATA>
    </ComplexSource>
    <ComplexSource>
      <SourceFilename relativeToVRT="1">DO_S13_7669_43SE.2025.tif</SourceFilename>
      <SourceBand>1</SourceBand>
      <SourceProperties RasterXSize="1250" RasterYSize="1250" DataType="Float32" BlockXSize="512" BlockYSize="512" />
      <SrcRect xOff="0" yOff="0" xSize="1250" ySize="1250" />
      <DstRect xOff="31250" yOff="57500" xSize="1250" ySize="1250" />
      <NODATA>-999999</NODATA>
    </ComplexSource>
    <ComplexSource>
      <SourceFilename relativeToVRT="1">DO_S13_7678_22NW.2025.tif</SourceFilename>
      <SourceBand>1</SourceBand>
      <SourceProperties RasterXSize="1250" RasterYSize="1250" DataType="Float32" BlockXSize="512" BlockYSize="512" />
      <SrcRect xOff="0" yOff="0" xSize="1250" ySize="1250" />
      <DstRect xOff="32500" yOff="61250" xSize="1250" ySize="1250" />
      <NODATA>-999999</NODATA>
    </ComplexSource>
    <ComplexSource>
      <SourceFilename relativeToVRT="1">DO_S13_7669_44NE.2025.tif</SourceFilename>
      <SourceBand>1</SourceBand>
      <SourceProperties RasterXSize="1250" RasterYSize="1250" DataType="Float32" BlockXSize="512" BlockYSize="512" />
      <SrcRect xOff="0" yOff="0" xSize="1250" ySize="1250" />
      <DstRect xOff="31250" yOff="58750" xSize="1250" ySize="1250" />
      <NODATA>-999999</NODATA>
    </ComplexSource>
    <ComplexSource>
      <SourceFilename relativeToVRT="1">DO_S13_7669_44NW.2025.tif</SourceFilename>
      <SourceBand>1</SourceBand>
      <SourceProperties RasterXSize="1250" RasterYSize="1250" DataType="Float32" BlockXSize="512" BlockYSize="512" />
      <SrcRect xOff="0" yOff="0" xSize="1250" ySize="1250" />
      <DstRect xOff="30000" yOff="58750" xSize="1250" ySize="1250" />
      <NODATA>-999999</NODATA>
    </ComplexSource>
    <ComplexSource>
      <SourceFilename relativeToVRT="1">DO_S13_7678_21NE.2025.tif</SourceFilename>
      <SourceBand>1</SourceBand>
      <SourceProperties RasterXSize="1250" RasterYSize="1250" DataType="Float32" BlockXSize="512" BlockYSize="512" />
      <SrcRect xOff="0" yOff="0" xSize="1250" ySize="1250" />
      <DstRect xOff="33750" yOff="63750" xSize="1250" ySize="1250" />
      <NODATA>-999999</NODATA>
    </ComplexSource>
    <ComplexSource>
      <SourceFilename relativeToVRT="1">DO_S13_7669_44SW.2025.tif</SourceFilename>
      <SourceBand>1</SourceBand>
      <SourceProperties RasterXSize="1250" RasterYSize="1250" DataType="Float32" BlockXSize="512" BlockYSize="512" />
      <SrcRect xOff="0" yOff="0" xSize="1250" ySize="1250" />
      <DstRect xOff="30000" yOff="60000" xSize="1250" ySize="1250" />
      <NODATA>-999999</NODATA>
    </ComplexSource>
    <ComplexSource>
      <SourceFilename relativeToVRT="1">DO_S13_7669_44SE.2025.tif</SourceFilename>
      <SourceBand>1</SourceBand>
      <SourceProperties RasterXSize="1250" RasterYSize="1250" DataType="Float32" BlockXSize="512" BlockYSize="512" />
      <SrcRect xOff="0" yOff="0" xSize="1250" ySize="1250" />
      <DstRect xOff="31250" yOff="60000" xSize="1250" ySize="1250" />
      <NODATA>-999999</NODATA>
    </ComplexSource>
    <ComplexSource>
      <SourceFilename relativeToVRT="1">DO_S13_7678_24SE.2025.tif</SourceFilename>
      <SourceBand>1</SourceBand>
      <SourceProperties RasterXSize="1250" RasterYSize="1250" DataType="Float32" BlockXSize="512" BlockYSize="512" />
      <SrcRect xOff="0" yOff="0" xSize="1250" ySize="1250" />
      <DstRect xOff="36250" yOff="65000" xSize="1250" ySize="1250" />
      <NODATA>-999999</NODATA>
    </ComplexSource>
    <ComplexSource>
      <SourceFilename relativeToVRT="1">DO_S13_7678_22SE.2025.tif</SourceFilename>
      <SourceBand>1</SourceBand>
