<VRTDataset rasterXSize="195000" rasterYSize="126000">
  <SRS dataAxisToSRSAxisMapping="1,2,3">COMPD_CS["NAD83(HARN) / Washington South (ftUS) + NAVD88 height (ftUS)",PROJCS["NAD83(HARN) / Washington South (ftUS)",GEOGCS["NAD83(HARN)",DATUM["NAD83_High_Accuracy_Reference_Network",SPHEROID["GRS 1980",6378137,298.257222101,AUTHORITY["EPSG","7019"]],AUTHORITY["EPSG","6152"]],PRIMEM["Greenwich",0,AUTHORITY["EPSG","8901"]],UNIT["degree",0.0174532925199433,AUTHORITY["EPSG","9122"]],AUTHORITY["EPSG","4152"]],PROJECTION["Lambert_Conformal_Conic_2SP"],PARAMETER["latitude_of_origin",45.3333333333333],PARAMETER["central_meridian",-120.5],PARAMETER["standard_parallel_1",47.3333333333333],PARAMETER["standard_parallel_2",45.8333333333333],PARAMETER["false_easting",1640416.667],PARAMETER["false_northing",0],UNIT["US survey foot",0.304800609601219,AUTHORITY["EPSG","9003"]],AXIS["Easting",EAST],AXIS["Northing",NORTH],AUTHORITY["EPSG","2927"]],VERT_CS["NAVD88 height (ftUS)",VERT_DATUM["North American Vertical Datum 1988",2005,AUTHORITY["EPSG","5103"]],UNIT["US survey foot",0.304800609601219,AUTHORITY["EPSG","9003"]],AXIS["Gravity-related height",UP],AUTHORITY["EPSG","6360"]]]</SRS>
  <GeoTransform>  2.2725000000000000e+06,  1.5000000000000000e+00,  0.0000000000000000e+00,  4.3650000000000000e+05,  0.0000000000000000e+00, -1.5000000000000000e+00</GeoTransform>
  <VRTRasterBand dataType="Float32" band="1">
    <NoDataValue>-999999</NoDataValue>
    <ColorInterp>Gray</ColorInterp>
    <ComplexSource>
      <SourceFilename relativeToVRT="1">be_WA_AL_1833.tif</SourceFilename>
      <SourceBand>1</SourceBand>
      <SourceProperties RasterXSize="3000" RasterYSize="3000" DataType="Float32" BlockXSize="512" BlockYSize="512" />
      <SrcRect xOff="0" yOff="0" xSize="3000" ySize="3000" />
      <DstRect xOff="129000" yOff="6000" xSize="3000" ySize="3000" />
      <NODATA>-999999</NODATA>
    </ComplexSource>
    <ComplexSource>
      <SourceFilename relativeToVRT="1">be_WA_AL_1816.tif</SourceFilename>
      <SourceBand>1</SourceBand>
      <SourceProperties RasterXSize="3000" RasterYSize="3000" DataType="Float32" BlockXSize="512" BlockYSize="512" />
      <SrcRect xOff="0" yOff="0" xSize="3000" ySize="3000" />
      <DstRect xOff="141000" yOff="9000" xSize="3000" ySize="3000" />
      <NODATA>-999999</NODATA>
    </ComplexSource>
    <ComplexSource>
      <SourceFilename relativeToVRT="1">be_WA_AL_1828.tif</SourceFilename>
      <SourceBand>1</SourceBand>
      <SourceProperties RasterXSize="3000" RasterYSize="3000" DataType="Float32" BlockXSize="512" BlockYSize="512" />
      <SrcRect xOff="0" yOff="0" xSize="3000" ySize="3000" />
      <DstRect xOff="177000" yOff="9000" xSize="3000" ySize="3000" />
      <NODATA>-999999</NODATA>
    </ComplexSource>
    <ComplexSource>
      <SourceFilename relativeToVRT="1">be_WA_AL_1847.tif</SourceFilename>
      <SourceBand>1</SourceBand>
      <SourceProperties RasterXSize="3000" RasterYSize="3000" DataType="Float32" BlockXSize="512" BlockYSize="512" />
      <SrcRect xOff="0" yOff="0" xSize="3000" ySize="3000" />
      <DstRect xOff="123000" yOff="3000" xSize="3000" ySize="3000" />
      <NODATA>-999999</NODATA>
    </ComplexSource>
    <ComplexSource>
      <SourceFilename relativeToVRT="1">be_WA_AL_1834.tif</SourceFilename>
      <SourceBand>1</SourceBand>
      <SourceProperties RasterXSize="3000" RasterYSize="3000" DataType="Float32" BlockXSize="512" BlockYSize="512" />
      <SrcRect xOff="0" yOff="0" xSize="3000" ySize="3000" />
      <DstRect xOff="132000" yOff="6000" xSize="3000" ySize="3000" />
      <NODATA>-999999</NODATA>
    </ComplexSource>
    <ComplexSource>
      <SourceFilename relativeToVRT="1">be_WA_AL_1841.tif</SourceFilename>
      <SourceBand>1</SourceBand>
      <SourceProperties RasterXSize="3000" RasterYSize="3000" DataType="Float32" BlockXSize="512" BlockYSize="512" />
      <SrcRect xOff="0" yOff="0" xSize="3000" ySize="3000" />
      <DstRect xOff="168000" yOff="6000" xSize="3000" ySize="3000" />
      <NODATA>-999999</NODATA>
    </ComplexSource>
    <ComplexSource>
      <SourceFilename relativeToVRT="1">be_WA_AL_1849.tif</SourceFilename>
      <SourceBand>1</SourceBand>
      <SourceProperties RasterXSize="3000" RasterYSize="3000" DataType="Float32" BlockXSize="512" BlockYSize="512" />
      <SrcRect xOff="0" yOff="0" xSize="3000" ySize="3000" />
      <DstRect xOff="129000" yOff="3000" xSize="3000" ySize="3000" />
      <NODATA>-999999</NODATA>
    </ComplexSource>
    <ComplexSource>
      <SourceFilename relativeToVRT="1">be_WA_AL_1842.tif</SourceFilename>
      <SourceBand>1</SourceBand>
      <SourceProperties RasterXSize="3000" RasterYSize="3000" DataType="Float32" BlockXSize="512" BlockYSize="512" />
      <SrcRect xOff="0" yOff="0" xSize="3000" ySize="3000" />
      <DstRect xOff="171000" yOff="6000" xSize="3000" ySize="3000" />
      <NODATA>-999999</NODATA>
    </ComplexSource>
    <ComplexSource>
      <SourceFilename relativeToVRT="1">be_WA_AL_1843.tif</SourceFilename>
      <SourceBand>1</SourceBand>
      <SourceProperties RasterXSize="3000" RasterYSize="3000" DataType="Float32" BlockXSize="512" BlockYSize="512" />
      <SrcRect xOff="0" yOff="0" xSize="3000" ySize="3000" />
      <DstRect xOff="174000" yOff="6000" xSize="3000" ySize="3000" />
      <NODATA>-999999</NODATA>
    </ComplexSource>
    <ComplexSource>
      <SourceFilename relativeToVRT="1">be_WA_AL_1850.tif</SourceFilename>
      <SourceBand>1</SourceBand>
      <SourceProperties RasterXSize="3000" RasterYSize="3000" DataType="Float32" BlockXSize="512" BlockYSize="512" />
      <SrcRect xOff="0" yOff="0" xSize="3000" ySize="3000" />
      <DstRect xOff="132000" yOff="3000" xSize="3000" ySize="3000" />
      <NODATA>-999999</NODATA>
    </ComplexSource>
    <ComplexSource>
      <SourceFilename relativeToVRT="1">be_WA_AL_1851.tif</SourceFilename>
      <SourceBand>1</SourceBand>
      <SourceProperties RasterXSize="3000" RasterYSize="3000" DataType="Float32" BlockXSize="512" BlockYSize="512" />
      <SrcRect xOff="0" yOff="0" xSize="3000" ySize="3000" />
      <DstRect xOff="135000" yOff="3000" xSize="3000" ySize="3000" />
      <NODATA>-999999</NODATA>
    </ComplexSource>
    <ComplexSource>
      <SourceFilename relativeToVRT="1">be_WA_AL_1860.tif</SourceFilename>
      <SourceBand>1</SourceBand>
      <SourceProperties RasterXSize="3000" RasterYSize="3000" DataType="Float32" BlockXSize="512" BlockYSize="512" />
      <SrcRect xOff="0" yOff="0" xSize="3000" ySize="3000" />
      <DstRect xOff="132000" yOff="0" xSize="3000" ySize="3000" />
      <NODATA>-999999</NODATA>
    </ComplexSource>
    <ComplexSource>
      <SourceFilename relativeToVRT="1">be_WA_AL_1857.tif</SourceFilename>
      <SourceBand>1</SourceBand>
      <SourceProperties RasterXSize="3000" RasterYSize="3000" DataType="Float32" BlockXSize="512" BlockYSize="512" />
      <SrcRect xOff="0" yOff="0" xSize="3000" ySize="3000" />
      <DstRect xOff="123000" yOff="0" xSize="3000" ySize="3000" />
      <NODATA>-999999</NODATA>
    </ComplexSource>
    <ComplexSource>
      <SourceFilename relativeToVRT="1">be_WA_AL_1855.tif</SourceFilename>
      <SourceBand>1</SourceBand>
      <SourceProperties RasterXSize="3000" RasterYSize="3000" DataType="Float32" BlockXSize="512" BlockYSize="512" />
      <SrcRect xOff="0" yOff="0" xSize="3000" ySize="3000" />
      <DstRect xOff="171000" yOff="3000" xSize="3000" ySize="3000" />
      <NODATA>-999999</NODATA>
    </ComplexSource>
    <ComplexSource>
      <SourceFilename relativeToVRT="1">be_WA_AL_1856.tif</SourceFilename>
      <SourceBand>1</SourceBand>
      <SourceProperties RasterXSize="3000" RasterYSize="3000" DataType="Float32" BlockXSize="512" BlockYSize="512" />
      <SrcRect xOff="0" yOff="0" xSize="3000" ySize="3000" />
      <DstRect xOff="174000" yOff="3000" xSize="3000" ySize="3000" />
      <NODATA>-999999</NODATA>
    </ComplexSource>
    <ComplexSource>
      <SourceFilename relativeToVRT="1">be_WA_AL_1859.tif</SourceFilename>
      <SourceBand>1</SourceBand>
      <SourceProperties RasterXSize="3000" RasterYSize="3000" DataType="Float32" BlockXSize="512" BlockYSize="512" />
      <SrcRect xOff="0" yOff="0" xSize="3000" ySize="3000" />
      <DstRect xOff="129000" yOff="0" xSize="3000" ySize="3000" />
      <NODATA>-999999</NODATA>
    </ComplexSource>
    <ComplexSource>
      <SourceFilename relativeToVRT="1">be_WA_AL_1858.tif</SourceFilename>
      <SourceBand>1</SourceBand>
      <SourceProperties RasterXSize="3000" RasterYSize="3000" DataType="Float32" BlockXSize="512" BlockYSize="512" />
      <SrcRect xOff="0" yOff="0" xSize="3000" ySize="3000" />
      <DstRect xOff="126000" yOff="0" xSize="3000" ySize="3000" />
      <NODATA>-999999</NODATA>
    </ComplexSource>
    <ComplexSource>
      <SourceFilename relativeToVRT="1">be_WA_AL_1852.tif</SourceFilename>
      <SourceBand>1</SourceBand>
      <SourceProperties RasterXSize="3000" RasterYSize="3000" DataType="Float32" BlockXSize="512" BlockYSize="512" />
      <SrcRect xOff="0" yOff="0" xSize="3000" ySize="3000" />
      <DstRect xOff="159000" yOff="3000" xSize="3000" ySize="3000" />
      <NODATA>-999999</NODATA>
    </ComplexSource>
    <ComplexSource>
      <SourceFilename relativeToVRT="1">be_WA_AL_1853.tif</SourceFilename>
      <SourceBand>1</SourceBand>
      <SourceProperties RasterXSize="3000" RasterYSize="3000" DataType="Float32" BlockXSize="512" BlockYSize="512" />
      <SrcRect xOff="0" yOff="0" xSize="3000" ySize="3000" />
      <DstRect xOff="162000" yOff="3000" xSize="3000" ySize="3000" />
      <NODATA>-999999</NODATA>
    </ComplexSource>
    <ComplexSource>
      <SourceFilename relativeToVRT="1">be_WA_AL_1854.tif</SourceFilename>
      <SourceBand>1</SourceBand>
      <SourceProperties RasterXSize="3000" RasterYSize="3000" DataType="Float32" BlockXSize="512" BlockYSize="512" />
      <SrcRect xOff="0" yOff="0" xSize="3000" ySize="3000" />
      <DstRect xOff="165000" yOff="3000" xSize="3000" ySize="3000" />
      <NODATA>-999999</NODATA>
    </ComplexSource>
    <ComplexSource>
      <SourceFilename relativeToVRT="1">be_WA_AL_1840.tif</SourceFilename>
      <SourceBand>1</SourceBand>
      <SourceProperties RasterXSize="3000" RasterYSize="3000" DataType="Float32" BlockXSize="512" BlockYSize="512" />
      <SrcRect xOff="0" yOff="0" xSize="3000" ySize="3000" />
      <DstRect xOff="165000" yOff="6000" xSize="3000" ySize="3000" />
      <NODATA>-999999</NODATA>
    </ComplexSource>
    <ComplexSource>
      <SourceFilename relativeToVRT="1">be_WA_AL_1837.tif</SourceFilename>
      <SourceBand>1</SourceBand>
      <SourceProperties RasterXSize="3000" RasterYSize="3000" DataType="Float32" BlockXSize="512" BlockYSize="512" />
      <SrcRect xOff="0" yOff="0" xSize="3000" ySize="3000" />
      <DstRect xOff="156000" yOff="6000" xSize="3000" ySize="3000" />
      <NODATA>-999999</NODATA>
    </ComplexSource>
    <ComplexSource>
      <SourceFilename relativeToVRT="1">be_WA_AL_1846.tif</SourceFilename>
      <SourceBand>1</SourceBand>
      <SourceProperties RasterXSize="3000" RasterYSize="3000" DataType="Float32" BlockXSize="512" BlockYSize="512" />
      <SrcRect xOff="0" yOff="0" xSize="3000" ySize="3000" />
      <DstRect xOff="183000" yOff="6000" xSize="3000" ySize="3000" />
      <NODATA>-999999</NODATA>
    </ComplexSource>
    <ComplexSource>
      <SourceFilename relativeToVRT="1">be_WA_AL_1845.tif</SourceFilename>
      <SourceBand>1</SourceBand>
      <SourceProperties RasterXSize="3000" RasterYSize="3000" DataType="Float32" BlockXSize="512" BlockYSize="512" />
      <SrcRect xOff="0" yOff="0" xSize="3000" ySize="3000" />
      <DstRect xOff="180000" yOff="6000" xSize="3000" ySize="3000" />
      <NODATA>-999999</NODATA>
    </ComplexSource>
    <ComplexSource>
      <SourceFilename relativeToVRT="1">be_WA_AL_1844.tif</SourceFilename>
      <SourceBand>1</SourceBand>
      <SourceProperties RasterXSize="3000" RasterYSize="3000" DataType="Float32" BlockXSize="512" BlockYSize="512" />
      <SrcRect xOff="0" yOff="0" xSize="3000" ySize="3000" />
      <DstRect xOff="177000" yOff="6000" xSize="3000" ySize="3000" />
      <NODATA>-999999</NODATA>
    </ComplexSource>
    <ComplexSource>
      <SourceFilename relativeToVRT="1">be_WA_AL_1848.tif</SourceFilename>
      <SourceBand>1</SourceBand>
      <SourceProperties RasterXSize="3000" RasterYSize="3000" DataType="Float32" BlockXSize="512" BlockYSize="512" />
      <SrcRect xOff="0" yOff="0" xSize="3000" ySize="3000" />
      <DstRect xOff="126000" yOff="3000" xSize="3000" ySize="3000" />
      <NODATA>-999999</NODATA>
    </ComplexSource>
    <ComplexSource>
      <SourceFilename relativeToVRT="1">be_WA_AL_1815.tif</SourceFilename>
      <SourceBand>1</SourceBand>
      <SourceProperties RasterXSize="3000" RasterYSize="3000" DataType="Float32" BlockXSize="512" BlockYSize="512" />
      <SrcRect xOff="0" yOff="0" xSize="3000" ySize="3000" />
      <DstRect xOff="138000" yOff="9000" xSize="3000" ySize="3000" />
      <NODATA>-999999</NODATA>
    </ComplexSource>
    <ComplexSource>
      <SourceFilename relativeToVRT="1">be_WA_AL_1831.tif</SourceFilename>
      <SourceBand>1</SourceBand>
      <SourceProperties RasterXSize="3000" RasterYSize="3000" DataType="Float32" BlockXSize="512" BlockYSize="512" />
      <SrcRect xOff="0" yOff="0" xSize="3000" ySize="3000" />
      <DstRect xOff="123000" yOff="6000" xSize="3000" ySize="3000" />
      <NODATA>-999999</NODATA>
    </ComplexSource>
    <ComplexSource>
      <SourceFilename relativeToVRT="1">be_WA_AL_1822.tif</SourceFilename>
      <SourceBand>1</SourceBand>
      <SourceProperties RasterXSize="3000" RasterYSize="3000" DataType="Float32" BlockXSize="512" BlockYSize="512" />
      <SrcRect xOff="0" yOff="0" xSize="3000" ySize="3000" />
      <DstRect xOff="159000" yOff="9000" xSize="3000" ySize="3000" />
      <NODATA>-999999</NODATA>
    </ComplexSource>
    <ComplexSource>
      <SourceFilename relativeToVRT="1">be_WA_AL_1838.tif</SourceFilename>
      <SourceBand>1</SourceBand>
      <SourceProperties RasterXSize="3000" RasterYSize="3000" DataType="Float32" BlockXSize="512" BlockYSize="512" />
      <SrcRect xOff="0" yOff="0" xSize="3000" ySize="3000" />
      <DstRect xOff="159000" yOff="6000" xSize="3000" ySize="3000" />
      <NODATA>-999999</NODATA>
    </ComplexSource>
    <ComplexSource>
      <SourceFilename relativeToVRT="1">be_WA_AL_1836.tif</SourceFilename>
      <SourceBand>1</SourceBand>
      <SourceProperties RasterXSize="3000" RasterYSize="3000" DataType="Float32" BlockXSize="512" BlockYSize="512" />
      <SrcRect xOff="0" yOff="0" xSize="3000" ySize="3000" />
      <DstRect xOff="153000" yOff="6000" xSize="3000" ySize="3000" />
      <NODATA>-999999</NODATA>
    </ComplexSource>
    <ComplexSource>
      <SourceFilename relativeToVRT="1">be_WA_AL_1839.tif</SourceFilename>
      <SourceBand>1</SourceBand>
      <SourceProperties RasterXSize="3000" RasterYSize="3000" DataType="Float32" BlockXSize="512" BlockYSize="512" />
      <SrcRect xOff="0" yOff="0" xSize="3000" ySize="3000" />
      <DstRect xOff="162000" yOff="6000" xSize="3000" ySize="3000" />
      <NODATA>-999999</NODATA>
    </ComplexSource>
    <ComplexSource>
      <SourceFilename relativeToVRT="1">be_WA_AL_1835.tif</SourceFilename>
      <SourceBand>1</SourceBand>
      <SourceProperties RasterXSize="3000" RasterYSize="3000" DataType="Float32" BlockXSize="512" BlockYSize="512" />
      <SrcRect xOff="0" yOff="0" xSize="3000" ySize="3000" />
      <DstRect xOff="135000" yOff="6000" xSize="3000" ySize="3000" />
      <NODATA>-999999</NODATA>
    </ComplexSource>
    <ComplexSource>
      <SourceFilename relativeToVRT="1">be_WA_AL_1832.tif</SourceFilename>
      <SourceBand>1</SourceBand>
      <SourceProperties RasterXSize="3000" RasterYSize="3000" DataType="Float32" BlockXSize="512" BlockYSize="512" />
      <SrcRect xOff="0" yOff="0" xSize="3000" ySize="3000" />
      <DstRect xOff="126000" yOff="6000" xSize="3000" ySize="3000" />
      <NODATA>-999999</NODATA>
    </ComplexSource>
    <ComplexSource>
      <SourceFilename relativeToVRT="1">be_WA_AL_1830.tif</SourceFilename>
      <SourceBand>1</SourceBand>
      <SourceProperties RasterXSize="3000" RasterYSize="3000" DataType="Float32" BlockXSize="512" BlockYSize="512" />
      <SrcRect xOff="0" yOff="0" xSize="3000" ySize="3000" />
      <DstRect xOff="183000" yOff="9000" xSize="3000" ySize="3000" />
      <NODATA>-999999</NODATA>
    </ComplexSource>
    <ComplexSource>
      <SourceFilename relativeToVRT="1">be_WA_AL_1823.tif</SourceFilename>
      <SourceBand>1</SourceBand>
      <SourceProperties RasterXSize="3000" RasterYSize="3000" DataType="Float32" BlockXSize="512" BlockYSize="512" />
      <SrcRect xOff="0" yOff="0" xSize="3000" ySize="3000" />
      <DstRect xOff="162000" yOff="9000" xSize="3000" ySize="3000" />
      <NODATA>-999999</NODATA>
    </ComplexSource>
    <ComplexSource>
      <SourceFilename relativeToVRT="1">be_WA_AL_1821.tif</SourceFilename>
      <SourceBand>1</SourceBand>
      <SourceProperties RasterXSize="3000" RasterYSize="3000" DataType="Float32" BlockXSize="512" BlockYSize="512" />
      <SrcRect xOff="0" yOff="0" xSize="3000" ySize="3000" />
      <DstRect xOff="156000" yOff="9000" xSize="3000" ySize="3000" />
      <NODATA>-999999</NODATA>
    </ComplexSource>
    <ComplexSource>
      <SourceFilename relativeToVRT="1">be_WA_AL_1814.tif</SourceFilename>
      <SourceBand>1</SourceBand>
      <SourceProperties RasterXSize="3000" RasterYSize="3000" DataType="Float32" BlockXSize="512" BlockYSize="512" />
      <SrcRect xOff="0" yOff="0" xSize="3000" ySize="3000" />
      <DstRect xOff="135000" yOff="9000" xSize="3000" ySize="3000" />
      <NODATA>-999999</NODATA>
    </ComplexSource>
    <ComplexSource>
      <SourceFilename relativeToVRT="1">be_WA_AL_1820.tif</SourceFilename>
      <SourceBand>1</SourceBand>
      <SourceProperties RasterXSize="3000" RasterYSize="3000" DataType="Float32" BlockXSize="512" BlockYSize="512" />
      <SrcRect xOff="0" yOff="0" xSize="3000" ySize="3000" />
      <DstRect xOff="153000" yOff="9000" xSize="3000" ySize="3000" />
      <NODATA>-999999</NODATA>
    </ComplexSource>
    <ComplexSource>
      <SourceFilename relativeToVRT="1">be_WA_AL_1829.tif</SourceFilename>
      <SourceBand>1</SourceBand>
      <SourceProperties RasterXSize="3000" RasterYSize="3000" DataType="Float32" BlockXSize="512" BlockYSize="512" />
      <SrcRect xOff="0" yOff="0" xSize="3000" ySize="3000" />
      <DstRect xOff="180000" yOff="9000" xSize="3000" ySize="3000" />
      <NODATA>-999999</NODATA>
    </ComplexSource>
    <ComplexSource>
      <SourceFilename relativeToVRT="1">be_WA_AL_1827.tif</SourceFilename>
      <SourceBand>1</SourceBand>
      <SourceProperties RasterXSize="3000" RasterYSize="3000" DataType="Float32" BlockXSize="512" BlockYSize="512" />
      <SrcRect xOff="0" yOff="0" xSize="3000" ySize="3000" />
      <DstRect xOff="174000" yOff="9000" xSize="3000" ySize="3000" />
      <NODATA>-999999</NODATA>
    </ComplexSource>
    <ComplexSource>
      <SourceFilename relativeToVRT="1">be_WA_AL_1808.tif</SourceFilename>
      <SourceBand>1</SourceBand>
      <SourceProperties RasterXSize="3000" RasterYSize="3000" DataType="Float32" BlockXSize="512" BlockYSize="512" />
      <SrcRect xOff="0" yOff="0" xSize="3000" ySize="3000" />
      <DstRect xOff="180000" yOff="12000" xSize="3000" ySize="3000" />
      <NODATA>-999999</NODATA>
    </ComplexSource>
    <ComplexSource>
      <SourceFilename relativeToVRT="1">be_WA_AL_1801.tif</SourceFilename>
      <SourceBand>1</SourceBand>
      <SourceProperties RasterXSize="3000" RasterYSize="3000" DataType="Float32" BlockXSize="512" BlockYSize="512" />
      <SrcRect xOff="0" yOff="0" xSize="3000" ySize="3000" />
      <DstRect xOff="159000" yOff="12000" xSize="3000" ySize="3000" />
      <NODATA>-999999</NODATA>
    </ComplexSource>
    <ComplexSource>
      <SourceFilename relativeToVRT="1">be_WA_AL_1825.tif</SourceFilename>
      <SourceBand>1</SourceBand>
      <SourceProperties RasterXSize="3000" RasterYSize="3000" DataType="Float32" BlockXSize="512" BlockYSize="512" />
      <SrcRect xOff="0" yOff="0" xSize="3000" ySize="3000" />
      <DstRect xOff="168000" yOff="9000" xSize="3000" ySize="3000" />
      <NODATA>-999999</NODATA>
    </ComplexSource>
    <ComplexSource>
      <SourceFilename relativeToVRT="1">be_WA_AL_1824.tif</SourceFilename>
      <SourceBand>1</SourceBand>
      <SourceProperties RasterXSize="3000" RasterYSize="3000" DataType="Float32" BlockXSize="512" BlockYSize="512" />
      <SrcRect xOff="0" yOff="0" xSize="3000" ySize="3000" />
      <DstRect xOff="165000" yOff="9000" xSize="3000" ySize="3000" />
      <NODATA>-999999</NODATA>
    </ComplexSource>
    <ComplexSource>
      <SourceFilename relativeToVRT="1">be_WA_AL_1826.tif</SourceFilename>
      <SourceBand>1</SourceBand>
      <SourceProperties RasterXSize="3000" RasterYSize="3000" DataType="Float32" BlockXSize="512" BlockYSize="512" />
      <SrcRect xOff="0" yOff="0" xSize="3000" ySize="3000" />
      <DstRect xOff="171000" yOff="9000" xSize="3000" ySize="3000" />
      <NODATA>-999999</NODATA>
    </ComplexSource>
    <ComplexSource>
      <SourceFilename relativeToVRT="1">be_WA_AL_1819.tif</SourceFilename>
      <SourceBand>1</SourceBand>
      <SourceProperties RasterXSize="3000" RasterYSize="3000" DataType="Float32" BlockXSize="512" BlockYSize="512" />
      <SrcRect xOff="0" yOff="0" xSize="3000" ySize="3000" />
      <DstRect xOff="150000" yOff="9000" xSize="3000" ySize="3000" />
      <NODATA>-999999</NODATA>
    </ComplexSource>
    <ComplexSource>
      <SourceFilename relativeToVRT="1">be_WA_AL_1804.tif</SourceFilename>
      <SourceBand>1</SourceBand>
      <SourceProperties RasterXSize="3000" RasterYSize="3000" DataType="Float32" BlockXSize="512" BlockYSize="512" />
      <SrcRect xOff="0" yOff="0" xSize="3000" ySize="3000" />
      <DstRect xOff="168000" yOff="12000" xSize="3000" ySize="3000" />
      <NODATA>-999999</NODATA>
    </ComplexSource>
    <ComplexSource>
      <SourceFilename relativeToVRT="1">be_WA_AL_1800.tif</SourceFilename>
      <SourceBand>1</SourceBand>
      <SourceProperties RasterXSize="3000" RasterYSize="3000" DataType="Float32" BlockXSize="512" BlockYSize="512" />
      <SrcRect xOff="0" yOff="0" xSize="3000" ySize="3000" />
      <DstRect xOff="156000" yOff="12000" xSize="3000" ySize="3000" />
      <NODATA>-999999</NODATA>
    </ComplexSource>
    <ComplexSource>
      <SourceFilename relativeToVRT="1">be_WA_AL_1818.tif</SourceFilename>
      <SourceBand>1</SourceBand>
      <SourceProperties RasterXSize="3000" RasterYSize="3000" DataType="Float32" BlockXSize="512" BlockYSize="512" />
      <SrcRect xOff="0" yOff="0" xSize="3000" ySize="3000" />
      <DstRect xOff="147000" yOff="9000" xSize="3000" ySize="3000" />
      <NODATA>-999999</NODATA>
    </ComplexSource>
    <ComplexSource>
      <SourceFilename relativeToVRT="1">be_WA_AL_1817.tif</SourceFilename>
      <SourceBand>1</SourceBand>
      <SourceProperties RasterXSize="3000" RasterYSize="3000" DataType="Float32" BlockXSize="512" BlockYSize="512" />
      <SrcRect xOff="0" yOff="0" xSize="3000" ySize="3000" />
      <DstRect xOff="144000" yOff="9000" xSize="3000" ySize="3000" />
      <NODATA>-999999</NODATA>
    </ComplexSource>
    <ComplexSource>
      <SourceFilename relativeToVRT="1">be_WA_AL_1810.tif</SourceFilename>
      <SourceBand>1</SourceBand>
      <SourceProperties RasterXSize="3000" RasterYSize="3000" DataType="Float32" BlockXSize="512" BlockYSize="512" />
      <SrcRect xOff="0" yOff="0" xSize="3000" ySize="3000" />
      <DstRect xOff="123000" yOff="9000" xSize="3000" ySize="3000" />
      <NODATA>-999999</NODATA>
    </ComplexSource>
    <ComplexSource>
      <SourceFilename relativeToVRT="1">be_WA_AL_1809.tif</SourceFilename>
      <SourceBand>1</SourceBand>
